BEGIN:VCALENDAR
VERSION:2.0
PRODID:-//Jewish Boca - ECPv6.8.3//NONSGML v1.0//EN
CALSCALE:GREGORIAN
METHOD:PUBLISH
X-ORIGINAL-URL:https://jewishboca.org
X-WR-CALDESC:Events for Jewish Boca
REFRESH-INTERVAL;VALUE=DURATION:PT1H
X-Robots-Tag:noindex
X-PUBLISHED-TTL:PT1H
BEGIN:VTIMEZONE
TZID:America/New_York
BEGIN:DAYLIGHT
TZOFFSETFROM:-0500
TZOFFSETTO:-0400
TZNAME:EDT
DTSTART:20250309T070000
END:DAYLIGHT
BEGIN:STANDARD
TZOFFSETFROM:-0400
TZOFFSETTO:-0500
TZNAME:EST
DTSTART:20251102T060000
END:STANDARD
TZID:UTC
BEGIN:STANDARD
TZOFFSETFROM:+0000
TZOFFSETTO:+0000
TZNAME:UTC
DTSTART:20230101T000000
END:STANDARD
END:VTIMEZONE
BEGIN:VEVENT
DTSTART;TZID=America/New_York:20250108T093000
DTEND;TZID=America/New_York:20250108T113000
DTSTAMP:20260421T062233
CREATED:20240605T185255Z
LAST-MODIFIED:20240718T160053Z
UID:10002432-1736328600-1736335800@jewishboca.org
SUMMARY:Women's Philanthropy Chapter Two #3
DESCRIPTION:
URL:https://jewishboca.org/events/womens-philanthropy-chapter-two-3-option-1/
LOCATION:7091 West Atlantic Avenue\, Delray Beach\, FL\, 33446\, United States
CATEGORIES:Community Events,Federation Events,Women's
ORGANIZER;CN="Marissa Vinograd":MAILTO:marissav@bocafed.org
END:VEVENT
BEGIN:VEVENT
DTSTART;TZID=UTC:20230112T093000
DTEND;TZID=UTC:20230112T113000
DTSTAMP:20260421T062233
CREATED:20221028T180356Z
LAST-MODIFIED:20221028T180603Z
UID:10000950-1673515800-1673523000@jewishboca.org
SUMMARY:Women's Philanthropy Chapter 2 #3
DESCRIPTION:
URL:https://jewishboca.org/events/womens-philanthropy-chapter-2-3/
LOCATION:Weisman Center\, 7091 West Atlantic Avenue\, Delray Beach\, FL\, 33446\, United States
CATEGORIES:Community Events,Federation Events,Women's
ORGANIZER;CN="Marissa Vinograd":MAILTO:marissav@bocafed.org
END:VEVENT
END:VCALENDAR