BEGIN:VCALENDAR
VERSION:2.0
PRODID:-//Jewish Boca - ECPv6.8.3//NONSGML v1.0//EN
CALSCALE:GREGORIAN
METHOD:PUBLISH
X-ORIGINAL-URL:https://jewishboca.org
X-WR-CALDESC:Events for Jewish Boca
REFRESH-INTERVAL;VALUE=DURATION:PT1H
X-Robots-Tag:noindex
X-PUBLISHED-TTL:PT1H
BEGIN:VTIMEZONE
TZID:America/New_York
BEGIN:DAYLIGHT
TZOFFSETFROM:-0500
TZOFFSETTO:-0400
TZNAME:EDT
DTSTART:20240310T070000
END:DAYLIGHT
BEGIN:STANDARD
TZOFFSETFROM:-0400
TZOFFSETTO:-0500
TZNAME:EST
DTSTART:20241103T060000
END:STANDARD
END:VTIMEZONE
BEGIN:VEVENT
DTSTART;TZID=America/New_York:20240529T190000
DTEND;TZID=America/New_York:20240529T190000
DTSTAMP:20260423T190102
CREATED:20230920T153240Z
LAST-MODIFIED:20240329T154025Z
UID:10001832-1717009200-1717009200@jewishboca.org
SUMMARY:3049 Event at Throw Social
DESCRIPTION:Are you ready to party like a “flock star?!” Join the 3049 Division at Jewish Federation of South Palm Beach County as we celebrate a great season of engagement and philanthropy with friends. Experience a memorable night\, complete with a variety of games that will bring out your competitive spirit. \nWednesday\, May 29\, 2024 | 7:00PM \nThrow Social\n29 SE 2nd Avenue\nDelray Beach\, 33444 \nCouvert: $118 per person \nDinner\, Cocktails and Games \nDietary Laws Observed \nAttire: Tropical Chic \nEvent Chair: Alexis Krudo \n3049 Chairs: Benji Gene and Rachel Schrager \nThe Jewish Federation of South Palm Beach County welcomes singles and couples between 30 and 53 for connection with peers to socialize\, learn\, lead\, volunteer and more. \nFor more information\, contact Allison O’Mara at (561) 852-3183 or allisono@bocafed.org \n \nRSVP:
URL:https://jewishboca.org/events/3049-throw-social/
LOCATION:Throw Social Delray\, 29 SE 2nd Ave\, Delray Beach\, FL\, 33444\, United States
CATEGORIES:3049,Community Events,Federation Events
ORGANIZER;CN="Allison O'Mara":MAILTO:allisono@jewishboca.org
END:VEVENT
END:VCALENDAR