BEGIN:VCALENDAR
VERSION:2.0
PRODID:-//Jewish Boca - ECPv6.8.3//NONSGML v1.0//EN
CALSCALE:GREGORIAN
METHOD:PUBLISH
X-ORIGINAL-URL:https://jewishboca.org
X-WR-CALDESC:Events for Jewish Boca
REFRESH-INTERVAL;VALUE=DURATION:PT1H
X-Robots-Tag:noindex
X-PUBLISHED-TTL:PT1H
BEGIN:VTIMEZONE
TZID:America/New_York
BEGIN:DAYLIGHT
TZOFFSETFROM:-0500
TZOFFSETTO:-0400
TZNAME:EDT
DTSTART:20230312T070000
END:DAYLIGHT
BEGIN:STANDARD
TZOFFSETFROM:-0400
TZOFFSETTO:-0500
TZNAME:EST
DTSTART:20231105T060000
END:STANDARD
BEGIN:DAYLIGHT
TZOFFSETFROM:-0500
TZOFFSETTO:-0400
TZNAME:EDT
DTSTART:20240310T070000
END:DAYLIGHT
BEGIN:STANDARD
TZOFFSETFROM:-0400
TZOFFSETTO:-0500
TZNAME:EST
DTSTART:20241103T060000
END:STANDARD
BEGIN:DAYLIGHT
TZOFFSETFROM:-0500
TZOFFSETTO:-0400
TZNAME:EDT
DTSTART:20250309T070000
END:DAYLIGHT
BEGIN:STANDARD
TZOFFSETFROM:-0400
TZOFFSETTO:-0500
TZNAME:EST
DTSTART:20251102T060000
END:STANDARD
TZID:UTC
BEGIN:STANDARD
TZOFFSETFROM:+0000
TZOFFSETTO:+0000
TZNAME:UTC
DTSTART:20220101T000000
END:STANDARD
END:VTIMEZONE
BEGIN:VEVENT
DTSTART;TZID=America/New_York:20250522T173000
DTEND;TZID=America/New_York:20250522T193000
DTSTAMP:20260424T061501
CREATED:20240730T150858Z
LAST-MODIFIED:20250224T175212Z
UID:10002640-1747935000-1747942200@jewishboca.org
SUMMARY:PAC Speaker Series Part 3
DESCRIPTION:Thursday\, May 22\, 2025 | 5:30 pm \nFocus Partners Wealth (formally The Colony Group) \, 5100 Town Center Circle\, Tower II Suite 150 \n \nFeaturing: Nikki D. Packer\, CAP®\nSenior Philanthropic Specialist\, Executive Director\nPhilanthropic Services\, Florida\nWells Fargo Wealth & Investment Management \nNikki is a Senior Philanthropic Trust Advisory Specialist and Senior Vice President with Wells Fargo Bank\, Wealth & Investment Management division. She helps individuals and families define and achieve their charitable objectives as part of their overall wealth plans. Nikki has over 25 years experience as a nonprofit professional\, including at the Jewish Federation of Broward County where she rose to Chief Development Officer\, and helped build the community’s endowment to $140 million. An active volunteer\, she is a board member of the Broward County Planned Giving Council and Philanthropy Miami. \nPAC SPEAKER SERIES CO-CHAIRS: Michael Haber\, JD\, CFP and Seth A. Marmor\, Esq. \nFor more information\, please contact Erica Gordon\, Director\, Foundation Development at EricaG@bocafed.org or 561.852.3114. \nRSVP:\n\n\n                \n                        # of People(Required)Select...1 Person2 People3 People4 People5 PeopleYour Email(Required)\n                            \n                        Name(Required)\n                            \n                            \n                                                    First\n                                                    \n                                                \n                            \n                            \n                                                            Last\n                                                            \n                                                        \n                            \n                        Address(Required)    \n                    \n                         \n                                        Street Address\n                                        \n                                   \n                                        Address Line 2\n                                        \n                                    \n                                    City\n                                    \n                                 \n                                        State\n                                        AlabamaAlaskaAmerican SamoaArizonaArkansasCaliforniaColoradoConnecticutDelawareDistrict of ColumbiaFloridaGeorgiaGuamHawaiiIdahoIllinoisIndianaIowaKansasKentuckyLouisianaMaineMarylandMassachusettsMichiganMinnesotaMississippiMissouriMontanaNebraskaNevadaNew HampshireNew JerseyNew MexicoNew YorkNorth CarolinaNorth DakotaNorthern Mariana IslandsOhioOklahomaOregonPennsylvaniaPuerto RicoRhode IslandSouth CarolinaSouth DakotaTennesseeTexasUtahU.S. Virgin IslandsVermontVirginiaWashingtonWest VirginiaWisconsinWyomingArmed Forces AmericasArmed Forces EuropeArmed Forces Pacific\n                                      \n                                    ZIP Code\n                                    \n                                \n                    \n                Phone(Required)By checking this box I agree to receive text messages from The Jewish Federation of South Palm Beach County.\n								\n								Yes\n							Cell PhoneAdditional Guest NamesHow did you hear about us?Choose...Monthly E-NewsletterE-Mail from FederationDirect mail pieceBilling statementPledge cardAdvertisementFriendFamilyFacebookTwitterAttended Federation EventCAPTCHA
URL:https://jewishboca.org/events/pac-speaker-series-session-3/
LOCATION:The Colony Group\, Tower II\, 5100 Town Center Circle #150\, Boca Raton\, FL\, 33486\, United States
CATEGORIES:Community Events,Federation Events,PAC
ORGANIZER;CN="Erica Gordon":MAILTO:ericag@bocafed.org
END:VEVENT
BEGIN:VEVENT
DTSTART;TZID=America/New_York:20250520T173000
DTEND;TZID=America/New_York:20250520T173000
DTSTAMP:20260424T061501
CREATED:20240723T194531Z
LAST-MODIFIED:20250107T194045Z
UID:10002631-1747762200-1747762200@jewishboca.org
SUMMARY:JJCF Board of Trustees Meeting
DESCRIPTION:
URL:https://jewishboca.org/events/jjcf-board-of-trustees-meeting-7/
LOCATION:The Colony Group\, Tower II\, 5100 Town Center Circle #150\, Boca Raton\, FL\, 33486\, United States
CATEGORIES:Community Events,Federation Events,Jacobson Jewish Community Foundation (JJCF)
ORGANIZER;CN="Lottie Nilsen":MAILTO:lottien@bocafed.org
END:VEVENT
BEGIN:VEVENT
DTSTART;TZID=America/New_York:20250520T163000
DTEND;TZID=America/New_York:20250520T163000
DTSTAMP:20260424T061501
CREATED:20240723T195558Z
LAST-MODIFIED:20250107T193934Z
UID:10002636-1747758600-1747758600@jewishboca.org
SUMMARY:JJCF Investment Committee Meeting
DESCRIPTION:
URL:https://jewishboca.org/events/jjcf-investment-committee-meeting-8/
LOCATION:The Colony Group\, Tower II\, 5100 Town Center Circle #150\, Boca Raton\, FL\, 33486\, United States
CATEGORIES:Community Events,Federation Events,Jacobson Jewish Community Foundation (JJCF)
END:VEVENT
BEGIN:VEVENT
DTSTART;TZID=America/New_York:20250220T173000
DTEND;TZID=America/New_York:20250220T173000
DTSTAMP:20260424T061501
CREATED:20240723T194936Z
LAST-MODIFIED:20240723T194942Z
UID:10002632-1740072600-1740072600@jewishboca.org
SUMMARY:JJCF Board of Trustees Meeting
DESCRIPTION:
URL:https://jewishboca.org/events/jjcf-board-of-trustees-meeting-8/
LOCATION:The Colony Group\, Tower II\, 5100 Town Center Circle #150\, Boca Raton\, FL\, 33486\, United States
CATEGORIES:Community Events,Federation Events,Jacobson Jewish Community Foundation (JJCF)
ORGANIZER;CN="Lottie Nilsen":MAILTO:lottien@bocafed.org
END:VEVENT
BEGIN:VEVENT
DTSTART;TZID=America/New_York:20250220T163000
DTEND;TZID=America/New_York:20250220T163000
DTSTAMP:20260424T061501
CREATED:20240723T195522Z
LAST-MODIFIED:20240723T200553Z
UID:10002635-1740069000-1740069000@jewishboca.org
SUMMARY:JJCF Investment Committee Meeting
DESCRIPTION:
URL:https://jewishboca.org/events/jjcf-investment-committee-meeting-7/
LOCATION:The Colony Group\, Tower II\, 5100 Town Center Circle #150\, Boca Raton\, FL\, 33486\, United States
CATEGORIES:Community Events,Federation Events,Jacobson Jewish Community Foundation (JJCF)
END:VEVENT
BEGIN:VEVENT
DTSTART;TZID=America/New_York:20250107T120000
DTEND;TZID=America/New_York:20250107T120000
DTSTAMP:20260424T061501
CREATED:20240411T202255Z
LAST-MODIFIED:20241209T155136Z
UID:10002188-1736251200-1736251200@jewishboca.org
SUMMARY:PAC Speaker Series Part 2: Philanthropy in the 21st Century
DESCRIPTION:Tuesday\, January 7\, 2025 | 12:00 pm \nThe Colony Group\, 5100 Town Center Circle\, Tower II Suite 150 \nFeaturing: David Saginaw \nPhilanthropic Strategies LLC \nDavid Saginaw’s diverse background as a businessman\, Jewish communal professional\, and volunteer fundraiser provide him with a unique perspective on the world of philanthropy. David served as the Managing Director of Philanthropic Resources at The Jewish Federations of North America (JFNA). He was responsible for providing motivational and solicitation training\, strategic campaign program development and technical assistance to communities of all sizes\, on all issues related to financial resource development. \nMARK YOUR CALENDAR \nPART 3: Tuesday\, May 22\, 2025 | 5:30 pm \nPAC SPEAKER SERIES CO-CHAIRS: Michael Haber\, JD\, CFP and Seth A. Marmor\, Esq. \nFor more information\, please contact Erica Gordon\, Director\, Foundation Development at EricaG@bocafed.org or 561.852.3114. \nRSVP:\nRegistration for PAC Speaker Series Part 2 is now closed. If you have any questions\, please contact Erica Gordon\, Director\, Foundation Development at EricaG@bocafed.org or 561.852.3114. \n 
URL:https://jewishboca.org/events/pac-education-event/
LOCATION:The Colony Group\, Tower II\, 5100 Town Center Circle #150\, Boca Raton\, FL\, 33486\, United States
CATEGORIES:Community Events,Federation Events,PAC
ORGANIZER;CN="Erica Gordon":MAILTO:ericag@bocafed.org
END:VEVENT
BEGIN:VEVENT
DTSTART;TZID=America/New_York:20241210T173000
DTEND;TZID=America/New_York:20241210T173000
DTSTAMP:20260424T061501
CREATED:20240723T194358Z
LAST-MODIFIED:20240723T194409Z
UID:10002630-1733851800-1733851800@jewishboca.org
SUMMARY:JJCF Board of Trustees Meeting
DESCRIPTION:
URL:https://jewishboca.org/events/jjcf-board-of-trustees-meeting-6/
LOCATION:The Colony Group\, Tower II\, 5100 Town Center Circle #150\, Boca Raton\, FL\, 33486\, United States
CATEGORIES:Community Events,Federation Events,Jacobson Jewish Community Foundation (JJCF)
ORGANIZER;CN="Lottie Nilsen":MAILTO:lottien@bocafed.org
END:VEVENT
BEGIN:VEVENT
DTSTART;TZID=America/New_York:20241210T163000
DTEND;TZID=America/New_York:20241210T163000
DTSTAMP:20260424T061501
CREATED:20240723T195435Z
LAST-MODIFIED:20240723T200505Z
UID:10002634-1733848200-1733848200@jewishboca.org
SUMMARY:JJCF Investment Committee Meeting
DESCRIPTION:
URL:https://jewishboca.org/events/jjcf-investment-committee-meeting-6/
LOCATION:The Colony Group\, Tower II\, 5100 Town Center Circle #150\, Boca Raton\, FL\, 33486\, United States
CATEGORIES:Community Events,Federation Events,Jacobson Jewish Community Foundation (JJCF)
END:VEVENT
BEGIN:VEVENT
DTSTART;TZID=America/New_York:20241203T080000
DTEND;TZID=America/New_York:20241203T080000
DTSTAMP:20260424T061501
CREATED:20240730T160644Z
LAST-MODIFIED:20241127T145619Z
UID:10002641-1733212800-1733212800@jewishboca.org
SUMMARY:PAC Speaker Series Session 1
DESCRIPTION:Tuesday\, December 3\, 2024 | 8:00 am \nThe Colony Group\, 5100 Town Center Circle\, Tower II Suite 150 \n \nFeaturing: Ron Krudo\nCo-Founder and President of Equiturn \nA native New Yorker\, Ron spent most of his life in Florida and earned both his undergraduate and master’s degrees in management and administration from Florida State University. He spent nearly five years in the non-profit sector doing development for StandWithUs. Ron is the Co-Founder and President of Equiturn\, a Management Consulting\, Capital Sourcing\, and Mergers & Acquisitions firm\, which has helped over 200 businesses\, and has secured more than $2B in committed capital in its seven years. He is an active volunteer in the community\, including at our Federation. \nMARK YOUR CALENDAR: \nPART 2: Tuesday\, January 7\, 2025 | 12:00 pm \nPART 3: Tuesday\, May 22\, 2025 | 5:30 pm \nPAC SPEAKER SERIES CO-CHAIRS: Michael Haber\, JD\, CFP and Seth A. Marmor\, Esq. \nFor more information\, please contact Erica Gordon\, Director\, Foundation Development at EricaG@bocafed.org or 561.852.3114. \nRSVP:\n\n 
URL:https://jewishboca.org/events/pac-speaker-series-session-1-2/
LOCATION:The Colony Group\, Tower II\, 5100 Town Center Circle #150\, Boca Raton\, FL\, 33486\, United States
CATEGORIES:Community Events,Federation Events,PAC
ORGANIZER;CN="Erica Gordon":MAILTO:ericag@bocafed.org
END:VEVENT
BEGIN:VEVENT
DTSTART;TZID=America/New_York:20240912T173000
DTEND;TZID=America/New_York:20240912T173000
DTSTAMP:20260424T061501
CREATED:20240723T193919Z
LAST-MODIFIED:20240723T194209Z
UID:10002629-1726162200-1726162200@jewishboca.org
SUMMARY:JJCF Board of Trustees Meeting
DESCRIPTION:
URL:https://jewishboca.org/events/jjcf-board-of-trustees-meeting-5/
LOCATION:The Colony Group\, Tower II\, 5100 Town Center Circle #150\, Boca Raton\, FL\, 33486\, United States
CATEGORIES:Community Events,Federation Events,Jacobson Jewish Community Foundation (JJCF)
ORGANIZER;CN="Lottie Nilsen":MAILTO:lottien@bocafed.org
END:VEVENT
BEGIN:VEVENT
DTSTART;TZID=America/New_York:20240912T163000
DTEND;TZID=America/New_York:20240912T163000
DTSTAMP:20260424T061501
CREATED:20240723T195357Z
LAST-MODIFIED:20240723T200313Z
UID:10002633-1726158600-1726158600@jewishboca.org
SUMMARY:JJCF Investment Committee Meeting
DESCRIPTION:
URL:https://jewishboca.org/events/jjcf-investment-committee-meeting-5/
LOCATION:The Colony Group\, Tower II\, 5100 Town Center Circle #150\, Boca Raton\, FL\, 33486\, United States
CATEGORIES:Community Events,Federation Events,Jacobson Jewish Community Foundation (JJCF)
END:VEVENT
BEGIN:VEVENT
DTSTART;TZID=America/New_York:20240516T173000
DTEND;TZID=America/New_York:20240516T173000
DTSTAMP:20260424T061501
CREATED:20230525T135921Z
LAST-MODIFIED:20231228T185628Z
UID:10001548-1715880600-1715880600@jewishboca.org
SUMMARY:PAC Roundtable Discussion Series PART 2
DESCRIPTION:This two-part series is designed to: \n• Expand your knowledge about the impact of your clients’ gifts on the Federation and Jewish community. \n• Continue learning best practices for having conversations with clients about charitable planned giving. \n• Engage in open dialogue with key PAC members\, with follow up and continued support from your group leader. \n• Continue to grow personal and professional relationships with your cohort. \n• Examine and review fact patterns together. \nGroup Leaders: \nJeffrey A. Baskies\, Esq. \nLaurence I. Blair\, Esq. \nBryan Drowos CFP®\, CPWA® \nThomas R. Kaplan\, MBA \nDavid Pratt\, Esq. \nMark Schaum\, Esq.\, CPA \nRichard D. Steinberg\, CFA \nPart 1: Wednesday\, January 24\, 2024 – 5:30 pm \nPart 2: Thursday\, May 16\, 2024 – 5:30 pm \nThe Colony Group \nTower II\, 5100 Town Center Cir #150\, Boca Raton\, FL 33486 \nRSVP is required to participate in the series. \nFor more information\, please contact Erica Gordon\, Director\, Foundation Development at EricaG@bocafed.org or 561.852.3114. \nRSVP:
URL:https://jewishboca.org/events/pac-roundtable-discussion-series-part-2-2/
LOCATION:The Colony Group\, Tower II\, 5100 Town Center Circle #150\, Boca Raton\, FL\, 33486\, United States
CATEGORIES:Community Events,Federation Events,PAC
ORGANIZER;CN="Erica Gordon":MAILTO:ericag@bocafed.org
END:VEVENT
BEGIN:VEVENT
DTSTART;TZID=America/New_York:20240508T163000
DTEND;TZID=America/New_York:20240508T183000
DTSTAMP:20260424T061501
CREATED:20230525T135654Z
LAST-MODIFIED:20230601T151858Z
UID:10001547-1715185800-1715193000@jewishboca.org
SUMMARY:JJCF Inv/BOT Meeting 4 of 4
DESCRIPTION:
URL:https://jewishboca.org/events/jjcf-inv-bot-meeting-4-of-4/
LOCATION:The Colony Group\, Tower II\, 5100 Town Center Circle #150\, Boca Raton\, FL\, 33486\, United States
CATEGORIES:Community Events,Federation Events,Jacobson Jewish Community Foundation (JJCF)
ORGANIZER;CN="Robyn Kimmelman":MAILTO:robynk@bocafed.org
END:VEVENT
BEGIN:VEVENT
DTSTART;TZID=America/New_York:20240215T163000
DTEND;TZID=America/New_York:20240215T183000
DTSTAMP:20260424T061501
CREATED:20230524T204615Z
LAST-MODIFIED:20230612T154037Z
UID:10001535-1708014600-1708021800@jewishboca.org
SUMMARY:JJCF Inv/BOT Meeting 3 of 4
DESCRIPTION:
URL:https://jewishboca.org/events/jjcf-inv-bot-meeting-3-of-4/
LOCATION:The Colony Group\, Tower II\, 5100 Town Center Circle #150\, Boca Raton\, FL\, 33486\, United States
CATEGORIES:Community Events,Federation Events,Jacobson Jewish Community Foundation (JJCF)
ORGANIZER;CN="Robyn Kimmelman":MAILTO:robynk@bocafed.org
END:VEVENT
BEGIN:VEVENT
DTSTART;TZID=America/New_York:20240124T173000
DTEND;TZID=America/New_York:20240124T173000
DTSTAMP:20260424T061501
CREATED:20230524T194740Z
LAST-MODIFIED:20231228T185328Z
UID:10001530-1706117400-1706117400@jewishboca.org
SUMMARY:PAC Roundtable Discussion Series PART 1
DESCRIPTION:This two-part series is designed to: \n• Expand your knowledge about the impact of your clients’ gifts on the Federation and Jewish community. \n• Continue learning best practices for having conversations with clients about charitable planned giving. \n• Engage in open dialogue with key PAC members\, with follow up and continued support from your group leader. \n• Continue to grow personal and professional relationships with your cohort. \n• Examine and review fact patterns together. \nGroup Leaders: \nJeffrey A. Baskies\, Esq. \nLaurence I. Blair\, Esq. \nBryan Drowos CFP®\, CPWA® \nThomas R. Kaplan\, MBA \nDavid Pratt\, Esq. \nMark Schaum\, Esq.\, CPA \nRichard D. Steinberg\, CFA \nPart 1: Wednesday\, January 24\, 2024 – 5:30 pm \nPart 2: Thursday\, May 16\, 2024 – 5:30 pm \nThe Colony Group \nTower II\, 5100 Town Center Cir #150\, Boca Raton\, FL 33486 \nRSVP is required to participate in the series. \nFor more information\, please contact Erica Gordon\, Director\, Foundation Development at EricaG@bocafed.org or 561.852.3114. \nRSVP:
URL:https://jewishboca.org/events/pac-roundtable-discussion-series-part-1-4/
LOCATION:The Colony Group\, Tower II\, 5100 Town Center Circle #150\, Boca Raton\, FL\, 33486\, United States
CATEGORIES:Community Events,Federation Events,PAC
ORGANIZER;CN="Erica Gordon":MAILTO:ericag@bocafed.org
END:VEVENT
BEGIN:VEVENT
DTSTART;TZID=America/New_York:20230913T163000
DTEND;TZID=America/New_York:20230913T183000
DTSTAMP:20260424T061501
CREATED:20230524T145026Z
LAST-MODIFIED:20230601T141359Z
UID:10001509-1694622600-1694629800@jewishboca.org
SUMMARY:JJCF Inv/BOT Meeting 1 of 4
DESCRIPTION:
URL:https://jewishboca.org/events/jjcf-inv-bot-meeting-1-of-4/
LOCATION:The Colony Group\, Tower II\, 5100 Town Center Circle #150\, Boca Raton\, FL\, 33486\, United States
CATEGORIES:Community Events,Federation Events
ORGANIZER;CN="Robyn Kimmelman":MAILTO:robynk@bocafed.org
END:VEVENT
BEGIN:VEVENT
DTSTART;TZID=America/New_York:20230522T173000
DTEND;TZID=America/New_York:20230522T173000
DTSTAMP:20260424T061501
CREATED:20220930T203650Z
LAST-MODIFIED:20221114T152424Z
UID:10000702-1684776600-1684776600@jewishboca.org
SUMMARY:PAC Roundtable Discussion Series Part 2
DESCRIPTION:Open to all current and eligible PAC members and professionals. \nPAC consists of trust & estate attorneys\, CPAs\, financial planners & wealth advisors\, and insurance professionals who work with their clients to make planned gifts to the Jewish community. \nThis two-part series is designed to: \n• Learn about the impact of your clients’ gifts on the Federation and Jewish community. \n• Learn tips for having conversations about charitable planned giving. \n• Build personal relationships with other professionals in breakout groups. \n• Get continuing philanthropic education. \n• Gain expertise and estate planning techniques for charitable giving. \nPanelists and Group Leaders: \nJeffrey A. Baskies\, Esq.\, \nPAC Education Committee Chair \nLaurence I. Blair\, Esq. \nBryan Drowos CFP®\, CPWA® \nThomas R. Kaplan\, MBA \nDavid Pratt\, Esq. \nMark Schaum\, Esq.\, CPA \nRichard D. Steinberg\, CFA \nPart 1: Monday\, December 12\, 2022 5:30 pm \nPart 2: Monday\, May 22\, 2023 5:30 pm \nThe Colony Group \nTower II\, 5100 Town Center Cir #150\, Boca Raton\, FL 33486 \nFor more information\, please contact Erica Gordon\, Director\, Foundation Development at EricaG@bocafed.org or 561.852.3114. \nRSVP:
URL:https://jewishboca.org/events/pac-roundtable-discussion-series-part-2/
LOCATION:The Colony Group\, Tower II\, 5100 Town Center Circle #150\, Boca Raton\, FL\, 33486\, United States
CATEGORIES:Community Events,Federation Events,PAC
ORGANIZER;CN="Erica Gordon":MAILTO:ericag@bocafed.org
END:VEVENT
BEGIN:VEVENT
DTSTART;TZID=UTC:20221212T173000
DTEND;TZID=UTC:20221212T173000
DTSTAMP:20260424T061501
CREATED:20220930T102654Z
LAST-MODIFIED:20221114T161137Z
UID:10000531-1670866200-1670866200@jewishboca.org
SUMMARY:PAC Roundtable Discussion Series
DESCRIPTION:Open to all current and eligible PAC members and professionals. \nPAC consists of trust & estate attorneys\, CPAs\, financial planners & wealth advisors\, and insurance professionals who work with their clients to make planned gifts to the Jewish community. \nThis two-part series is designed to: \n• Learn about the impact of your clients’ gifts on the Federation and Jewish community. \n• Learn tips for having conversations about charitable planned giving. \n• Build personal relationships with other professionals in breakout groups. \n• Get continuing philanthropic education. \n• Gain expertise and estate planning techniques for charitable giving. \nPanelists and Group Leaders: \nJeffrey A. Baskies\, Esq.\, \nPAC Education Committee Chair \nLaurence I. Blair\, Esq. \nBryan Drowos CFP®\, CPWA® \nThomas R. Kaplan\, MBA \nDavid Pratt\, Esq. \nMark Schaum\, Esq.\, CPA \nRichard D. Steinberg\, CFA \nPart 1: Monday\, December 12\, 2022 5:30 pm \nPart 2: Monday\, May 22\, 2023 5:30 pm \nThe Colony Group \nTower II\, 5100 Town Center Cir #150\, Boca Raton\, FL 33486 \nFor more information\, please contact Erica Gordon\, Director\, Foundation Development at EricaG@bocafed.org or 561.852.3114. \nRSVP:\n\n 
URL:https://jewishboca.org/events/pac-roundtable-discussion-series-part-1/
LOCATION:The Colony Group\, Tower II\, 5100 Town Center Circle #150\, Boca Raton\, FL\, 33486\, United States
CATEGORIES:Community Events,Federation Events,PAC
ORGANIZER;CN="Erica Gordon":MAILTO:ericag@bocafed.org
END:VEVENT
END:VCALENDAR