BEGIN:VCALENDAR
VERSION:2.0
PRODID:-//Jewish Boca - ECPv6.8.3//NONSGML v1.0//EN
CALSCALE:GREGORIAN
METHOD:PUBLISH
X-ORIGINAL-URL:https://jewishboca.org
X-WR-CALDESC:Events for Jewish Boca
REFRESH-INTERVAL;VALUE=DURATION:PT1H
X-Robots-Tag:noindex
X-PUBLISHED-TTL:PT1H
BEGIN:VTIMEZONE
TZID:America/New_York
BEGIN:DAYLIGHT
TZOFFSETFROM:-0500
TZOFFSETTO:-0400
TZNAME:EDT
DTSTART:20260308T070000
END:DAYLIGHT
BEGIN:STANDARD
TZOFFSETFROM:-0400
TZOFFSETTO:-0500
TZNAME:EST
DTSTART:20261101T060000
END:STANDARD
END:VTIMEZONE
BEGIN:VEVENT
DTSTART;TZID=America/New_York:20261207T080000
DTEND;TZID=America/New_York:20261207T203000
DTSTAMP:20260419T090228
CREATED:20251201T151532Z
LAST-MODIFIED:20251201T151532Z
UID:10003494-1796630400-1796675400@jewishboca.org
SUMMARY:Helping Israel Fund Golf Tournament 2026
DESCRIPTION:Helping Israel Fund’s annual charity golf tournament will be held on Monday\, December 7th\, 2026 at the Boca Rio Golf Club. Registration details will be posted in advance of the event.
URL:https://jewishboca.org/events/helping-israel-fund-golf-tournament-2026/
LOCATION:Boca Rio Golf Club\, 22041 Boca Rio Road\, Boca Raton\, FL\, 33433\, United States
CATEGORIES:Community Events
ATTACH;FMTTYPE=image/jpeg:https://jewishboca.org/wp-content/uploads/2025/11/20251120_121520-scaled.jpg
ORGANIZER;CN="Helping Israel Fund":MAILTO:info@helpingisraelfund.com
END:VEVENT
END:VCALENDAR