BEGIN:VCALENDAR
VERSION:2.0
PRODID:-//Jewish Boca - ECPv6.8.3//NONSGML v1.0//EN
CALSCALE:GREGORIAN
METHOD:PUBLISH
X-ORIGINAL-URL:https://jewishboca.org
X-WR-CALDESC:Events for Jewish Boca
REFRESH-INTERVAL;VALUE=DURATION:PT1H
X-Robots-Tag:noindex
X-PUBLISHED-TTL:PT1H
BEGIN:VTIMEZONE
TZID:America/New_York
BEGIN:DAYLIGHT
TZOFFSETFROM:-0500
TZOFFSETTO:-0400
TZNAME:EDT
DTSTART:20240310T070000
END:DAYLIGHT
BEGIN:STANDARD
TZOFFSETFROM:-0400
TZOFFSETTO:-0500
TZNAME:EST
DTSTART:20241103T060000
END:STANDARD
END:VTIMEZONE
BEGIN:VEVENT
DTSTART;TZID=America/New_York:20240411T120000
DTEND;TZID=America/New_York:20240411T133000
DTSTAMP:20260420T152503
CREATED:20230727T173342Z
LAST-MODIFIED:20240614T162347Z
UID:10001703-1712836800-1712842200@jewishboca.org
SUMMARY:AIPAC South Palm Beach Leadership Event
DESCRIPTION:Save the date!
URL:https://jewishboca.org/events/aipac-south-palm-beach-leadership-event/
LOCATION:Boca\, Boca Raton\, FL\, 33428\, United States
ORGANIZER;CN="American Israel Public Affairs Committee":MAILTO:floridaevents@aipac.org
END:VEVENT
BEGIN:VEVENT
DTSTART;TZID=America/New_York:20240114T100000
DTEND;TZID=America/New_York:20240114T193000
DTSTAMP:20260420T152503
CREATED:20230628T192519Z
LAST-MODIFIED:20230628T192526Z
UID:10001623-1705226400-1705260600@jewishboca.org
SUMMARY:AIPAC Policy & Politics Forum
DESCRIPTION:An exclusive unique full-day forum featuring political and policy experts and thought leaders. \n 
URL:https://jewishboca.org/events/aipac-policy-politics-forum/
LOCATION:JW Marriott Turnberry\, Boca Raton\, FL\, 33428\, United States
CATEGORIES:Community Events
ORGANIZER;CN="American Israel Public Affairs Committee":MAILTO:floridaevents@aipac.org
END:VEVENT
BEGIN:VEVENT
DTSTART;VALUE=DATE:20240114
DTEND;VALUE=DATE:20240115
DTSTAMP:20260420T152503
CREATED:20230727T173450Z
LAST-MODIFIED:20230727T173505Z
UID:10001704-1705190400-1705276799@jewishboca.org
SUMMARY:AIPAC Florida Politics & Policy Forum
DESCRIPTION:save the date!
URL:https://jewishboca.org/events/aipac-florida-politics-policy-forum/
LOCATION:JW Marriott Turnberry\, Boca Raton\, FL\, 33428\, United States
ORGANIZER;CN="American Israel Public Affairs Committee":MAILTO:floridaevents@aipac.org
END:VEVENT
END:VCALENDAR