BEGIN:VCALENDAR
VERSION:2.0
PRODID:-//Jewish Boca - ECPv6.8.3//NONSGML v1.0//EN
CALSCALE:GREGORIAN
METHOD:PUBLISH
X-ORIGINAL-URL:https://jewishboca.org
X-WR-CALDESC:Events for Jewish Boca
REFRESH-INTERVAL;VALUE=DURATION:PT1H
X-Robots-Tag:noindex
X-PUBLISHED-TTL:PT1H
BEGIN:VTIMEZONE
TZID:America/New_York
BEGIN:DAYLIGHT
TZOFFSETFROM:-0500
TZOFFSETTO:-0400
TZNAME:EDT
DTSTART:20260308T070000
END:DAYLIGHT
BEGIN:STANDARD
TZOFFSETFROM:-0400
TZOFFSETTO:-0500
TZNAME:EST
DTSTART:20261101T060000
END:STANDARD
END:VTIMEZONE
BEGIN:VEVENT
DTSTART;VALUE=DATE:20260301
DTEND;VALUE=DATE:20260309
DTSTAMP:20260422T052932
CREATED:20250710T210906Z
LAST-MODIFIED:20250714T175113Z
UID:10003333-1772323200-1773014399@jewishboca.org
SUMMARY:2026 Youth Leadership Delegation Visit (tentative)
DESCRIPTION:Join our community as we once again welcome teens from our partnership city of Zichron Yaakov to our South Palm Beach County community. They will join us to learn more about the diversity of Judaism\, how Israel is perceived outside of the country\, and how Jews in America live. We look forward to welcoming them for this annual Partnership2Gether experience! \nPartnership2Gether is a joint program between the Jewish Federation of South Palm Beach County and the Jewish Agency for Israel.
URL:https://jewishboca.org/events/2026-youth-leadership-delegation-visit-tentative/
CATEGORIES:Community Events,Federation Events
ORGANIZER;CN="Alysha Goldstein Erez":MAILTO:Alyshae@bocafed.org
END:VEVENT
BEGIN:VEVENT
DTSTART;TZID=America/New_York:20260308T180000
DTEND;TZID=America/New_York:20260308T220000
DTSTAMP:20260422T052932
CREATED:20250401T144132Z
LAST-MODIFIED:20250505T194845Z
UID:10002901-1772992800-1773007200@jewishboca.org
SUMMARY:JARC Gala
DESCRIPTION:tbd
URL:https://jewishboca.org/events/jarc-gala-option-1/
CATEGORIES:Community Events
END:VEVENT
BEGIN:VEVENT
DTSTART;VALUE=DATE:20260309
DTEND;VALUE=DATE:20260315
DTSTAMP:20260422T052932
CREATED:20250618T151640Z
LAST-MODIFIED:20260303T143501Z
UID:10003265-1773014400-1773532799@jewishboca.org
SUMMARY:Together Again in Israel
DESCRIPTION:Join Our 2026 Community Mission March 9 – 14\, 2026 \nJoin us for a journey that honors Israel’s past and embraces its future. This is more than travel\, it’s a renewal of connection\, a celebration of resilience\, and a step toward the future we’re building together. \nMission Highlights:\n• Receive exclusive briefings with national leaders and frontline heroes. \n• Visit communities rebuilt after October 7. \n• Celebrate a meaningful Shabbat in Jerusalem with survivors and soldiers. \n• Take part in hands-on volunteer projects that make a tangible difference. \n• Gain insider insights from top experts on Israel’s evolving geopolitical landscape. \nA minimum individual gift of $500 or $1\,000 household gift to the 2026 annual campaign will be required to participate. \nCost Generously subsidized by Jewish Federation of South Palm Beach County: Starting at $4\,999* (double occupancy) \n* ‎Land only \n•  The mission begins at 9:00am on Monday\, March 9th. Hotel accommodations for the night of March 8th are included in the cost of the mission. The mission includes a late check-out and ends after dinner on Saturday\, March 14th. Please book your airfare accordingly. \nWhat’s Included: \n•  7 nights hotel accommodations at David Intercontinental in Tel Aviv and David Citadel in Jerusalem \n•  Daily Israeli breakfast at the hotel\, most lunches and dinners \n•  Security guard accompanying the group \n•  Complete land package including expert tour guide\, transportation\, programming\, and gratuities \nPayment Schedule: \n•  $2\,999 deposit per person to hold your spot (including $500 non-refundable fee) \n•  $2\,000 plus Single Supplement due by January 16\, 2026 \nCancellation Policy: \n•  Prior to January 22\, 2026 – Full refund minus $500 non-refundable fee \n•  Between January 22 and February 12\, 2026 – 50% non-refundable \n•  After February 12\, 2026 – 100% non-refundable \n•  If Israel closes its doors to tourists you will receive a refund for your land package minus the non-refundable $500 fee \nFor more information or questions contact\, Tova Hocherman at TovaH@jewishboca.org \nRSVP:\nEvent Registration is now closed.
URL:https://jewishboca.org/events/israel-mission/
CATEGORIES:Community Events,Federation Events
ORGANIZER;CN="Tova Hocherman":MAILTO:tovah@jewishboca.org
END:VEVENT
BEGIN:VEVENT
DTSTART;TZID=America/New_York:20260309T093000
DTEND;TZID=America/New_York:20260309T113000
DTSTAMP:20260422T052932
CREATED:20250523T135044Z
LAST-MODIFIED:20250523T135044Z
UID:10003167-1773048600-1773055800@jewishboca.org
SUMMARY:Women's Philanthropy Chapter 2
DESCRIPTION:
URL:https://jewishboca.org/events/womens-philanthropy-chapter-2/
LOCATION:Jewish Federation Campus in Levine\, 9901 Donna Klein Blvd\, Boca Raton\, FL\, 33428\, United States
CATEGORIES:Community Events,Federation Events,Women's
ORGANIZER;CN="Marissa Vinograd":MAILTO:marissav@bocafed.org
END:VEVENT
BEGIN:VEVENT
DTSTART;TZID=America/New_York:20260309T110000
DTEND;TZID=America/New_York:20260309T190000
DTSTAMP:20260422T052932
CREATED:20260107T195409Z
LAST-MODIFIED:20260107T195409Z
UID:10003512-1773054000-1773082800@jewishboca.org
SUMMARY:2026 Great Golf for a Great Cause
DESCRIPTION:Join Us for the 2026 Rales JFS Annual Great Golf for a Great Cause Tournament! \nExperience a day of top-tier golf and community spirit at the Ruth & Norman Rales JFS Annual Great Golf for a Great Cause tournament. This premier event has long been a favorite among golf enthusiasts and supporters\, offering a perfect blend of sport\, networking\, and philanthropy. \nHit the greens on the stunning courses of Addison Reserve Country Club and immerse yourself in a day filled with fun and camaraderie\, complemented by a delicious lunch\, refreshing cocktails\, and a closing reception featuring great food and an awards ceremony recognizing the day’s standout moments. \nEvery drive and putt helps raise vital funds for Rales JFS programs and services. Whether you’re looking to fine-tune your game\, enjoy a sunny day out with friends\, or support a meaningful cause\, this tournament delivers an unforgettable experience that uplifts the community. \nJoin us for a memorable day of golf and impactful giving\, where every swing counts and every moment matters!
URL:https://jewishboca.org/events/2026-great-golf-for-a-great-cause/
LOCATION:Addison Reserve Country Club\, Boca Raton\, FL\, 33428\, United States
CATEGORIES:Community Events,Jewish Family Services (JFS)
END:VEVENT
BEGIN:VEVENT
DTSTART;TZID=America/New_York:20260309T180000
DTEND;TZID=America/New_York:20260309T200000
DTSTAMP:20260422T052932
CREATED:20250528T133945Z
LAST-MODIFIED:20250528T133945Z
UID:10003195-1773079200-1773086400@jewishboca.org
SUMMARY:LEAP Series 5
DESCRIPTION:
URL:https://jewishboca.org/events/leap-series-5/
LOCATION:Jewish Federation of South Palm Beach County – Levine Board Room\, 9901 Donna Klein Blvd.\, Boca Raton
CATEGORIES:3049,Community Events,Federation Events
ORGANIZER;CN="Allison O'Mara":MAILTO:allisono@jewishboca.org
END:VEVENT
BEGIN:VEVENT
DTSTART;TZID=America/New_York:20260310T173000
DTEND;TZID=America/New_York:20260310T190000
DTSTAMP:20260422T052932
CREATED:20250604T172011Z
LAST-MODIFIED:20250604T172011Z
UID:10003213-1773163800-1773169200@jewishboca.org
SUMMARY:JARC Board Meeting
DESCRIPTION:TBD
URL:https://jewishboca.org/events/jarc-board-meeting-29/
CATEGORIES:Community Events
END:VEVENT
BEGIN:VEVENT
DTSTART;TZID=America/New_York:20260311T193000
DTEND;TZID=America/New_York:20260311T213000
DTSTAMP:20260422T052932
CREATED:20250604T191525Z
LAST-MODIFIED:20250604T191525Z
UID:10003227-1773257400-1773264600@jewishboca.org
SUMMARY:B'nai Torah Congregation Concert Series
DESCRIPTION:4 concerts with acclaimed musical artists\, produced by Cantor Magda Fishman in collaboration with Maestro Tomer Adaddi.
URL:https://jewishboca.org/events/bnai-torah-congregation-concert-series-2/
LOCATION:B’nai Torah Congregation\, 6261 SW 18th St\, Boca Raton\, F\, 33433\, United States
CATEGORIES:Community Events
ORGANIZER;CN="B'nai Torah Congregation":MAILTO:info@bnai-torah.org
END:VEVENT
BEGIN:VEVENT
DTSTART;TZID=America/New_York:20260312T100000
DTEND;TZID=America/New_York:20260312T140000
DTSTAMP:20260422T052932
CREATED:20250516T132717Z
LAST-MODIFIED:20250516T132717Z
UID:10003082-1773309600-1773324000@jewishboca.org
SUMMARY:JAFCO Luncheon and Card Party at Mirasol
DESCRIPTION:Join us for card play\, a vendor boutique and heartwarming program that includes a new JAFCO video presentation!
URL:https://jewishboca.org/events/jafco-luncheon-and-card-party-at-mirasol/
LOCATION:The Country Club at Mirasol\, 11600 Mirasol Way\, Palm Beach Gardens\, FL\, 33418\, United States
CATEGORIES:Community Events
ORGANIZER;CN="JAFCO":MAILTO:info@jafco.org
END:VEVENT
BEGIN:VEVENT
DTSTART;TZID=America/New_York:20260312T153000
DTEND;TZID=America/New_York:20260312T170000
DTSTAMP:20260422T052932
CREATED:20250529T135342Z
LAST-MODIFIED:20250529T135342Z
UID:10003185-1773329400-1773334800@jewishboca.org
SUMMARY:Israel Tennis and Education Centers Charity Event – 9th Annual Wycliffe Arad ITEC Program & Exhibition
DESCRIPTION:Israel Tennis and Education Centers Charity Event \n9th Annual Wycliffe Arad ITEC Program & Exhibition
URL:https://jewishboca.org/events/israel-tennis-and-education-centers-charity-event-9th-annual-wycliffe-arad-itec-program-exhibition/
CATEGORIES:Community Events
ATTACH;FMTTYPE=image/jpeg:https://jewishboca.org/wp-content/uploads/2025/05/Logo-1.jpg
ORGANIZER;CN="Israel Tennis &amp%3B Education Centers Foundation":MAILTO:yyair@itecenters.org
END:VEVENT
BEGIN:VEVENT
DTSTART;TZID=America/New_York:20260312T173000
DTEND;TZID=America/New_York:20260312T193000
DTSTAMP:20260422T052932
CREATED:20250224T203937Z
LAST-MODIFIED:20250224T204131Z
UID:10002855-1773336600-1773343800@jewishboca.org
SUMMARY:Levis JCC Ladies' Night Out
DESCRIPTION:A series of events featuring fun and innovative activities and the opportunity to meet women who want to connect with each other\, the Levis JCC and our Jewish community.
URL:https://jewishboca.org/events/levis-jcc-ladies-night-out-4/
CATEGORIES:Community Events
ORGANIZER;CN="Ilana Ducorsky":MAILTO:Ilanad@levisjcc.org
END:VEVENT
BEGIN:VEVENT
DTSTART;TZID=America/New_York:20260312T180000
DTEND;TZID=America/New_York:20260312T210000
DTSTAMP:20260422T052932
CREATED:20250303T181216Z
LAST-MODIFIED:20250303T181216Z
UID:10002867-1773338400-1773349200@jewishboca.org
SUMMARY:AFMDA 2026 Boca-Delray Community Event
DESCRIPTION:The annual AFMDA Boca-Delray Community Event will be held at St. Andrews County Club. Guests will enjoy a cocktail reception followed by dinner\, and a guest speaker presentation. \nMagen David Adom is Israel’s ambulance\, blood-services\, and disaster-relief organization\, serving as skilled EMT first-responders for the state’s more than 9.4 million people. MDA’s Blood Center provides 97 percent of the blood used by Israeli hospitals and provides for 100 percent of the blood needs of the Israel Defense Forces ensuring all Israelis get the blood they need – when they need it.
URL:https://jewishboca.org/events/afmda-2026-boca-delray-community-event/
LOCATION:St Andrews Country Club
CATEGORIES:Community Events
ATTACH;FMTTYPE=image/jpeg:https://jewishboca.org/wp-content/uploads/2025/03/AFMDA_logo-2024.jpg
ORGANIZER;CN="American Friends of Magen David Adom":MAILTO:lviselman@afmda.org
END:VEVENT
END:VCALENDAR