BEGIN:VCALENDAR
VERSION:2.0
PRODID:-//Jewish Boca - ECPv6.8.3//NONSGML v1.0//EN
CALSCALE:GREGORIAN
METHOD:PUBLISH
X-WR-CALNAME:Jewish Boca
X-ORIGINAL-URL:https://jewishboca.org
X-WR-CALDESC:Events for Jewish Boca
REFRESH-INTERVAL;VALUE=DURATION:PT1H
X-Robots-Tag:noindex
X-PUBLISHED-TTL:PT1H
BEGIN:VTIMEZONE
TZID:America/New_York
BEGIN:DAYLIGHT
TZOFFSETFROM:-0500
TZOFFSETTO:-0400
TZNAME:EDT
DTSTART:20250309T070000
END:DAYLIGHT
BEGIN:STANDARD
TZOFFSETFROM:-0400
TZOFFSETTO:-0500
TZNAME:EST
DTSTART:20251102T060000
END:STANDARD
END:VTIMEZONE
BEGIN:VEVENT
DTSTART;TZID=America/New_York:20251207T110000
DTEND;TZID=America/New_York:20251207T123000
DTSTAMP:20260422T052717
CREATED:20250916T204636Z
LAST-MODIFIED:20251120T172443Z
UID:10003426-1765105200-1765110600@jewishboca.org
SUMMARY:Life & Legacy Community Celebration
DESCRIPTION:The 2026 Life & Legacy Community Celebration \n100 Years of Jews in Boca \nJoin us at Florida Atlantic University for a special CJL Celebration! Enjoy a guided tour of this remarkable exhibit highlighting a century of Jewish life in Boca Raton. \nSunday\, December 7\, 2025 | 11:00 am – 12:30 pm \nFAU University – The Schmidt Center Gallery\n777 Glades Rd\, Boca Raton \nClick here to view the FAU campus map. \nComplimentary parking is available in Lot 23\, located on Indian River Street\, closest to the Schmidt Center Gallery \nCreate a Jewish Legacy Co-Chairs: Dale Filhaber & William C. Miller \nAttendance is complimentary for Life & Legacy participants and guests.  \nLight bites will be served. Dietary Laws will be observed. \nRSVP by Monday\, December 1\, 2025 \nFor more information\, please contact Lisa Barash\, Foundation Philanthropic Officer at (561) 852-3166 or LisaB@jewishboca.org. \nRSVP:\nRegistration is closed at this time. If you have any questions or would like further information\, please contact Lisa Barash at LisaB@bocafed.org. Thank you! \n  \n  \n 
URL:https://jewishboca.org/events/life-legacy-community-celebration/
LOCATION:The Schmidt Center Gallery at FAU\, 777 Glades Road\, Boca Raton\, 33431\, United States
CATEGORIES:Community Events,Federation Events,Jacobson Jewish Community Foundation (JJCF)
ORGANIZER;CN="Lisa Barash":MAILTO:LisaB@jewishboca.org
END:VEVENT
BEGIN:VEVENT
DTSTART;TZID=America/New_York:20251207T130000
DTEND;TZID=America/New_York:20251207T153000
DTSTAMP:20260422T052717
CREATED:20250916T130337Z
LAST-MODIFIED:20250916T130337Z
UID:10003423-1765112400-1765121400@jewishboca.org
SUMMARY:Here There Are Blueberries
DESCRIPTION:Here There Are Blueberries\, a Pulitzer Prize nominated play based on a key collection acquired by the Museum\, is coming to the Colony Theatre on Miami Beach\, FL for a six-week run November-December 2025. The United States Holocaust Memorial Museum is proud to sponsor a full-buyout of the theater on Sunday\, December 7th at 1:00PM. Thanks to the generosity of our Museum donors\, the entire theater will be reserved for a matinee showing of the play\, exclusive to Museum invitees. The Museum will provide charter buses to the play for patrons based in Palm Beach County. Museum leadership\, supporters\, Holocaust educators\, and student leaders across South Florida will join us for a special performance\, followed by a talkback with Dr. Rebecca Erbelding. \nFor more information\, or to learn how you can join this special experience\, please contact southeast@ushmm.org
URL:https://jewishboca.org/events/here-there-are-blueberries/
LOCATION:Colony Theatre\, Miami Beach\, 1040 Lincoln Road\, Miami Beach\, Florida\, 33139
CATEGORIES:Community Events
ORGANIZER;CN="United States Holocaust Memorial Museum":MAILTO:southeast@ushmm.org
END:VEVENT
BEGIN:VEVENT
DTSTART;TZID=America/New_York:20251207T180000
DTEND;TZID=America/New_York:20251207T210000
DTSTAMP:20260422T052717
CREATED:20251106T190651Z
LAST-MODIFIED:20251106T191421Z
UID:10003475-1765130400-1765141200@jewishboca.org
SUMMARY:Sharsheret’s Annual Southeast Benefit - How Do You Wear Your Genes?
DESCRIPTION:Join us for Sharsheret’s Annual Southeast Benefit\, How Do You Wear Your Genes?\, on Sunday\, December 7\, 2025\, in Dania Beach\, Florida\, as we honor Dr. Jessica Baitner\, Dr. Starr Mautner\, and Abby Brody.
URL:https://jewishboca.org/events/sharsherets-annual-southeast-benefit-how-do-you-wear-your-genes/
CATEGORIES:Community Events
ATTACH;FMTTYPE=image/jpeg:https://jewishboca.org/wp-content/uploads/2025/11/FL-BENEFIT-2025-Evite-WhatsApp.jpg
END:VEVENT
BEGIN:VEVENT
DTSTART;TZID=America/New_York:20251208T093000
DTEND;TZID=America/New_York:20251208T113000
DTSTAMP:20260422T052717
CREATED:20251125T193618Z
LAST-MODIFIED:20251125T193618Z
UID:10003496-1765186200-1765193400@jewishboca.org
SUMMARY:Women's Philanthropy Chapter 2- Challah Bake
DESCRIPTION:
URL:https://jewishboca.org/events/womens-philanthropy-chapter-2-challah-bake/
CATEGORIES:Community Events,Federation Events,Women's
ORGANIZER;CN="Marissa Vinograd":MAILTO:marissav@bocafed.org
END:VEVENT
BEGIN:VEVENT
DTSTART;TZID=America/New_York:20251208T110000
DTEND;TZID=America/New_York:20251208T140000
DTSTAMP:20260422T052717
CREATED:20250523T132355Z
LAST-MODIFIED:20250523T132355Z
UID:10003154-1765191600-1765202400@jewishboca.org
SUMMARY:FIDF Women's Event
DESCRIPTION:Women’s Luncheon to support the soldiers of the IDF \nPTSD and bereavement support
URL:https://jewishboca.org/events/fidf-womens-event-2/
LOCATION:TBD
CATEGORIES:Community Events
ORGANIZER;CN="Friends of the IDF":MAILTO:boca@fidf.org
END:VEVENT
BEGIN:VEVENT
DTSTART;TZID=America/New_York:20251208T160000
DTEND;TZID=America/New_York:20251208T183000
DTSTAMP:20260422T052717
CREATED:20250421T135116Z
LAST-MODIFIED:20250820T161540Z
UID:10002970-1765209600-1765218600@jewishboca.org
SUMMARY:JWF Grant Mtg #1
DESCRIPTION:
URL:https://jewishboca.org/events/jwf-grant-mtg-1-2/
LOCATION:Proskauer\, One Boca Place 2255 Glades Road Suite 421 Atrium\, Boca Raton\, FL\, 33431\, United States
CATEGORIES:Community Events,Federation Events
ORGANIZER;CN="Lisa Barash":MAILTO:LisaB@jewishboca.org
END:VEVENT
BEGIN:VEVENT
DTSTART;TZID=America/New_York:20251208T173000
DTEND;TZID=America/New_York:20251208T193000
DTSTAMP:20260422T052717
CREATED:20250730T202033Z
LAST-MODIFIED:20251112T184321Z
UID:10003349-1765215000-1765222200@jewishboca.org
SUMMARY:Celebrate the Festival of Lights with 3049ish & JARC Florida
DESCRIPTION:MONDAY\, DECEMBER 8 | 5:30PM – 7:30PM \n​JARC Florida | 21160 95th Ave S\, Boca Raton \nJoin the 3049ish Division of the Jewish Federation of South Palm Beach County and JARC Florida for a special pre-Hanukkah celebration! \nWe’re inviting our 3049ish community to connect\, volunteer\, and celebrate alongside JARC clients in a meaningful and festive way. \nJARC Florida provides vital programs and services that empower individuals with intellectual and developmental disabilities. We’re inviting our 3049ish community to connect\, volunteer\, and celebrate alongside \nJARC clients in a meaningful and festive way. \nLet’s make this season even brighter-together! \nRegistration is required. \nCouvert: $45 (pizza\, latkes\, and Hanukkah sweets) \nHanukkah Party Chair: Jaclyn Schneider \n3049ish Co-Chairs: Aly Krauss and Alexis Krudo \nAdults only. Please reach out to Allison O’Mara\, Sr. Director of Emerging Leadership and Philanthropy at AllisonO@jewishboca.org or 561-852-3183 \nRSVP:\nRegistration is now closed.
URL:https://jewishboca.org/events/3049ish-pre-channukah-at-jarc/
LOCATION:JARC\, 21160 95th Avenue South\, Boca Raton\, FL\, 33428\, United States
CATEGORIES:3049,Community Events,Federation Events
ORGANIZER;CN="Allison O'Mara":MAILTO:allisono@jewishboca.org
END:VEVENT
BEGIN:VEVENT
DTSTART;TZID=America/New_York:20251209T163000
DTEND;TZID=America/New_York:20251209T173000
DTSTAMP:20260422T052717
CREATED:20250421T135512Z
LAST-MODIFIED:20250421T135512Z
UID:10002971-1765297800-1765301400@jewishboca.org
SUMMARY:JJCF Investment Committee Mtg
DESCRIPTION:
URL:https://jewishboca.org/events/jjcf-investment-committee-mtg-4/
LOCATION:Focus Partners Wealth\, 5100 Town Center Circle\, Tower II\, Suite 150\, Boca Raton\, 33486\, United States
CATEGORIES:Community Events,Federation Events
ORGANIZER;CN="Lottie Nilsen":MAILTO:lottien@bocafed.org
END:VEVENT
BEGIN:VEVENT
DTSTART;TZID=America/New_York:20251209T173000
DTEND;TZID=America/New_York:20251209T183000
DTSTAMP:20260422T052717
CREATED:20250421T135742Z
LAST-MODIFIED:20250421T135742Z
UID:10002972-1765301400-1765305000@jewishboca.org
SUMMARY:JJCF Board of Trustees Mtg
DESCRIPTION:
URL:https://jewishboca.org/events/jjcf-board-of-trustees-mtg-3/
LOCATION:Focus Partners Wealth\, 5100 Town Center Circle\, Tower II\, Suite 150\, Boca Raton\, 33486\, United States
CATEGORIES:Community Events,Federation Events
ORGANIZER;CN="Lottie Nilsen":MAILTO:lottien@bocafed.org
END:VEVENT
BEGIN:VEVENT
DTSTART;TZID=America/New_York:20251209T173000
DTEND;TZID=America/New_York:20251209T190000
DTSTAMP:20260422T052717
CREATED:20250604T171256Z
LAST-MODIFIED:20250604T171256Z
UID:10003210-1765301400-1765306800@jewishboca.org
SUMMARY:JARC Board Meeting
DESCRIPTION:TBD
URL:https://jewishboca.org/events/jarc-board-meeting-26/
CATEGORIES:Community Events
END:VEVENT
BEGIN:VEVENT
DTSTART;TZID=America/New_York:20251209T180000
DTEND;TZID=America/New_York:20251209T200000
DTSTAMP:20260422T052717
CREATED:20250730T133704Z
LAST-MODIFIED:20250730T133704Z
UID:10003347-1765303200-1765310400@jewishboca.org
SUMMARY:Honoring Magen David Adom’s Lifesaving Heroes: An Evening with Jonathan Conricus
DESCRIPTION:An Evening with Jonathan Conricus\nFormer IDF Spokesperson and Senior Fellow at Foundation for Defense of Democracies\n\n6:00PM VIP Reception for Sponsors\n7:00PM Program
URL:https://jewishboca.org/events/honoring-magen-david-adoms-lifesaving-heroes-an-evening-with-jonathan-conricus/
LOCATION:B’Nai Torah\, 6261 SW 18th St\, Boca Raton\, Florida\, 33433
CATEGORIES:Community Events
ATTACH;FMTTYPE=image/jpeg:https://jewishboca.org/wp-content/uploads/2025/07/AFMDA_logo-2024-1.jpg
ORGANIZER;CN="American Friends of Magen David Adom":MAILTO:lviselman@afmda.org
END:VEVENT
BEGIN:VEVENT
DTSTART;VALUE=DATE:20251210
DTEND;VALUE=DATE:20251211
DTSTAMP:20260422T052717
CREATED:20250708T171436Z
LAST-MODIFIED:20250708T171436Z
UID:10003324-1765324800-1765411199@jewishboca.org
SUMMARY:inSIGHT’s 15th Anniversary Gala
DESCRIPTION:An inspiring fundraising gala celebrating 15 years of impact\, featuring guest speaker Patricia Heaton—actress and founder of the October 7 Coalition\, a Christian network standing boldly and visibly against antisemitism.
URL:https://jewishboca.org/events/insights-15th-anniversary-gala/
LOCATION:Kravis Center | Cohen Pavilion\, 701 Okeechobee Blvd\, West Palm Beach\, FL\, 33401
CATEGORIES:Community Events
END:VEVENT
BEGIN:VEVENT
DTSTART;TZID=America/New_York:20251210T090000
DTEND;TZID=America/New_York:20251210T110000
DTSTAMP:20260422T052717
CREATED:20250617T151325Z
LAST-MODIFIED:20250617T151325Z
UID:10003241-1765357200-1765364400@jewishboca.org
SUMMARY:I&O Task Force Meeting 1
DESCRIPTION:
URL:https://jewishboca.org/events/io-task-force-meeting-1-3/
LOCATION:Levine Board Room\, Boca Raton\, FL\, 33428\, United States
CATEGORIES:Community Events,Federation Events
ORGANIZER;CN="Arielle Elkoby":MAILTO:ariellee@jewishboca.org
END:VEVENT
BEGIN:VEVENT
DTSTART;TZID=America/New_York:20251210T093000
DTEND;TZID=America/New_York:20251210T113000
DTSTAMP:20260422T052717
CREATED:20250522T191701Z
LAST-MODIFIED:20250522T191701Z
UID:10003163-1765359000-1765366200@jewishboca.org
SUMMARY:Women's Philanthropy Chapter 2 (Session 2)
DESCRIPTION:
URL:https://jewishboca.org/events/womens-philanthropy-chapter-2-session-2/
CATEGORIES:Community Events,Federation Events,Women's
ORGANIZER;CN="Marissa Vinograd":MAILTO:marissav@bocafed.org
END:VEVENT
BEGIN:VEVENT
DTSTART;TZID=America/New_York:20251210T153000
DTEND;TZID=America/New_York:20251210T170000
DTSTAMP:20260422T052717
CREATED:20250508T145338Z
LAST-MODIFIED:20251102T035232Z
UID:10003030-1765380600-1765386000@jewishboca.org
SUMMARY:Pre-Chanukah with PJ Library® and the JCC
DESCRIPTION:Come celebrate an early Chanukah with PJ Library® and the JCC. \nJoin us for crafts\, story-time\, treats and more! \nWednesday\, December 10\, 2025 \n3:30-5:00pm \nAt Adolph & Rose Levis Jewish Community Center\n21050 95th Avenue S.\, Boca Raton \nRegistration required and space is limited. \n$18 per family. \nFor more information\, please contact us at pjlibrary@jewishboca.org or 561-852-6080. \nRSVP:\nEvent Registration is now closed.
URL:https://jewishboca.org/events/pre-chanukah-with-pj-library-and-the-jcc/
LOCATION:Adolph & Rose Levis JCC\, 21050 95th Ave S\, Boca Raton\, 33428\, United States
CATEGORIES:Community Events,Federation Events,PJ Library
ORGANIZER;CN="PJ Library%C2%AE":MAILTO:pjlibrary@jewishboca.org
END:VEVENT
BEGIN:VEVENT
DTSTART;TZID=America/New_York:20251210T163000
DTEND;TZID=America/New_York:20251210T173000
DTSTAMP:20260422T052717
CREATED:20220930T201501Z
LAST-MODIFIED:20221013T221512Z
UID:10000635-1765384200-1765387800@jewishboca.org
SUMMARY:Federation Executive Committee Meeting
DESCRIPTION:
URL:https://jewishboca.org/events/federation-executive-committee-meeting-7/
CATEGORIES:Community Events,Federation Events
ORGANIZER;CN="Jessica Rykus":MAILTO:jessicar@bocafed.org
END:VEVENT
BEGIN:VEVENT
DTSTART;TZID=America/New_York:20251210T180000
DTEND;TZID=America/New_York:20251210T191500
DTSTAMP:20260422T052717
CREATED:20251021T171952Z
LAST-MODIFIED:20251107T160754Z
UID:10003458-1765389600-1765394100@jewishboca.org
SUMMARY:Living Life with Vigilance\, Not Fear
DESCRIPTION:Join us to hear from former FBI Special Agent Brandon Waller Community Security Director\, Jewish Federation of South Palm Beach County. \nLiving Life with Vigilance\, Not Fear \nWednesday\, December 10\, 2025 | 6:00 – 7:15 pm \nBroken Sound Main Clubhouse \nOur Federation is fortunate to have a full-time\, dedicated and experienced professional leading the security of our community. Brandon will share expert insights into today’s security landscape and how we’re working to keep our community of more than 150\,000 Jewish residents safe with preparedness\, strength\, and vigilance. \nEvent Co Chairs: Carol Brichke\, Gail Loewenstein\, Cheryl Metzger & Judy Metzger \nThis event is complimentary\, registration required. \nSecond Annual Broken Sound Toy Drive: Please bring an unwrapped toy to be donated to a child in need for the holidays. \nFor more information\, contact Tova Hocherman at TovaH@jewishboca.org or at 561.852.6046. \nRSVP:\nEvent Registration is now closed.
URL:https://jewishboca.org/events/federation-event-at-broken-sound-cc/
LOCATION:Broken Sound Club\, 2401 Willow Springs Dr\, Boca Raton\, FL\, 33496\, United States
CATEGORIES:Community Events,Country Clubs,Federation Events
ORGANIZER;CN="Tova Hocherman":MAILTO:tovah@jewishboca.org
END:VEVENT
BEGIN:VEVENT
DTSTART;TZID=America/New_York:20251210T180000
DTEND;TZID=America/New_York:20251210T200000
DTSTAMP:20260422T052717
CREATED:20250604T173810Z
LAST-MODIFIED:20250604T173810Z
UID:10003189-1765389600-1765396800@jewishboca.org
SUMMARY:Levis JCC Leadership Holiday Party - Option 3
DESCRIPTION:Levis JCC Leadership Holiday Party – Option 3
URL:https://jewishboca.org/events/levis-jcc-leadership-holiday-party-option-3/
CATEGORIES:Community Events
END:VEVENT
BEGIN:VEVENT
DTSTART;TZID=America/New_York:20251211T083000
DTEND;TZID=America/New_York:20251211T093000
DTSTAMP:20260422T052717
CREATED:20250516T193531Z
LAST-MODIFIED:20250516T193531Z
UID:10003089-1765441800-1765445400@jewishboca.org
SUMMARY:Levis JCC Executive Committee Meeting
DESCRIPTION:Board of Directors- Executive Committee Meeting (via Zoom)
URL:https://jewishboca.org/events/levis-jcc-executive-committee-meeting-2/
CATEGORIES:Community Events
END:VEVENT
BEGIN:VEVENT
DTSTART;TZID=America/New_York:20251211T180000
DTEND;TZID=America/New_York:20251211T203000
DTSTAMP:20260422T052717
CREATED:20250528T125810Z
LAST-MODIFIED:20250606T162932Z
UID:10003192-1765476000-1765485000@jewishboca.org
SUMMARY:LEAP Series 2
DESCRIPTION:
URL:https://jewishboca.org/events/leap-series-2/
LOCATION:Jewish Federation of South Palm Beach County – Levine Board Room\, 9901 Donna Klein Blvd.\, Boca Raton
CATEGORIES:3049,Community Events,Federation Events
ORGANIZER;CN="Allison O'Mara":MAILTO:allisono@jewishboca.org
END:VEVENT
BEGIN:VEVENT
DTSTART;TZID=America/New_York:20251211T183000
DTEND;TZID=America/New_York:20251211T230000
DTSTAMP:20260422T052717
CREATED:20250218T161031Z
LAST-MODIFIED:20250326T201940Z
UID:10002818-1765477800-1765494000@jewishboca.org
SUMMARY:Rales JFS Gala
DESCRIPTION:Rales JFS Annual Gala
URL:https://jewishboca.org/events/rales-jfs-gala-place-holder/
CATEGORIES:Community Events
END:VEVENT
BEGIN:VEVENT
DTSTART;VALUE=DATE:20251212
DTEND;VALUE=DATE:20251213
DTSTAMP:20260422T052717
CREATED:20250820T201620Z
LAST-MODIFIED:20250820T201620Z
UID:10003377-1765497600-1765583999@jewishboca.org
SUMMARY:Federation Holiday Event
DESCRIPTION:
URL:https://jewishboca.org/events/federation-holiday-event/
CATEGORIES:Community Events,Federation Events
END:VEVENT
BEGIN:VEVENT
DTSTART;TZID=America/New_York:20251213T183000
DTEND;TZID=America/New_York:20251213T220000
DTSTAMP:20260422T052717
CREATED:20250516T133434Z
LAST-MODIFIED:20250516T133434Z
UID:10003077-1765650600-1765663200@jewishboca.org
SUMMARY:JAFCO Gala
DESCRIPTION:Join us for a special night featuring an exciting silent auction and heartwarming program that includes a new JAFCO video presentation!
URL:https://jewishboca.org/events/jafco-gala/
LOCATION:Boca West Country Club\, 20583 Boca West Drive\, Boca Raton\, 33434\, United States
CATEGORIES:Community Events
ORGANIZER;CN="JAFCO":MAILTO:info@jafco.org
END:VEVENT
END:VCALENDAR