BEGIN:VCALENDAR
VERSION:2.0
PRODID:-//Jewish Boca - ECPv6.8.3//NONSGML v1.0//EN
CALSCALE:GREGORIAN
METHOD:PUBLISH
X-WR-CALNAME:Jewish Boca
X-ORIGINAL-URL:https://jewishboca.org
X-WR-CALDESC:Events for Jewish Boca
REFRESH-INTERVAL;VALUE=DURATION:PT1H
X-Robots-Tag:noindex
X-PUBLISHED-TTL:PT1H
BEGIN:VTIMEZONE
TZID:America/New_York
BEGIN:DAYLIGHT
TZOFFSETFROM:-0500
TZOFFSETTO:-0400
TZNAME:EDT
DTSTART:20250309T070000
END:DAYLIGHT
BEGIN:STANDARD
TZOFFSETFROM:-0400
TZOFFSETTO:-0500
TZNAME:EST
DTSTART:20251102T060000
END:STANDARD
END:VTIMEZONE
BEGIN:VEVENT
DTSTART;TZID=America/New_York:20251201T163000
DTEND;TZID=America/New_York:20251201T200000
DTSTAMP:20260424T054813
CREATED:20250902T180428Z
LAST-MODIFIED:20250902T180428Z
UID:10003411-1764606600-1764619200@jewishboca.org
SUMMARY:Rales JFS The Bridge Giving Circle Parlor Event
DESCRIPTION:Rales JFS The Bridge Giving Circle Parlor Event
URL:https://jewishboca.org/events/rales-jfs-the-bridge-giving-circle-parlor-event-2/
CATEGORIES:Community Events,Jewish Family Services (JFS)
END:VEVENT
BEGIN:VEVENT
DTSTART;TZID=America/New_York:20251201T193000
DTEND;TZID=America/New_York:20251201T220000
DTSTAMP:20260424T054813
CREATED:20251119T143032Z
LAST-MODIFIED:20251119T143032Z
UID:10003490-1764617400-1764626400@jewishboca.org
SUMMARY:Tragic Awakening film screening with Producer Raphael Shore
DESCRIPTION:Tragic Awakening explores antisemitism\, the world’s oldest and most enduring form of hate.  The film screening will be followed by a discussion and Q&A with its award-winning producer\, Raphael Shore.  The program will will end with book signing and light refreshments. \nThe entire community is invited.  RSVP essential.
URL:https://jewishboca.org/events/tragic-awakening-film-screening-with-producer-raphael-shore/
LOCATION:Delray Orthodox Synagogue\, 7099 West Atlantic Ave\, Delray Beach\, 33446\, United States
CATEGORIES:Community Events
ATTACH;FMTTYPE=image/jpeg:https://jewishboca.org/wp-content/uploads/2025/11/DOS-December-1.jpg
ORGANIZER;CN="Delray Orthodox Synagogue":MAILTO:DOSSisterhoodEvents@gmail.com
END:VEVENT
BEGIN:VEVENT
DTSTART;VALUE=DATE:20251202
DTEND;VALUE=DATE:20251203
DTSTAMP:20260424T054813
CREATED:20250117T181817Z
LAST-MODIFIED:20250117T181817Z
UID:10002796-1764633600-1764719999@jewishboca.org
SUMMARY:Giving Tuesday
DESCRIPTION:
URL:https://jewishboca.org/events/giving-tuesday-3/
CATEGORIES:Community Events,Federation Events
END:VEVENT
BEGIN:VEVENT
DTSTART;TZID=America/New_York:20251202T080000
DTEND;TZID=America/New_York:20251202T170000
DTSTAMP:20260424T054813
CREATED:20250826T133656Z
LAST-MODIFIED:20250826T133656Z
UID:10003402-1764662400-1764694800@jewishboca.org
SUMMARY:JFS Executive Committee Meeting
DESCRIPTION:JFS Executive Committee Meeting
URL:https://jewishboca.org/events/jfs-executive-committee-meeting-10/
LOCATION:Cooperman Center Classroom
CATEGORIES:Community Events,Jewish Family Services (JFS)
END:VEVENT
BEGIN:VEVENT
DTSTART;TZID=America/New_York:20251202T120000
DTEND;TZID=America/New_York:20251202T140000
DTSTAMP:20260424T054813
CREATED:20250401T133025Z
LAST-MODIFIED:20250407T160149Z
UID:10002899-1764676800-1764684000@jewishboca.org
SUMMARY:An Afternoon with Magen David Adom at Woodfield Country Club
DESCRIPTION:Join us for an inspiring and informative event as we come together to learn more about Magen David Adom\, Israel’s National Emergency Medical Services and its lifesaving work. This special gathering features a dynamic guest speaker who will provide a thought provoking look at peace\, politics\, and how they intersect with MDA’s mission. \nLearn how MDA serves as a beacon of hope and humanitarian aid in times of crisis and gain a deeper understanding of its vital role in emergency response. Whether you are new to MDA or a longtime supporter\, this is a unique opportunity to connect with your community\, ask questions and explore ways to make a difference.
URL:https://jewishboca.org/events/an-afternoon-with-magen-david-adom-at-woodfield-country-club/
LOCATION:Woodfield Country Club\, 3650 Club Pl\, Boca Raton\, FL\, 33496\, United States
CATEGORIES:Community Events,Country Clubs
ATTACH;FMTTYPE=image/jpeg:https://jewishboca.org/wp-content/uploads/2025/03/AFMDA_logo-2024-1.jpg
ORGANIZER;CN="American Friends of Magen David Adom":MAILTO:lviselman@afmda.org
END:VEVENT
BEGIN:VEVENT
DTSTART;TZID=America/New_York:20251202T130000
DTEND;TZID=America/New_York:20251202T150000
DTSTAMP:20260424T054813
CREATED:20251202T150713Z
LAST-MODIFIED:20251202T150713Z
UID:10003498-1764680400-1764687600@jewishboca.org
SUMMARY:Women For Israel "All In For Israel" Annual Card Party
DESCRIPTION:Women for Israel (WFI) is a powerful community of philanthropic women committed to strengthening the land and people of Israel through meaningful action\, education\, and engagement. As one of Jewish National Fund-USA’s fastest-growing divisions\, WFI brings together women who lead with purpose\, passion\, and generosity—advancing critical initiatives from community resilience centers and therapeutic services to environmental restoration\, culinary innovation\, and support for families living on Israel’s frontlines. \nThrough events like our Annual Card Party\, WFI members create connection\, joy\, and impact—while playing a direct role in building a vibrant\, secure\, and thriving future for Israel.
URL:https://jewishboca.org/events/women-for-israel-all-in-for-israel-annual-card-party/
LOCATION:Bnai Torah\, 6261 SW 18th St\, Boca Raton\, FL\, 33433\, United States
CATEGORIES:Community Events
END:VEVENT
BEGIN:VEVENT
DTSTART;TZID=America/New_York:20251202T180000
DTEND;TZID=America/New_York:20251202T190000
DTSTAMP:20260424T054813
CREATED:20250429T162307Z
LAST-MODIFIED:20250429T162307Z
UID:10002999-1764698400-1764702000@jewishboca.org
SUMMARY:JFS Board of Directors Meeting
DESCRIPTION:Board of Directors Meeting
URL:https://jewishboca.org/events/jfs-board-of-directors-meeting-7/
LOCATION:Cooperman Center Classroom
CATEGORIES:Community Events,Jewish Family Services (JFS)
ORGANIZER;CN="Bonnie Goldberg":MAILTO:bonniego@ralesjfs.org
END:VEVENT
BEGIN:VEVENT
DTSTART;TZID=America/New_York:20251203T180000
DTEND;TZID=America/New_York:20251203T190000
DTSTAMP:20260424T054813
CREATED:20250718T193036Z
LAST-MODIFIED:20250718T193119Z
UID:10003338-1764784800-1764788400@jewishboca.org
SUMMARY:P2G Local Committee Meeting #1
DESCRIPTION:First meeting of our local Partnership2Gether committee. We will be coming together to discuss our programs and goals for the year and strategies of implementation. To learn more contact Alysh at alyshae@jewishboca.org or visit www.jewishboca.org/partnership2gether
URL:https://jewishboca.org/events/p2g-local-committee-meeting-1-2/
CATEGORIES:Community Events,Federation Events
ORGANIZER;CN="Alysha Goldstein Erez":MAILTO:Alyshae@bocafed.org
END:VEVENT
BEGIN:VEVENT
DTSTART;TZID=America/New_York:20251203T180000
DTEND;TZID=America/New_York:20251203T200000
DTSTAMP:20260424T054813
CREATED:20250604T173834Z
LAST-MODIFIED:20250604T173834Z
UID:10003187-1764784800-1764792000@jewishboca.org
SUMMARY:Levis JCC Leadership Holiday Party - Option 1
DESCRIPTION:Levis JCC Leadership Holiday Party – Option 1
URL:https://jewishboca.org/events/levis-jcc-leadership-holiday-party-option-1/
CATEGORIES:Community Events
END:VEVENT
BEGIN:VEVENT
DTSTART;TZID=America/New_York:20251204T103000
DTEND;TZID=America/New_York:20251204T143000
DTSTAMP:20260424T054813
CREATED:20250401T150220Z
LAST-MODIFIED:20250401T150220Z
UID:10002903-1764844200-1764858600@jewishboca.org
SUMMARY:JARC Fashion Show
DESCRIPTION:tbd
URL:https://jewishboca.org/events/jarc-fashion-show-2/
LOCATION:Boca West Country Club\, 20583 Boca West Drive\, Boca Raton\, 33434\, United States
CATEGORIES:Community Events
END:VEVENT
BEGIN:VEVENT
DTSTART;TZID=America/New_York:20251204T180000
DTEND;TZID=America/New_York:20251204T200000
DTSTAMP:20260424T054813
CREATED:20250604T173623Z
LAST-MODIFIED:20250604T173623Z
UID:10003188-1764871200-1764878400@jewishboca.org
SUMMARY:Levis JCC Leadership Holiday Party - Option 2
DESCRIPTION:Levis JCC Leadership Holiday Party – Option 2
URL:https://jewishboca.org/events/levis-jcc-leadership-holiday-party-option-2/
CATEGORIES:Community Events
END:VEVENT
BEGIN:VEVENT
DTSTART;TZID=America/New_York:20251204T180000
DTEND;TZID=America/New_York:20251204T213000
DTSTAMP:20260424T054813
CREATED:20241206T212154Z
LAST-MODIFIED:20251117T201451Z
UID:10002757-1764871200-1764883800@jewishboca.org
SUMMARY:Sandler Family Major Gifts Event
DESCRIPTION:Sandler Family Major Gifts Event \nWorld Jewry at a Crossroads\, a Conversation With Dan Senor\, moderated by Gabby Deutch. \nThursday\, December 4\, 2025 at 6pm \nLocation is provided upon registration \nFeaturing Dan Senor \nNew York Times Bestselling co-author\, The Genius of Israel: The Surprising Resilience of a Divided Nation in a Turbulent World and Start-Up Nation: The Story of Israel’s Economic Miracle; and podcast host of the Call Me Back Podcast. \nCo-Chairs: Jane & Eddie Best and Joanna & Bryan Drowos \nCampaign Chair: Bruce Dan  \nCocktails & Dinner. Dietary Laws Observed.  \nCouvert: $200 per person \nA minimum household gift of $10\,000 to the 2026 Jewish Federation of South Palm Beach County Annual Campaign is required to attend. \nFor more information\, please contact Janice Obuchowski at 561-852-3271 or janiceob@jewishboca.org \nThe IRS requires us to inform you that the cost of your couvert is not tax-deductible. A COPY OF THE OFFICIAL REGISTRATION SC-02157 AND FINANCIAL INFORMATION MAY BE OBTAINED FROM THE DIVISION OF CONSUMER SERVICES BY CALLING TOLL-FREE 1-800-HELP-FLA (435-7352) WITHIN THE STATE OF FLORIDA OR (850) 410-3800 OUTSIDE OF THE STATE OF FLORIDA. REGISTRATION DOES NOT IMPLY ENDORSEMENT\, APPROVAL\, OR RECOMMENDATION BY THE STATE.\nRSVP:\nEvent Registration is now closed. \n  \n 
URL:https://jewishboca.org/events/sandler-family-major-gifts-event-opt-2/
CATEGORIES:Community Events,Federation Events,Major Donors
ORGANIZER;CN="Janice Obuchowski":MAILTO:JaniceOb@jewishboca.org
END:VEVENT
BEGIN:VEVENT
DTSTART;TZID=America/New_York:20251206T193000
DTEND;TZID=America/New_York:20251206T230000
DTSTAMP:20260424T054813
CREATED:20251112T202017Z
LAST-MODIFIED:20251112T202017Z
UID:10003485-1765049400-1765062000@jewishboca.org
SUMMARY:Shmooze and Support: Game Night Benefiting Sharsheret
DESCRIPTION:The Jewish Heritage Club is proud to present a special Game Night in support of Sharsheret. \nJoin friends and neighbors for an evening filled with camaraderie\, inspiration\, and purpose. Enjoy a variety of games – Canasta\, Poker\, Mah Jongg\, and more – along with delicious desserts. The evening will also feature uplifting personal stories and a presentation from Sharsheret. \nCome together to play\, connect\, and support a mission that impacts countless lives. \nRegister Here \nFor more information\, contact Randee Handler at 917 459 4101 or Linda Gruenbaum at 201 741 6860.
URL:https://jewishboca.org/events/shmooze-and-support-game-night-benefiting-sharsheret/
CATEGORIES:Community Events
ATTACH;FMTTYPE=image/png:https://jewishboca.org/wp-content/uploads/2025/11/Marketing-for-Sharsheret-Game-Night-Dec-6-2025.png
END:VEVENT
END:VCALENDAR