BEGIN:VCALENDAR
VERSION:2.0
PRODID:-//Jewish Boca - ECPv6.8.3//NONSGML v1.0//EN
CALSCALE:GREGORIAN
METHOD:PUBLISH
X-WR-CALNAME:Jewish Boca
X-ORIGINAL-URL:https://jewishboca.org
X-WR-CALDESC:Events for Jewish Boca
REFRESH-INTERVAL;VALUE=DURATION:PT1H
X-Robots-Tag:noindex
X-PUBLISHED-TTL:PT1H
BEGIN:VTIMEZONE
TZID:America/New_York
BEGIN:DAYLIGHT
TZOFFSETFROM:-0500
TZOFFSETTO:-0400
TZNAME:EDT
DTSTART:20250309T070000
END:DAYLIGHT
BEGIN:STANDARD
TZOFFSETFROM:-0400
TZOFFSETTO:-0500
TZNAME:EST
DTSTART:20251102T060000
END:STANDARD
END:VTIMEZONE
BEGIN:VEVENT
DTSTART;TZID=America/New_York:20250202T080000
DTEND;TZID=America/New_York:20250202T170000
DTSTAMP:20260420T050556
CREATED:20240603T165746Z
LAST-MODIFIED:20240603T165746Z
UID:10002414-1738483200-1738515600@jewishboca.org
SUMMARY:Tu B'shvat with PJ Our Way
DESCRIPTION:
URL:https://jewishboca.org/events/tu-bshvat-with-pj-our-way/
CATEGORIES:Community Events,Federation Events,PJ Library
ORGANIZER;CN="PJ Library%C2%AE":MAILTO:pjlibrary@jewishboca.org
END:VEVENT
BEGIN:VEVENT
DTSTART;TZID=America/New_York:20250203T080000
DTEND;TZID=America/New_York:20250203T143000
DTSTAMP:20260420T050556
CREATED:20240710T165112Z
LAST-MODIFIED:20240710T165112Z
UID:10002497-1738569600-1738593000@jewishboca.org
SUMMARY:JAFCO Golf Classic
DESCRIPTION:Join us for a round of golf to benefit the children of JAFCO!
URL:https://jewishboca.org/events/jafco-golf-classic/
LOCATION:Weston Hills Country Club\, 2600 Country Club Way\, Weston\, 33332\, United States
CATEGORIES:Community Events
ORGANIZER;CN="JAFCO":MAILTO:info@jafco.org
END:VEVENT
BEGIN:VEVENT
DTSTART;TZID=America/New_York:20250203T100000
DTEND;TZID=America/New_York:20250203T130000
DTSTAMP:20260420T050556
CREATED:20241108T172011Z
LAST-MODIFIED:20241108T174259Z
UID:10002750-1738576800-1738587600@jewishboca.org
SUMMARY:JWF Grant Meeting #3 Israel
DESCRIPTION:
URL:https://jewishboca.org/events/jwf-grant-meeting-3-israel/
LOCATION:Zoom
CATEGORIES:Federation Events,Jewish Women's Foundation
ORGANIZER;CN="Lisa Barash":MAILTO:LisaB@jewishboca.org
END:VEVENT
BEGIN:VEVENT
DTSTART;TZID=America/New_York:20250204T114500
DTEND;TZID=America/New_York:20250204T133000
DTSTAMP:20260420T050556
CREATED:20240621T183909Z
LAST-MODIFIED:20240624T153433Z
UID:10002458-1738669500-1738675800@jewishboca.org
SUMMARY:Levis JCC JBiz - Business Networking Event
DESCRIPTION:Levis JCC JBiz – Business Networking Event at Farmer’s Table
URL:https://jewishboca.org/events/levis-jcc-jbiz-business-networking-event-5/
CATEGORIES:Community Events
END:VEVENT
BEGIN:VEVENT
DTSTART;TZID=America/New_York:20250204T173000
DTEND;TZID=America/New_York:20250204T173000
DTSTAMP:20260420T050556
CREATED:20241021T182032Z
LAST-MODIFIED:20241107T182417Z
UID:10002732-1738690200-1738690200@jewishboca.org
SUMMARY:UJA-Federation of New York donor reception
DESCRIPTION:For more information\, please contact Randy Newman at Newmanr@ujafedny.org or (516) 762-5836
URL:https://jewishboca.org/events/uja-federation-of-new-york-donor-reception/
CATEGORIES:Community Events
END:VEVENT
BEGIN:VEVENT
DTSTART;TZID=America/New_York:20250204T190000
DTEND;TZID=America/New_York:20250204T190000
DTSTAMP:20260420T050556
CREATED:20241216T153204Z
LAST-MODIFIED:20241227T142957Z
UID:10002767-1738695600-1738695600@jewishboca.org
SUMMARY:JDAIM South Florida Virtual Challah Bake
DESCRIPTION:Tuesday\, February 4\, 2025 | 7:00PM \nJoin your local Federation and your local Jewish Family Service agency from Miami to Palm Beach to recognize Jewish Disability Awareness\, Acceptance and Inclusion Month\, which takes place in February. Join all of us as we virtually fulfill the mitzvah of baking challah together. Connect with us and learn about the dynamic services we offer to the disability community. \n* All ingredients will be pre measured and shipped directly to you * \nBUILDING AN INCLUSIVE COMMUNITY IS A PRIORITY. Contact Tzippi Rosen by  January 28th and we will make every effort to meet your needs or to answer any questions you might have. tzippiro@bocafed.org\, 561-852-3145. \nFor more information\, please contact Tzippi Rosen at TzippiRo@bocafed.org or (561) 852-3145. \nThe IRS requires to inform you that the cost of your couvert is not tax-deductible. A COPY OF THE OFFICIAL REGISTRATION SC-02157 AND FINANCIAL INFORMATION MAY BE OBTAINED FROM THE DIVISION OF CONSUMER SERVICES BY CALLING TOLL FREE 1-800-HELP-FLA (436-7352) WITHIN THE STATE OF FLORIDA OR 850-410-3800 OUTSIDE OF THE STATE OF FLORIDA. REGISTRATION DOES NOT IMPLY ENDORSEMENT\, OR RECOMMENDATION BY THE STATE.\nRSVP:\nEvent Registration is now closed. \n 
URL:https://jewishboca.org/events/jdaim-south-florida-virtual-challah-bake/
CATEGORIES:Community Events,Federation Events,Special Needs
ORGANIZER;CN="Tzippi Rosen":MAILTO:tzippir@ralesjfs.org
END:VEVENT
BEGIN:VEVENT
DTSTART;TZID=America/New_York:20250204T190000
DTEND;TZID=America/New_York:20250204T220000
DTSTAMP:20260420T050556
CREATED:20241028T131641Z
LAST-MODIFIED:20241028T131641Z
UID:10002739-1738695600-1738706400@jewishboca.org
SUMMARY:Levis JCC Poker Tournament
DESCRIPTION:Levis JCC Poker Tournament
URL:https://jewishboca.org/events/levis-jcc-poker-tournament/
CATEGORIES:Community Events
ORGANIZER;CN="Ilana Ducorsky":MAILTO:Ilanad@levisjcc.org
END:VEVENT
BEGIN:VEVENT
DTSTART;TZID=America/New_York:20250205T090000
DTEND;TZID=America/New_York:20250205T110000
DTSTAMP:20260420T050556
CREATED:20240510T213755Z
LAST-MODIFIED:20240719T001639Z
UID:10002361-1738746000-1738753200@jewishboca.org
SUMMARY:Israel and Overseas Task Force Meeting 3
DESCRIPTION:
URL:https://jewishboca.org/events/tentative-israel-and-overseas-task-force-meeting-3-2/
LOCATION:Levine Board Room\, Boca Raton\, FL\, 33428\, United States
CATEGORIES:Community Events,Federation Events
ORGANIZER;CN="Arielle Elkoby":MAILTO:ariellee@jewishboca.org
END:VEVENT
BEGIN:VEVENT
DTSTART;TZID=America/New_York:20250205T103000
DTEND;TZID=America/New_York:20250205T153000
DTSTAMP:20260420T050556
CREATED:20250115T202404Z
LAST-MODIFIED:20250122T173901Z
UID:10002791-1738751400-1738769400@jewishboca.org
SUMMARY:Boca Grove Visit to Nova Music Festival Exhibition
DESCRIPTION:Join the Jewish Federation of South Palm Beach County for a bus trip to the Nova Music Festival Exhibition in Miami. A must see and our obligation! \nMIAMI |FEBRUARY 5\, 2025 \nBus departs from Boca Grove at 10:30 am \n12 pm Arrival at Nova Exhibit | 12-1:30 pm Exhibit Visit | 1:30 pm Survivor Testimony \nBus returns to Boca Grove at approximately 3:30 pm \nThe approximate cost is $118 based on 25 people. \nFor additional information\, please contact Joana Anker at joanaa@bocafed.org or 561-852-3128. \nThe Nova Music Festival Exhibition is an in-depth remembrance of the brutal massacre at the Nova Music Festival on October 7th. The installation sets out to recreate a music festival dedicated to peace and love that was savagely cut short on that fateful day. The attack at the Nova Music Festival was the largest massacre in music history. This exhibit is presented as a way to empower visitors to responsibly bear witness to the tragic events of October 7th. \nThe IRS requires to inform you that the cost of your couvert is not tax-deductible. A COPY OF THE OFFICIAL REGISTRATION SC-02157 AND FINANCIAL INFORMATION MAY BE OBTAINED FROM THE DIVISION OF CONSUMER SERVICES BY CALLING TOLL FREE 1-800-HELP-FLA (436-7352) WITHIN THE STATE OF FLORIDA OR 850-410-3800 OUTSIDE OF THE STATE OF FLORIDA. REGISTRATION DOES NOT IMPLY ENDORSEMENT\, OR RECOMMENDATION BY THE STATE.
URL:https://jewishboca.org/events/boca-grove-visit-to-nova-music-festival-exhibition/
CATEGORIES:Community Events,Federation Events
ORGANIZER;CN="Joana Anker":MAILTO:joanaa@jewishboca.org
END:VEVENT
BEGIN:VEVENT
DTSTART;TZID=America/New_York:20250205T113000
DTEND;TZID=America/New_York:20250205T133000
DTSTAMP:20260420T050556
CREATED:20250102T140552Z
LAST-MODIFIED:20250102T142316Z
UID:10002778-1738755000-1738762200@jewishboca.org
SUMMARY:ADL Florida’s Annual Partners Against Hate Luncheon
DESCRIPTION:The 2025 Partners Against Hate luncheon is ADL Florida’s most anticipated annual event. Join us as we honor three inspiring individuals\, celebrate the over 30-year legacy of the Jurisprudence Awards\, and bestow our second annual Community Champion Award in memory of Jason Jenkins.
URL:https://jewishboca.org/events/adl-floridas-annual-partners-against-hate-luncheon/
LOCATION:JW Marriott Marquis Miami\, 255 Biscayne Blvd Way\, Miami\, 33131\, United States
CATEGORIES:Community Events
ATTACH;FMTTYPE=image/png:https://jewishboca.org/wp-content/uploads/2024/12/2025-FL-PAH-logo-1.png
ORGANIZER;CN="ADL":MAILTO:florida@adl.org
END:VEVENT
BEGIN:VEVENT
DTSTART;TZID=America/New_York:20250205T130000
DTEND;TZID=America/New_York:20250205T180000
DTSTAMP:20260420T050556
CREATED:20241223T204915Z
LAST-MODIFIED:20241230T160551Z
UID:10002771-1738760400-1738778400@jewishboca.org
SUMMARY:Boca West Visit to Nova Music Festival Exhibition
DESCRIPTION:Join the Jewish Federation of South Palm Beach County for a bus trip to the Nova Music Festival Exhibition in Miami \nMIAMI | FEBRUARY 5\, 2025 \nThe bus will depart from the parking lot across from the Lifestyle Center at 1:00 pm \nBus returns to Boca West at approximately 6:00 pm \nThe approximate cost is $118 based on 25 people. \nFor additional information\, please contact Jessica Matiash at 561.852.5054 or email jessicam@bocafed.org. \nThe Nova Music Festival Exhibition is an in-depth remembrance of the brutal massacre at the Nova Music Festival on October 7th. The installation sets out to recreate a music festival dedicated to peace and love that was savagely cut short on that fateful day. The attack at the Nova Music Festival was the largest massacre in music history. This exhibit is presented as a way to empower visitors to responsibly bear witness to the tragic events of October 7th. \nThe IRS requires to inform you that the cost of your couvert is not tax-deductible. A COPY OF THE OFFICIAL REGISTRATION SC-02157 AND FINANCIAL INFORMATION MAY BE OBTAINED FROM THE DIVISION OF CONSUMER SERVICES BY CALLING TOLL FREE 1-800-HELP-FLA (436-7352) WITHIN THE STATE OF FLORIDA OR 850-410-3800 OUTSIDE OF THE STATE OF FLORIDA. REGISTRATION DOES NOT IMPLY ENDORSEMENT\, OR RECOMMENDATION BY THE STATE.\nRSVP:\nEvent Registration is now closed.
URL:https://jewishboca.org/events/boca-west-nova-music-festival-exhibition/
CATEGORIES:Community Events,Federation Events
ORGANIZER;CN="Jessica Epstein-Matiash":MAILTO:JessicaM@jewishboca.org
END:VEVENT
BEGIN:VEVENT
DTSTART;TZID=America/New_York:20250205T170000
DTEND;TZID=America/New_York:20250205T183000
DTSTAMP:20260420T050556
CREATED:20240806T140705Z
LAST-MODIFIED:20240806T140705Z
UID:10002653-1738774800-1738780200@jewishboca.org
SUMMARY:JARC Strategic Planning Session #3
DESCRIPTION:tbd
URL:https://jewishboca.org/events/jarc-strategic-planning-session-3/
LOCATION:JARC FL\, 21160 95th ave south\, Boca Raton\, FL\, 33428\, United States
CATEGORIES:Community Events
END:VEVENT
BEGIN:VEVENT
DTSTART;TZID=America/New_York:20250205T173000
DTEND;TZID=America/New_York:20250205T193000
DTSTAMP:20260420T050556
CREATED:20240617T141708Z
LAST-MODIFIED:20241227T151059Z
UID:10002445-1738776600-1738783800@jewishboca.org
SUMMARY:Woodfield Country Club event
DESCRIPTION:Join us for a Cocktail Reception featuring Lieutenant Aston Bright. \n \nFlorida native Lt. Aston Bright is an invaluable friend to Israel and the Jewish people. With a background in business and the entertainment industry\, he serves as the Public Information Officer for the Plantation Fire Department. He’s also a member of the Emergency Volunteers Project (EVP)\, an Israeli organization that recruits and trains US firefighters and deploys them to Israel in times of war or crisis. He has served three tours of duty in Israel embedded with the Israel Fire & Rescue Service. Most recently\, he was deployed to the Gaza envelope after the October 7th terrorist attacks. There\, he served alongside Israeli firefighters and the Israel Defense Forces to help respond to the emergencies created by the attack and subsequent war. \nWednesday\, February 5\, 2025 \n5:30-7:30 pm \nWoodfield Country Club\n3650 Club Pl. Boca Raton\, FL 33496 \nCouvert: $100 per person \nA $1\,000 minimum household gift to the 2025 Jewish Federation of South Palm Beach County Annual Campaign is required to attend. \nWoodfield Country Club Event Co-Chairs: \nLaura and Jonathan Beinner  •  Wendy and Les Schlesinger \nFor more information\, please contact Jodi Faden\, JodiF@bocafed.org or 516.902.4943. \n \nRSVP:\nEvent Registration is now closed. \n 
URL:https://jewishboca.org/events/woodfield-country-club-event-2/
LOCATION:Woodfield Country Club\, 3650 Club Pl\, Boca Raton\, FL\, 33496\, United States
CATEGORIES:Community Events,Country Clubs,Federation Events
ORGANIZER;CN="Jodi Faden":MAILTO:jodif@bocafed.org
END:VEVENT
BEGIN:VEVENT
DTSTART;TZID=America/New_York:20250205T180000
DTEND;TZID=America/New_York:20250205T180000
DTSTAMP:20260420T050556
CREATED:20240419T161852Z
LAST-MODIFIED:20240627T160643Z
UID:10002274-1738778400-1738778400@jewishboca.org
SUMMARY:3049 Leadership Series 4
DESCRIPTION:
URL:https://jewishboca.org/events/3049-leadership-series-6/
CATEGORIES:3049,Community Events
ORGANIZER;CN="Allison O'Mara":MAILTO:allisono@jewishboca.org
END:VEVENT
BEGIN:VEVENT
DTSTART;TZID=America/New_York:20250205T180000
DTEND;TZID=America/New_York:20250205T210000
DTSTAMP:20260420T050556
CREATED:20240621T141501Z
LAST-MODIFIED:20240621T141501Z
UID:10002446-1738778400-1738789200@jewishboca.org
SUMMARY:JNF-USA Presidents Society Dinner
DESCRIPTION:For donors of $10\,000 or more to the Annual Campaign.
URL:https://jewishboca.org/events/jnf-usa-presidents-society-dinner/
CATEGORIES:Community Events
END:VEVENT
BEGIN:VEVENT
DTSTART;TZID=America/New_York:20250206T080000
DTEND;TZID=America/New_York:20250206T093000
DTSTAMP:20260420T050556
CREATED:20241209T210040Z
LAST-MODIFIED:20250114T152705Z
UID:10002760-1738828800-1738834200@jewishboca.org
SUMMARY:B&P & PAC Campus Tour
DESCRIPTION:A Campus Experience Like No Other. \nStep inside a bustling hub of activity on the Jewish Federation of South Palm Beach County Campus. Feel the expanse of your community as you tour the more than 100 acres that many of our local agencies and programs call home. Meet your neighbors who train the disabled\, feed the hungry\, educate our youth\, cultivate our Jewish community and care for the elderly. \nYou will leave inspired. \n B&P Campus Tour Co-Chairs: Lindsey & Shira Koolik \nPAC Chair: Bryan Drowos \nB&P & PAC \nTour: 8:00 am to 9:30 am \nThursday\, February 6\, 2025 \n9901 Donna Klein Blvd. Boca Raton\nMeet in front of Federation building promptly by 8:00 am \nFor more information\, contact: Erica Gordon\, Director\, Foundation Development 561.852.3114 or EricaG@bocafed.org  \nBeau Simon\, Development Associate 561.852.3121 or BeauS@bocafed.org \nRSVP:\nEvent Registration is now closed. \n 
URL:https://jewishboca.org/events/bp-campus-tour-2/
LOCATION:Jewish Federation Campus\, 9901 Donna Klein Blvd\, Boca Raton\, FL\, 33428\, United States
CATEGORIES:B&P,Community Events,Federation Events,PAC
ORGANIZER;CN="Beau Simon":MAILTO:BeauS@bocafed.org
END:VEVENT
BEGIN:VEVENT
DTSTART;TZID=America/New_York:20250206T083000
DTEND;TZID=America/New_York:20250206T120000
DTSTAMP:20260420T050556
CREATED:20240301T192918Z
LAST-MODIFIED:20240301T192918Z
UID:10002059-1738830600-1738843200@jewishboca.org
SUMMARY:JNF-USA Annual Winter Connection Brunch
DESCRIPTION:For more information\, contact: \nLaura Sherry  LSherry@jnf.org  561.447.9733 x881
URL:https://jewishboca.org/events/jnf-usa-annual-winter-connection-brunch/
LOCATION:Provided upon Registration\, Aventura
CATEGORIES:Community Events
END:VEVENT
BEGIN:VEVENT
DTSTART;TZID=America/New_York:20250206T090000
DTEND;TZID=America/New_York:20250206T110000
DTSTAMP:20260420T050556
CREATED:20240718T192019Z
LAST-MODIFIED:20240724T145031Z
UID:10002582-1738832400-1738839600@jewishboca.org
SUMMARY:Safety Net Services Task Force Meeting 3
DESCRIPTION:
URL:https://jewishboca.org/events/safety-net-services-task-force-meeting-3-2/
LOCATION:LEVINE BOARDROOM\, FEDERATION CAMPUS\, 9901 DONNA KLEIN BLVD.\, Boca Raton\, FL\, 33428\, United States
CATEGORIES:Community Events,Federation Events
ORGANIZER;CN="Arielle Elkoby":MAILTO:ariellee@jewishboca.org
END:VEVENT
BEGIN:VEVENT
DTSTART;TZID=America/New_York:20250206T101500
DTEND;TZID=America/New_York:20250206T153000
DTSTAMP:20260420T050556
CREATED:20241230T145434Z
LAST-MODIFIED:20250123T165528Z
UID:10002777-1738836900-1738855800@jewishboca.org
SUMMARY:Polo Club - Nova Music Festival Exhibition
DESCRIPTION:Join the Jewish Federation of South Palm Beach County for a bus trip to the Nova Music Festival Exhibition in Miami \nFebruary 6\, 2025 \n10:15am-3:30pm \nBus departs from Polo Club at 10:15 am \nArrival at the Exhibit 11:45 am | Visit 12 pm-1:30 pm | Survivor Testimony 1:30 pm \nBus returns to Polo Club at approximately 3:30 pm \nThe approximate cost is $118 based on 25 people. \nFor additional information\, please contact Joana Anker at joanaa@bocafed.org or 561-852-3128. \nThe Nova Music Festival Exhibition is an in-depth remembrance of the brutal massacre at the Nova Music Festival on October 7th. The installation sets out to recreate a music festival dedicated to peace and love that was savagely cut short on that fateful day. The attack at the Nova Music Festival was the largest massacre in music history. This exhibit is presented as a way to empower visitors to responsibly bear witness to the tragic events of October 7th. \nThe IRS requires to inform you that the cost of your couvert is not tax-deductible. A COPY OF THE OFFICIAL REGISTRATION SC-02157 AND FINANCIAL INFORMATION MAY BE OBTAINED FROM THE DIVISION OF CONSUMER SERVICES BY CALLING TOLL FREE 1-800-HELP-FLA (436-7352) WITHIN THE STATE OF FLORIDA OR 850-410-3800 OUTSIDE OF THE STATE OF FLORIDA. REGISTRATION DOES NOT IMPLY ENDORSEMENT\, OR RECOMMENDATION BY THE STATE.\nRSVP:\nEvent Registration is now closed. To RSVP\, please contact Joana Anker at joanaa@bocafed.org.
URL:https://jewishboca.org/events/polo-club-nova-music-festival-exhibition/
CATEGORIES:Community Events,Federation Events
ORGANIZER;CN="Joana Anker":MAILTO:joanaa@jewishboca.org
END:VEVENT
BEGIN:VEVENT
DTSTART;TZID=America/New_York:20250206T160000
DTEND;TZID=America/New_York:20250206T160000
DTSTAMP:20260420T050556
CREATED:20250129T214010Z
LAST-MODIFIED:20250129T215648Z
UID:10002808-1738857600-1738857600@jewishboca.org
SUMMARY:PJ Library® RSJ Tu B'shvat in the Park
DESCRIPTION:RSJ Tu B’shvat in the Park \nFun\, games\, plants and more \n$5 per child \nPizza and snacks included \nLocation upon registration \nRSVP:\nEvent Registration is now closed. \n 
URL:https://jewishboca.org/events/pj-library-rsj-tu-bshvat-in-the-park/
CATEGORIES:Community Events,Federation Events,PJ Library
END:VEVENT
BEGIN:VEVENT
DTSTART;TZID=America/New_York:20250206T183000
DTEND;TZID=America/New_York:20250206T183000
DTSTAMP:20260420T050556
CREATED:20240326T164743Z
LAST-MODIFIED:20250121T172517Z
UID:10002106-1738866600-1738866600@jewishboca.org
SUMMARY:2025 Broken Sound Annual Gala
DESCRIPTION:Thursday\, February 6 | 6:30 pm | Card House\n \nCocktails\, Hors D’Oeurves\, Dinner & Dessert \nCouvert: $100 per person; $200 per couple \nMinimum Required Gift: $500 Couple | $250 Individual | $300 First-time Attending Couple \nFor Questions Please Call: Cheryl Metzger 732-239-3170 | Gail Loewenstein 201-819-1194 | Carol Brichke 973-650-7184 | Judy Metzger 847-691-2666 \nTo register please contact Broken Sound\nThe IRS requires to inform you that the cost of your couvert is not tax-deductible. A COPY OF THE OFFICIAL REGISTRATION SC-02157 AND FINANCIAL INFORMATION MAY BE OBTAINED FROM THE DIVISION OF CONSUMER SERVICES BY CALLING TOLL FREE 1-800-HELP-FLA (436-7352) WITHIN THE STATE OF FLORIDA OR 850-410-3800 OUTSIDE OF THE STATE OF FLORIDA. REGISTRATION DOES NOT IMPLY ENDORSEMENT\, OR RECOMMENDATION BY THE STATE.\nEvent Registration is now closed. \n 
URL:https://jewishboca.org/events/2025-broken-sound-annual-gala-2/
LOCATION:Broken Sound Club\, 2401 Willow Springs Dr\, Boca Raton\, FL\, 33496\, United States
CATEGORIES:Community Events,Federation Events
END:VEVENT
BEGIN:VEVENT
DTSTART;TZID=America/New_York:20250207T173000
DTEND;TZID=America/New_York:20250207T193000
DTSTAMP:20260420T050556
CREATED:20250121T150800Z
LAST-MODIFIED:20250121T150800Z
UID:10002800-1738949400-1738956600@jewishboca.org
SUMMARY:Super Bowl Shabbat at CBI
DESCRIPTION:Score BIG this Shabbat as we turn the Cohen/Friedkin Sanctuary into the ultimate fan zone. \n5:30 Tailgate Dinner\nKick off the weekend with a tailgate-themed dinner and dessert! Families are invited to wear their favorite NFL team jersey (or any sports team jersey) and join in celebrating shabbat with fans of all ages. \n6:30 Regular Shabbat Service\nCBI Members and SLJ Families are invited to welcome Shabbat and then join our post-game celebration with a build-your-own ice cream bar following services.
URL:https://jewishboca.org/events/super-bowl-shabbat-at-cbi/
LOCATION:Congregation B’nai Israel\, 2200 Yamato Road\, BOCA RATON\, FL\, 33431-4325\, United States
CATEGORIES:Community Events
ATTACH;FMTTYPE=image/png:https://jewishboca.org/wp-content/uploads/2025/01/superbowl.png
ORGANIZER;CN="Congregation B'nai Israel":MAILTO:cbiboca@cbiboca.org
END:VEVENT
BEGIN:VEVENT
DTSTART;VALUE=DATE:20250208
DTEND;VALUE=DATE:20250223
DTSTAMP:20260420T050556
CREATED:20240823T152550Z
LAST-MODIFIED:20240823T152550Z
UID:10002690-1738972800-1740268799@jewishboca.org
SUMMARY:2025 Judy Levis Krug Boca Raton Jewish Film Festival
DESCRIPTION:Enjoy our selection of new Jewish\, Israeli\, and International films\, including many special guests and premiere screenings!
URL:https://jewishboca.org/events/2025-judy-levis-krug-boca-raton-jewish-film-festival/
LOCATION:Movies of Delray\, 7421 W Atlantic Ave\, Delray Beach\, 33446\, United States
CATEGORIES:Community Events
END:VEVENT
BEGIN:VEVENT
DTSTART;TZID=America/New_York:20250208T190000
DTEND;TZID=America/New_York:20250208T210000
DTSTAMP:20260420T050556
CREATED:20240823T152215Z
LAST-MODIFIED:20240823T152215Z
UID:10002692-1739041200-1739048400@jewishboca.org
SUMMARY:2025 Judy Levis Krug Boca Raton Jewish Film Festival Opening Night Film
DESCRIPTION:Join us in kicking off the 2025 edition of the Judy Levis Krug Boca Raton Jewish Film Festival with a very special premiere film at Movies of Delray!
URL:https://jewishboca.org/events/2025-judy-levis-krug-boca-raton-jewish-film-festival-opening-night-film/
LOCATION:Movies of Delray\, 7421 W Atlantic Ave\, Delray Beach\, 33446\, United States
CATEGORIES:Community Events
END:VEVENT
END:VCALENDAR