BEGIN:VCALENDAR
VERSION:2.0
PRODID:-//Jewish Boca - ECPv6.8.3//NONSGML v1.0//EN
CALSCALE:GREGORIAN
METHOD:PUBLISH
X-WR-CALNAME:Jewish Boca
X-ORIGINAL-URL:https://jewishboca.org
X-WR-CALDESC:Events for Jewish Boca
REFRESH-INTERVAL;VALUE=DURATION:PT1H
X-Robots-Tag:noindex
X-PUBLISHED-TTL:PT1H
BEGIN:VTIMEZONE
TZID:America/New_York
BEGIN:DAYLIGHT
TZOFFSETFROM:-0500
TZOFFSETTO:-0400
TZNAME:EDT
DTSTART:20250309T070000
END:DAYLIGHT
BEGIN:STANDARD
TZOFFSETFROM:-0400
TZOFFSETTO:-0500
TZNAME:EST
DTSTART:20251102T060000
END:STANDARD
END:VTIMEZONE
BEGIN:VEVENT
DTSTART;TZID=America/New_York:20250106T093000
DTEND;TZID=America/New_York:20250106T113000
DTSTAMP:20260423T214624
CREATED:20240418T161221Z
LAST-MODIFIED:20240419T140812Z
UID:10002235-1736155800-1736163000@jewishboca.org
SUMMARY:Women's Philanthropy Board Meeting #2
DESCRIPTION:
URL:https://jewishboca.org/events/womens-philanthropy-board-meeting-2-3/
LOCATION:Jewish Federation of South Palm Beach County – Zinman Hall\, 9901 Donna Klein Blvd.\, Boca Raton\, FL\, 33428\, United States
CATEGORIES:Community Events,Federation Events,Women's
ORGANIZER;CN="Kathleen Ben-Shoaff":MAILTO:KathleenB@jewishboca.org
END:VEVENT
BEGIN:VEVENT
DTSTART;TZID=America/New_York:20250107T120000
DTEND;TZID=America/New_York:20250107T120000
DTSTAMP:20260423T214624
CREATED:20240411T202255Z
LAST-MODIFIED:20241209T155136Z
UID:10002188-1736251200-1736251200@jewishboca.org
SUMMARY:PAC Speaker Series Part 2: Philanthropy in the 21st Century
DESCRIPTION:Tuesday\, January 7\, 2025 | 12:00 pm \nThe Colony Group\, 5100 Town Center Circle\, Tower II Suite 150 \nFeaturing: David Saginaw \nPhilanthropic Strategies LLC \nDavid Saginaw’s diverse background as a businessman\, Jewish communal professional\, and volunteer fundraiser provide him with a unique perspective on the world of philanthropy. David served as the Managing Director of Philanthropic Resources at The Jewish Federations of North America (JFNA). He was responsible for providing motivational and solicitation training\, strategic campaign program development and technical assistance to communities of all sizes\, on all issues related to financial resource development. \nMARK YOUR CALENDAR \nPART 3: Tuesday\, May 22\, 2025 | 5:30 pm \nPAC SPEAKER SERIES CO-CHAIRS: Michael Haber\, JD\, CFP and Seth A. Marmor\, Esq. \nFor more information\, please contact Erica Gordon\, Director\, Foundation Development at EricaG@bocafed.org or 561.852.3114. \nRSVP:\nRegistration for PAC Speaker Series Part 2 is now closed. If you have any questions\, please contact Erica Gordon\, Director\, Foundation Development at EricaG@bocafed.org or 561.852.3114. \n 
URL:https://jewishboca.org/events/pac-education-event/
LOCATION:The Colony Group\, Tower II\, 5100 Town Center Circle #150\, Boca Raton\, FL\, 33486\, United States
CATEGORIES:Community Events,Federation Events,PAC
ORGANIZER;CN="Erica Gordon":MAILTO:ericag@bocafed.org
END:VEVENT
BEGIN:VEVENT
DTSTART;TZID=America/New_York:20250107T140000
DTEND;TZID=America/New_York:20250107T160000
DTSTAMP:20260423T214624
CREATED:20241106T170142Z
LAST-MODIFIED:20241106T170328Z
UID:10002747-1736258400-1736265600@jewishboca.org
SUMMARY:Gold Coast Council Meeting
DESCRIPTION:
URL:https://jewishboca.org/events/gold-coast-council-meeting/
CATEGORIES:Federation Events
ORGANIZER;CN="Felice Naide":MAILTO:felicen@bocafed.org
END:VEVENT
BEGIN:VEVENT
DTSTART;TZID=America/New_York:20250107T170000
DTEND;TZID=America/New_York:20250107T200000
DTSTAMP:20260423T214624
CREATED:20241212T182444Z
LAST-MODIFIED:20241212T182444Z
UID:10002764-1736269200-1736280000@jewishboca.org
SUMMARY:The Washington Institute for Near East Policy’s Annual Leadership Circle Dinner
DESCRIPTION:Private major gifts event with reservations required
URL:https://jewishboca.org/events/the-washington-institute-for-near-east-policys-annual-leadership-circle-dinner/
LOCATION:Jupiter\, FL\, Jupiter\, FL
CATEGORIES:Community Events
END:VEVENT
BEGIN:VEVENT
DTSTART;TZID=America/New_York:20250108T093000
DTEND;TZID=America/New_York:20250108T113000
DTSTAMP:20260423T214624
CREATED:20240605T185255Z
LAST-MODIFIED:20240718T160053Z
UID:10002432-1736328600-1736335800@jewishboca.org
SUMMARY:Women's Philanthropy Chapter Two #3
DESCRIPTION:
URL:https://jewishboca.org/events/womens-philanthropy-chapter-two-3-option-1/
CATEGORIES:Community Events,Federation Events,Women's
ORGANIZER;CN="Marissa Vinograd":MAILTO:marissav@bocafed.org
END:VEVENT
BEGIN:VEVENT
DTSTART;TZID=America/New_York:20250108T100000
DTEND;TZID=America/New_York:20250108T120000
DTSTAMP:20260423T214624
CREATED:20240711T131223Z
LAST-MODIFIED:20240711T131223Z
UID:10002508-1736330400-1736337600@jewishboca.org
SUMMARY:Sinai Residences - Campus Tour
DESCRIPTION:
URL:https://jewishboca.org/events/sinai-residences-campus-tour-3/
LOCATION:Jewish Federation Campus\, 9901 Donna Klein Blvd\, Boca Raton\, FL\, 33428\, United States
CATEGORIES:Community Events,Federation Events
ORGANIZER;CN="Michele Namm":MAILTO:michelem@bocafed.org
END:VEVENT
BEGIN:VEVENT
DTSTART;TZID=America/New_York:20250108T113000
DTEND;TZID=America/New_York:20250108T133000
DTSTAMP:20260423T214624
CREATED:20240606T160321Z
LAST-MODIFIED:20250107T143142Z
UID:10002387-1736335800-1736343000@jewishboca.org
SUMMARY:Israel and Overseas Task Force Meeting 2
DESCRIPTION:
URL:https://jewishboca.org/events/tentative-israel-and-overseas-task-force-meeting-2-4/
LOCATION:Levine Board Room\, Boca Raton\, FL\, 33428\, United States
CATEGORIES:Community Events,Federation Events
ORGANIZER;CN="Arielle Elkoby":MAILTO:ariellee@jewishboca.org
END:VEVENT
BEGIN:VEVENT
DTSTART;TZID=America/New_York:20250108T140000
DTEND;TZID=America/New_York:20250108T170000
DTSTAMP:20260423T214624
CREATED:20250108T183501Z
LAST-MODIFIED:20250108T183501Z
UID:10002785-1736344800-1736355600@jewishboca.org
SUMMARY:PJ Library Yiddish Storytime at FAU
DESCRIPTION:
URL:https://jewishboca.org/events/pj-library-yiddish-storytime-at-fau/
LOCATION:FAU Library
CATEGORIES:Community Events,PJ Library
ORGANIZER;CN="PJ Library%C2%AE":MAILTO:pjlibrary@jewishboca.org
END:VEVENT
BEGIN:VEVENT
DTSTART;TZID=America/New_York:20250108T141500
DTEND;TZID=America/New_York:20250108T180000
DTSTAMP:20260423T214624
CREATED:20240603T192113Z
LAST-MODIFIED:20241212T183016Z
UID:10002416-1736345700-1736359200@jewishboca.org
SUMMARY:The Washington Institute for Near East Policy's Annual Florida Symposium
DESCRIPTION:Private event for Trustees with reservations required \nPlease contact Jeanne Epstein at JEpstein@washingtoninstitute.org for more information.
URL:https://jewishboca.org/events/the-washington-institute-for-near-east-policys-annual-florida-symposium/
LOCATION:Palm Beach\, FL
CATEGORIES:Community Events
END:VEVENT
BEGIN:VEVENT
DTSTART;TZID=America/New_York:20250108T170000
DTEND;TZID=America/New_York:20250108T183000
DTSTAMP:20260423T214624
CREATED:20240806T140924Z
LAST-MODIFIED:20240806T140924Z
UID:10002651-1736355600-1736361000@jewishboca.org
SUMMARY:JARC Strategic Planning Session #1
DESCRIPTION:tbd
URL:https://jewishboca.org/events/jarc-strategic-planning-session-1/
LOCATION:JARC FL\, 21160 95th ave south\, Boca Raton\, FL\, 33428\, United States
CATEGORIES:Community Events
END:VEVENT
BEGIN:VEVENT
DTSTART;TZID=America/New_York:20250108T170000
DTEND;TZID=America/New_York:20250108T193000
DTSTAMP:20260423T214624
CREATED:20241015T140116Z
LAST-MODIFIED:20241015T140116Z
UID:10002727-1736355600-1736364600@jewishboca.org
SUMMARY:Levis JCC X Clive Daniel Home Event
DESCRIPTION:Levis JCC X Clive Daniel Home Event
URL:https://jewishboca.org/events/levis-jcc-x-clive-daniel-home-event/
LOCATION:Clive Daniel\, 1351 NW Boca Raton Blvd\, Boca Raton\, FL\, 33432
CATEGORIES:Community Events
ORGANIZER;CN="Ilana Ducorsky":MAILTO:Ilanad@levisjcc.org
END:VEVENT
BEGIN:VEVENT
DTSTART;TZID=America/New_York:20250108T180000
DTEND;TZID=America/New_York:20250108T180000
DTSTAMP:20260423T214624
CREATED:20240419T161655Z
LAST-MODIFIED:20240627T160526Z
UID:10002273-1736359200-1736359200@jewishboca.org
SUMMARY:3049 Leadership Series 3
DESCRIPTION:
URL:https://jewishboca.org/events/3049-leadership-series-5/
CATEGORIES:3049,Community Events
ORGANIZER;CN="Allison O'Mara":MAILTO:allisono@jewishboca.org
END:VEVENT
BEGIN:VEVENT
DTSTART;TZID=America/New_York:20250108T180000
DTEND;TZID=America/New_York:20250108T200000
DTSTAMP:20260423T214624
CREATED:20240410T200530Z
LAST-MODIFIED:20241213T200005Z
UID:10002171-1736359200-1736366400@jewishboca.org
SUMMARY:JWF Trustee Mix & Mingle
DESCRIPTION:Mix and Mingle – Trustees Only \nWednesday\, January 8\, 2025 \n6:00 pm – 8:00 pm \nHighland Beach Club – Clubhouse \n4801 S Ocean Blvd\, Highland Beach\, FL 33487 \nHost: Mara Reuben \nFor more information please contact Lisa Barash at lisab@bocafed.org\, 561-852-3166. \nRSVP:\nEvent Registration is now closed.
URL:https://jewishboca.org/events/jwf-trustee-mix-mingle/
CATEGORIES:Federation Events,Jewish Women's Foundation
ORGANIZER;CN="Lisa Barash":MAILTO:LisaB@jewishboca.org
END:VEVENT
BEGIN:VEVENT
DTSTART;TZID=America/New_York:20250108T193000
DTEND;TZID=America/New_York:20250108T213000
DTSTAMP:20260423T214624
CREATED:20240624T181857Z
LAST-MODIFIED:20241202T215749Z
UID:10002463-1736364600-1736371800@jewishboca.org
SUMMARY:L'Chaim & Laughs Federation Event at Boca West
DESCRIPTION:FEATURING JOEL CHASNOFF \nIsraeli-American Standup Comedian\, Writer and Former IDF Soldier \nWEDNESDAY\, JANUARY 8\, 2025 • 7:30 PM \nDESSERT RECEPTION \nCOUVERT: $80 per person \nA $360 minimum household gift to the 2025 Jewish Federation of South Palm Beach County Annual Campaign is required to attend. \nBOCA WEST HOST COMMITTEE \nSusan and Bruce Cohen \nLanee and Lee Friedel \nPearl and Jeffrey Greenfield \nLauri and Robert Roth \nCarol Swidler \nFor additional information\, contact Jessica Matiash at jessicam@bocafed.org or 561-852-5054. \nThe IRS requires to inform you that the cost of your couvert is not tax-deductible. A COPY OF THE OFFICIAL REGISTRATION SC-02157 AND FINANCIAL INFORMATION MAY BE OBTAINED FROM THE DIVISION OF CONSUMER SERVICES BY CALLING TOLL FREE 1-800-HELP-FLA (436-7352) WITHIN THE STATE OF FLORIDA OR 850-410-3800 OUTSIDE OF THE STATE OF FLORIDA. REGISTRATION DOES NOT IMPLY ENDORSEMENT\, OR RECOMMENDATION BY THE STATE.\nRSVP:\nEvent Registration is now closed.
URL:https://jewishboca.org/events/lchaim-laughs-boca-west/
LOCATION:Boca West Country Club\, 20583 Boca West Drive\, Boca Raton\, 33434\, United States
CATEGORIES:Community Events,Country Clubs,Federation Events
ORGANIZER;CN="Jessica Epstein-Matiash":MAILTO:JessicaM@jewishboca.org
END:VEVENT
BEGIN:VEVENT
DTSTART;TZID=America/New_York:20250109T100000
DTEND;TZID=America/New_York:20250109T100000
DTSTAMP:20260423T214624
CREATED:20241119T164922Z
LAST-MODIFIED:20241206T155438Z
UID:10002752-1736416800-1736416800@jewishboca.org
SUMMARY:St. Andrews Food Bagging at the Jacobson Family Food Pantry
DESCRIPTION:Join us on January 9\, 2025 at 10:00am \nJacobson Family Food Pantry\, a program of Ruth & Norman Rales Jewish Family Services \n430 S. Congress Ave.\, Unit 1C\, Delray Beach \nCo-Chairs: Debbie Gross & Lorraine Udwin \nPlease consider donating: tuna\, peanut butter\, jelly\, rice\, quinoa\, pasta\, couscous\, beans\, vegetarian soups\, canned fruits and vegetables\, cereal\, oatmeal \nFor more information\, please contact Ida Novack at 561.852.3342 or email IdaN@bocafed.org \nRSVP:\nEvent Registration is now closed.
URL:https://jewishboca.org/events/st-andrews-food-bagging-at-the-jacobson-family-food-pantry/
LOCATION:Jacobson Family Food Pantry\, 430 S. Congress Avenue\, Delray Beach\, FL\, 33484\, United States
CATEGORIES:Community Events,Federation Events
ORGANIZER;CN="Ida Novack":MAILTO:idan@jewishboca.org
END:VEVENT
BEGIN:VEVENT
DTSTART;TZID=America/New_York:20250109T173000
DTEND;TZID=America/New_York:20250109T193000
DTSTAMP:20260423T214624
CREATED:20240325T182450Z
LAST-MODIFIED:20240325T182450Z
UID:10002097-1736443800-1736451000@jewishboca.org
SUMMARY:Levis JCC Eastside Pop Up Happy Hour
DESCRIPTION:Levis JCC Eastside Pop Up Happy Hour
URL:https://jewishboca.org/events/levis-jcc-eastside-pop-up-happy-hour-2/
CATEGORIES:Community Events
ORGANIZER;CN="Ilana Ducorsky":MAILTO:Ilanad@levisjcc.org
END:VEVENT
BEGIN:VEVENT
DTSTART;TZID=America/New_York:20250109T173000
DTEND;TZID=America/New_York:20250109T210000
DTSTAMP:20260423T214624
CREATED:20240418T135500Z
LAST-MODIFIED:20240718T160758Z
UID:10002216-1736443800-1736456400@jewishboca.org
SUMMARY:Federation Leadership Gift Event
DESCRIPTION:
URL:https://jewishboca.org/events/federation-leadership-gift-event/
CATEGORIES:Community Events,Federation Events,Major Donors
ORGANIZER;CN="Ida Novack":MAILTO:idan@jewishboca.org
END:VEVENT
BEGIN:VEVENT
DTSTART;VALUE=DATE:20250110
DTEND;VALUE=DATE:20250111
DTSTAMP:20260423T214624
CREATED:20240501T175751Z
LAST-MODIFIED:20240501T175751Z
UID:10002300-1736467200-1736553599@jewishboca.org
SUMMARY:Asara B'tevet (Fast Day)
DESCRIPTION:
URL:https://jewishboca.org/events/asara-btevet-fast-day-2/
CATEGORIES:Community Events,Federation Events
END:VEVENT
END:VCALENDAR