BEGIN:VCALENDAR
VERSION:2.0
PRODID:-//Jewish Boca - ECPv6.8.3//NONSGML v1.0//EN
CALSCALE:GREGORIAN
METHOD:PUBLISH
X-WR-CALNAME:Jewish Boca
X-ORIGINAL-URL:https://jewishboca.org
X-WR-CALDESC:Events for Jewish Boca
REFRESH-INTERVAL;VALUE=DURATION:PT1H
X-Robots-Tag:noindex
X-PUBLISHED-TTL:PT1H
BEGIN:VTIMEZONE
TZID:America/New_York
BEGIN:DAYLIGHT
TZOFFSETFROM:-0500
TZOFFSETTO:-0400
TZNAME:EDT
DTSTART:20230312T070000
END:DAYLIGHT
BEGIN:STANDARD
TZOFFSETFROM:-0400
TZOFFSETTO:-0500
TZNAME:EST
DTSTART:20231105T060000
END:STANDARD
TZID:UTC
BEGIN:STANDARD
TZOFFSETFROM:+0000
TZOFFSETTO:+0000
TZNAME:UTC
DTSTART:20230101T000000
END:STANDARD
END:VTIMEZONE
BEGIN:VEVENT
DTSTART;TZID=America/New_York:20230220T100000
DTEND;TZID=America/New_York:20230220T110000
DTSTAMP:20260421T090609
CREATED:20230113T165900Z
LAST-MODIFIED:20230113T170114Z
UID:10001079-1676887200-1676890800@jewishboca.org
SUMMARY:PJ Library - Pack the Pantry
DESCRIPTION:Bring your children and grandchildren and join us for a morning of helping others! \nMonday\, February 20\, 2023\n10:00 – 11:00 AM \nJacobson Family Food Pantry at JFS\n430 S. Congress Ave.\, Delay Beach \nSpace is limited. Registration is required. \nPlease bring non-perishable breakfast items for the pantry (e.g. cereal\, oatmeal\, cereal bars\, pancake mix\, etc). \nFor directions or for more information\, contact Elana Ostroff at pjlibrary@bocafed.org. \nRSVP:\nEvent Registration is now closed.
URL:https://jewishboca.org/events/pj-library-pack-the-pantry/
LOCATION:Jacobson Family Food Pantry\, 430 S. Congress Avenue\, Delray Beach\, FL\, 33484\, United States
CATEGORIES:Community Events,Federation Events,PJ Library
ORGANIZER;CN="Elana Ostroff":MAILTO:ElanaO@jewishboca.org
END:VEVENT
BEGIN:VEVENT
DTSTART;TZID=America/New_York:20230222T100000
DTEND;TZID=America/New_York:20230222T100000
DTSTAMP:20260421T090609
CREATED:20220930T223150Z
LAST-MODIFIED:20221031T165339Z
UID:10000853-1677060000-1677060000@jewishboca.org
SUMMARY:Have a Heart Luncheon & Card Party @ Mirasol
DESCRIPTION:Have a Heart Luncheon & Card Party
URL:https://jewishboca.org/events/have-a-heart-luncheon-card-party-mirasol/
LOCATION:The Country Club at Mirasol\, 11600 Mirasol Way\, Palm Beach Gardens\, FL\, 33418\, United States
CATEGORIES:Community Events
ORGANIZER;CN="Jensen Luttinger":MAILTO:jensen@jafco.org
END:VEVENT
BEGIN:VEVENT
DTSTART;TZID=America/New_York:20230222T100000
DTEND;TZID=America/New_York:20230222T120000
DTSTAMP:20260421T090609
CREATED:20220930T223149Z
LAST-MODIFIED:20221104T153024Z
UID:10000851-1677060000-1677067200@jewishboca.org
SUMMARY:Safety Net Services Task Force Meeting 1
DESCRIPTION:
URL:https://jewishboca.org/events/local-task-force-meeting-2/
CATEGORIES:Community Events
END:VEVENT
BEGIN:VEVENT
DTSTART;TZID=America/New_York:20230222T163000
DTEND;TZID=America/New_York:20230222T173000
DTSTAMP:20260421T090609
CREATED:20221027T154824Z
LAST-MODIFIED:20221027T160441Z
UID:10000931-1677083400-1677087000@jewishboca.org
SUMMARY:Federation Executive Committee Meeting
DESCRIPTION:
URL:https://jewishboca.org/events/federation-executive-committee-meeting/2023-02-22/
LOCATION:Jewish Federation of South Palm Beach County in Zinman Hall\, 9901 Donna Klein Blvd\, Boca Raton\, FL\, 33428\, United States
CATEGORIES:Community Events,Federation Events,Federation Executive Committee
ORGANIZER;CN="Jessica Rykus":MAILTO:jessicar@bocafed.org
END:VEVENT
BEGIN:VEVENT
DTSTART;TZID=America/New_York:20230223T110000
DTEND;TZID=America/New_York:20230223T130000
DTSTAMP:20260421T090609
CREATED:20220930T223148Z
LAST-MODIFIED:20221108T194206Z
UID:10000849-1677150000-1677157200@jewishboca.org
SUMMARY:I&O Task Force Meeting 4
DESCRIPTION:
URL:https://jewishboca.org/events/io-task-force-meeting-5/
LOCATION:Levine Board Room\, Boca Raton\, FL\, 33428\, United States
CATEGORIES:Community Events
ORGANIZER;CN="Arielle Elkoby":MAILTO:ariellee@jewishboca.org
END:VEVENT
BEGIN:VEVENT
DTSTART;TZID=America/New_York:20230223T180000
DTEND;TZID=America/New_York:20230223T200000
DTSTAMP:20260421T090609
CREATED:20221230T185131Z
LAST-MODIFIED:20230223T193915Z
UID:10001067-1677175200-1677182400@jewishboca.org
SUMMARY:YAD Sushi Making Cooking Class
DESCRIPTION:Join Jewish Federation’s Young Adult Division for a fun evening of sushi making and mingling. \nCommunity members in your 20’s\, the Jewish Federation of South Palm Beach County has a whole group of likeminded people ready to welcome you. YAD opens the door to a full spectrum of fun\, social\, philanthropic\, and leadership opportunities. Come join us! \nThursday\, February 23\, 2023 | 6 pm \nPremium Kitchens \n7400 N Federal Hwy\, Boca Raton \nCo-Chairs: Lindsey and Shira Koolik \nYoung Adult Division\, Ages 21-29 \nCouvert: $36 per person \nSpace is limited. First 15 people who register will take home a sushi making mat and chopsticks. \nDietary laws observed and vegan options available. \n \nClass being led by: \nIris Dahoah \nChef\, Lalush by Iris Dahoah \n  \nFor more information\, contact Sandy Baum at 561-852 6065 or sandyb@bocafed.org. \nRSVP:\n\n 
URL:https://jewishboca.org/events/yad-cooking-event/
LOCATION:Premium Kitchens Boca Raton\, 7400 N Federal Hwy\, Boca Raton\, FL\, 3487\, United States
CATEGORIES:Community Events,Federation Events
ORGANIZER;CN="Sandy Baum":MAILTO:SandyB@bocafed.org
END:VEVENT
BEGIN:VEVENT
DTSTART;TZID=America/New_York:20230223T180000
DTEND;TZID=America/New_York:20230223T200000
DTSTAMP:20260421T090609
CREATED:20230111T175056Z
LAST-MODIFIED:20230119T155854Z
UID:10001078-1677175200-1677182400@jewishboca.org
SUMMARY:PJWC - Professional Jewish Women's Collective
DESCRIPTION:Dedicated to bringing together women of all ages and backgrounds\, members of the Professional Jewish Women’s Collective (PJWC) nurture each other’s careers\, provide kinship and counsel\, and make an impact through philanthropy. The PJWC is an initiative of the Jewish Federation of South Palm Beach County. \nNanette Fridman \nStorytelling as Your Personal Brand \nFebruary 23\, 2023 | 6:00-8:00 pm \nInteriors by Brown 4501 North Federal Highway\, Boca Raton \nPJWC Co-Chairs: Jill Poser-Kammet and Lisa Friedman-Clark \n$65 per person \nDietary Laws Observed \n NANETTE FRIDMAN With more than 25 years of experience\, Nanette Fridman is a strategist\, facilitator and coach for values-driven organizations and leaders. Her work specializes in leadership and team development\, planning\, governance\, and fundraising. Nanette partners with clients across sectors ranging from small start-ups to large international organizations to advance their missions and maximize their impact. \nBefore founding Fridman Strategies\, Inc. in 2006\, Nanette was a corporate attorney and helped her firm launch its Israel business practice. Prior to her legal career\, Nanette was the national field director for an advocacy organization in Washington\, DC. Originally from Rhode Island\, Nanette earned her Juris Doctorate\, cum laude\, and Master’s in Public Policy from Georgetown University. She received her BA\, summa cum laude\, in political science from Tufts University. Nanette also studied at the Hebrew University in Jerusalem. Nanette is honored to be a Harry S. Truman Scholar. \nA minimum gift of $1\,000 to the UJA/Jewish Federation of South Palm Beach County Annual Campaign is required to attend. \nFor more information\, contact: Rachel Harri Weiser\, Director\, Business Philanthropy (561) 852-3128 or rachelwe@bocafed.org \nRSVP:\nEvent Registration is now closed
URL:https://jewishboca.org/events/pjwc-professional-jewish-womens-collective/
LOCATION:Interiors by Brown\, 4501 North Federal Highway\, Boca Raton\, FL\, 33431\, United States
CATEGORIES:Community Events,Federation Events,Professional Jewish Women’s Collective
END:VEVENT
BEGIN:VEVENT
DTSTART;TZID=UTC:20230224T080000
DTEND;TZID=UTC:20230224T100000
DTSTAMP:20260421T090609
CREATED:20221013T222730Z
LAST-MODIFIED:20230502T134548Z
UID:10000235-1677225600-1677232800@jewishboca.org
SUMMARY:B&P Breakfast Networking Series
DESCRIPTION:B&P Breakfast Networking Series\nBe a part of the Jewish Federation of South Palm Beach County’s Business & Professional Division. B&P is the premier business network for local Jewish professionals to grow their business\, broaden their networks and do good in the world by helping others. \nAll Programs: 8:00 – 10:00 am \n$36 per person/per event. \nA minimum gift of $1\,000 to the 2023 UJA/Jewish Federation of South Palm Beach County Annual Campaign is required to attend. \nDietary laws observed. \nB&P Division Chairs: \nMichelle Hollister & Ken Lebersfeld \nBreakfast Networking Series Chairs: \nJeffrey Bovarnick & Matthew Maschler \nFor more information\, contact:\nRachel Weiser\, Director\, Business Philanthropy\ntel: 561-852-3128 rachelwe@bocafed.org \n \nThe June 8th event has been cancelled.
URL:https://jewishboca.org/events/bp-breakfast-networking-series-7/2023-02-24/
LOCATION:Farmers Table Event Center @ Wyndham Boca Raton\, 1950 Glades Road\, Boca Raton\, FL\, 33431\, United States
CATEGORIES:B&P,Community Events,Federation Events
ATTACH;FMTTYPE=image/jpeg:https://jewishboca.org/wp-content/uploads/2022/09/BP-BREAKFN.jpg
END:VEVENT
END:VCALENDAR