BEGIN:VCALENDAR
VERSION:2.0
PRODID:-//Jewish Boca - ECPv6.8.3//NONSGML v1.0//EN
CALSCALE:GREGORIAN
METHOD:PUBLISH
X-ORIGINAL-URL:https://jewishboca.org
X-WR-CALDESC:Events for Jewish Boca
REFRESH-INTERVAL;VALUE=DURATION:PT1H
X-Robots-Tag:noindex
X-PUBLISHED-TTL:PT1H
BEGIN:VTIMEZONE
TZID:UTC
BEGIN:STANDARD
TZOFFSETFROM:+0000
TZOFFSETTO:+0000
TZNAME:UTC
DTSTART:20220101T000000
END:STANDARD
TZID:America/New_York
BEGIN:DAYLIGHT
TZOFFSETFROM:-0500
TZOFFSETTO:-0400
TZNAME:EDT
DTSTART:20220313T070000
END:DAYLIGHT
BEGIN:STANDARD
TZOFFSETFROM:-0400
TZOFFSETTO:-0500
TZNAME:EST
DTSTART:20221106T060000
END:STANDARD
END:VTIMEZONE
BEGIN:VEVENT
DTSTART;VALUE=DATE:20221211
DTEND;VALUE=DATE:20221214
DTSTAMP:20260421T090257
CREATED:20220930T102655Z
LAST-MODIFIED:20221031T164906Z
UID:10000535-1670716800-1670975999@jewishboca.org
SUMMARY:International Lion of Judah Conference 2022
DESCRIPTION:
URL:https://jewishboca.org/events/iloj-conference-2022/
CATEGORIES:Community Events,Federation Events,Lion of Judah
ORGANIZER;CN="Kathleen Ben-Shoaff":MAILTO:KathleenB@jewishboca.org
END:VEVENT
BEGIN:VEVENT
DTSTART;TZID=UTC:20221211T090000
DTEND;TZID=UTC:20221211T190000
DTSTAMP:20260421T090257
CREATED:20220930T102655Z
LAST-MODIFIED:20221031T165323Z
UID:10000534-1670749200-1670785200@jewishboca.org
SUMMARY:Limmud Boca 2022
DESCRIPTION:
URL:https://jewishboca.org/events/limmud-boca-2022/
LOCATION:Katz Yeshiva High School\, Boca Raton\, FL\, 33428\, United States
CATEGORIES:Community Events
ORGANIZER;CN="Shayna Chazin":MAILTO:chazinshayna@gmail.com
END:VEVENT
BEGIN:VEVENT
DTSTART;TZID=America/New_York:20221211T160000
DTEND;TZID=America/New_York:20221211T190000
DTSTAMP:20260421T090257
CREATED:20221101T171034Z
LAST-MODIFIED:20221101T171034Z
UID:10000999-1670774400-1670785200@jewishboca.org
SUMMARY:Yachad Fun Run
DESCRIPTION:For more information\, contact Simone Broide at broides@ou.org or 561-929-4568
URL:https://jewishboca.org/events/yachad-fun-run/
CATEGORIES:Community Events
ORGANIZER;CN="Simone Broide":MAILTO:broides@ou.org
END:VEVENT
BEGIN:VEVENT
DTSTART;TZID=UTC:20221212T173000
DTEND;TZID=UTC:20221212T173000
DTSTAMP:20260421T090257
CREATED:20220930T102654Z
LAST-MODIFIED:20221114T161137Z
UID:10000531-1670866200-1670866200@jewishboca.org
SUMMARY:PAC Roundtable Discussion Series
DESCRIPTION:Open to all current and eligible PAC members and professionals. \nPAC consists of trust & estate attorneys\, CPAs\, financial planners & wealth advisors\, and insurance professionals who work with their clients to make planned gifts to the Jewish community. \nThis two-part series is designed to: \n• Learn about the impact of your clients’ gifts on the Federation and Jewish community. \n• Learn tips for having conversations about charitable planned giving. \n• Build personal relationships with other professionals in breakout groups. \n• Get continuing philanthropic education. \n• Gain expertise and estate planning techniques for charitable giving. \nPanelists and Group Leaders: \nJeffrey A. Baskies\, Esq.\, \nPAC Education Committee Chair \nLaurence I. Blair\, Esq. \nBryan Drowos CFP®\, CPWA® \nThomas R. Kaplan\, MBA \nDavid Pratt\, Esq. \nMark Schaum\, Esq.\, CPA \nRichard D. Steinberg\, CFA \nPart 1: Monday\, December 12\, 2022 5:30 pm \nPart 2: Monday\, May 22\, 2023 5:30 pm \nThe Colony Group \nTower II\, 5100 Town Center Cir #150\, Boca Raton\, FL 33486 \nFor more information\, please contact Erica Gordon\, Director\, Foundation Development at EricaG@bocafed.org or 561.852.3114. \nRSVP:\n\n 
URL:https://jewishboca.org/events/pac-roundtable-discussion-series-part-1/
LOCATION:The Colony Group\, Tower II\, 5100 Town Center Circle #150\, Boca Raton\, FL\, 33486\, United States
CATEGORIES:Community Events,Federation Events,PAC
ORGANIZER;CN="Erica Gordon":MAILTO:ericag@bocafed.org
END:VEVENT
BEGIN:VEVENT
DTSTART;TZID=America/New_York:20221213T160000
DTEND;TZID=America/New_York:20221213T170000
DTSTAMP:20260421T090257
CREATED:20221207T175040Z
LAST-MODIFIED:20221207T175040Z
UID:10001052-1670947200-1670950800@jewishboca.org
SUMMARY:Global Connections with Robert Siegel:  Crime in America
DESCRIPTION:Global Connections with Robert Siegel:  Crime in America \nRobert Siegel (former Senior Host of NPR’s All Things Considered for 31 years) interviews: \nRosa Brooks (Scott K. Ginsburg Professor of Law & Policy – Georgetown Law Center) \nChuck Wexler (Executive Director\, Police Executive Research Forum) \nRichard Berk (Professor Emeritus\, Criminology & Statistics\, University of Pennsylvania) \nTuesday\, December 13 @ 4pm ET \nFREE REGISTRATION:   https://globalconnections.splashthat.com \nWatch live:  https://tinyurl.com/3et22nam
URL:https://jewishboca.org/events/global-connections-with-robert-siegel-crime-in-america/
LOCATION:Zoom
CATEGORIES:Community Events
ORGANIZER;CN="Adriane Kiss":MAILTO:adriane@afrmc.org
END:VEVENT
BEGIN:VEVENT
DTSTART;TZID=UTC:20221213T173000
DTEND;TZID=UTC:20221213T183000
DTSTAMP:20260421T090257
CREATED:20220930T102554Z
LAST-MODIFIED:20221114T181917Z
UID:10000527-1670952600-1670956200@jewishboca.org
SUMMARY:JFS Executive Cmte Meeting 12.13.2022
DESCRIPTION:Governance Meeting
URL:https://jewishboca.org/events/jfs-executive-cmte-meeting-12-13-2022/
CATEGORIES:Community Events,Jewish Family Services (JFS)
ORGANIZER;CN="Bonnie Goldberg":MAILTO:bonniego@ralesjfs.org
END:VEVENT
BEGIN:VEVENT
DTSTART;TZID=UTC:20221214T173000
DTEND;TZID=UTC:20221214T210000
DTSTAMP:20260421T090257
CREATED:20220930T102554Z
LAST-MODIFIED:20221101T162949Z
UID:10000526-1671039000-1671051600@jewishboca.org
SUMMARY:AJC Palm Beach County 2022 Advocacy in Action Dinner
DESCRIPTION:AJC Palm Beach County Advocacy in Action Dinner is a prestigious Palm Beach County event that includes a cocktail reception and dinner. The evening highlights American Jewish Committee’s global Jewish advocacy and serves as a premier philanthropic and networking event\, drawing prominent guests from across Palm Beach County.
URL:https://jewishboca.org/events/ajc-palm-beach-county-2022-advocacy-in-action-dinner-3/
CATEGORIES:Community Events
ORGANIZER;CN="Laurence Milstein":MAILTO:milsteinlr@ajc.org
END:VEVENT
BEGIN:VEVENT
DTSTART;TZID=America/New_York:20221215T093000
DTEND;TZID=America/New_York:20221215T093000
DTSTAMP:20260421T090257
CREATED:20220930T102453Z
LAST-MODIFIED:20221031T165324Z
UID:10000521-1671096600-1671096600@jewishboca.org
SUMMARY:Chapter Two for Men #1
DESCRIPTION:
URL:https://jewishboca.org/events/chapter-two-for-men-1/
CATEGORIES:Community Events
ORGANIZER;CN="Janice Obuchowski":MAILTO:JaniceOb@jewishboca.org
END:VEVENT
BEGIN:VEVENT
DTSTART;TZID=America/New_York:20221215T110000
DTEND;TZID=America/New_York:20221215T140000
DTSTAMP:20260421T090257
CREATED:20220930T102454Z
LAST-MODIFIED:20221031T165325Z
UID:10000523-1671102000-1671112800@jewishboca.org
SUMMARY:Cafe Europa at BTC December 2022
DESCRIPTION:Holocaust Survivor Luncheon
URL:https://jewishboca.org/events/cafe-europa-at-btc-december-2022/
LOCATION:B’nai Torah Congregation\, 6261 SW 18th St\, Boca Raton\, F\, 33433\, United States
CATEGORIES:Community Events
ORGANIZER;CN="Jill Waldman":MAILTO:jillw@ralesjfs.org
END:VEVENT
BEGIN:VEVENT
DTSTART;TZID=UTC:20221215T173000
DTEND;TZID=UTC:20221215T193000
DTSTAMP:20260421T090257
CREATED:20220930T102454Z
LAST-MODIFIED:20221013T221549Z
UID:10000524-1671125400-1671132600@jewishboca.org
SUMMARY:Levis JCC Leadership Holiday Party
DESCRIPTION:Levis JCC Leadership Holiday Party for our Community Partners and Board of Directors.
URL:https://jewishboca.org/events/levis-jcc-leadership-holiday-party/
CATEGORIES:Community Events
END:VEVENT
BEGIN:VEVENT
DTSTART;TZID=America/New_York:20221215T180000
DTEND;TZID=America/New_York:20221215T193000
DTSTAMP:20260421T090257
CREATED:20221101T170516Z
LAST-MODIFIED:20221207T155032Z
UID:10000998-1671127200-1671132600@jewishboca.org
SUMMARY:DKJA Board Meeting
DESCRIPTION:
URL:https://jewishboca.org/events/dkja-board-meeting-5/
CATEGORIES:Community Events,Federation Events
END:VEVENT
BEGIN:VEVENT
DTSTART;TZID=America/New_York:20221216T120000
DTEND;TZID=America/New_York:20221216T150000
DTSTAMP:20260421T090257
CREATED:20220930T102354Z
LAST-MODIFIED:20221013T221827Z
UID:10000519-1671192000-1671202800@jewishboca.org
SUMMARY:2022 Federation Holiday Party
DESCRIPTION:
URL:https://jewishboca.org/events/2022-federation-holiday-party/
LOCATION:Zinman Hall
CATEGORIES:Community Events,Federation Events
ORGANIZER;CN="Jessica Rykus":MAILTO:jessicar@bocafed.org
END:VEVENT
END:VCALENDAR