BEGIN:VCALENDAR
VERSION:2.0
PRODID:-//Jewish Boca - ECPv6.8.3//NONSGML v1.0//EN
CALSCALE:GREGORIAN
METHOD:PUBLISH
X-ORIGINAL-URL:https://jewishboca.org
X-WR-CALDESC:Events for Jewish Boca
REFRESH-INTERVAL;VALUE=DURATION:PT1H
X-Robots-Tag:noindex
X-PUBLISHED-TTL:PT1H
BEGIN:VTIMEZONE
TZID:America/New_York
BEGIN:DAYLIGHT
TZOFFSETFROM:-0500
TZOFFSETTO:-0400
TZNAME:EDT
DTSTART:20230312T070000
END:DAYLIGHT
BEGIN:STANDARD
TZOFFSETFROM:-0400
TZOFFSETTO:-0500
TZNAME:EST
DTSTART:20231105T060000
END:STANDARD
END:VTIMEZONE
BEGIN:VEVENT
DTSTART;TZID=America/New_York:20230601T160000
DTEND;TZID=America/New_York:20230601T170000
DTSTAMP:20260422T120629
CREATED:20230330T142631Z
LAST-MODIFIED:20230330T142631Z
UID:10001307-1685635200-1685638800@jewishboca.org
SUMMARY:Program Founding Council Final Meeting (option2)
DESCRIPTION:
URL:https://jewishboca.org/events/program-founding-council-final-meeting-option2/
LOCATION:Crazy Uncle Mike’s\, 6450 N Federal Hwy\, Boca Raton\, FL\, 33487\, United States
CATEGORIES:Community Events,Federation Events
ORGANIZER;CN="Arielle Elkoby":MAILTO:ariellee@jewishboca.org
END:VEVENT
BEGIN:VEVENT
DTSTART;TZID=America/New_York:20230601T163000
DTEND;TZID=America/New_York:20230601T180000
DTSTAMP:20260422T120629
CREATED:20230426T205631Z
LAST-MODIFIED:20230530T183305Z
UID:10001364-1685637000-1685642400@jewishboca.org
SUMMARY:New-ish and Jewish in South Palm Beach County Happy Hour
DESCRIPTION:This event has been cancelled\, however\, we look forward to connecting with you. Please contact Janice Obuchowski at janiceob@bocafed.org or 561-852-3271 for information. \n 
URL:https://jewishboca.org/events/new-ish-and-jewish-in-south-palm-beach-happy-hour/
LOCATION:TAP 42\, 5050 Town Center Circle\, Boca Raton\, FL\, 33486\, United States
CATEGORIES:Community Events,Federation Events
ORGANIZER;CN="Janice Obuchowski":MAILTO:JaniceOb@jewishboca.org
END:VEVENT
BEGIN:VEVENT
DTSTART;TZID=America/New_York:20230604T100000
DTEND;TZID=America/New_York:20230604T143000
DTSTAMP:20260422T120629
CREATED:20230328T202056Z
LAST-MODIFIED:20230328T202056Z
UID:10001302-1685872800-1685889000@jewishboca.org
SUMMARY:KHDS 8th Annual Family Golf Outing
DESCRIPTION:KHDS 8th Annual Family Golf Outing to benefit our scholarship fund. \nFun for the whole family!
URL:https://jewishboca.org/events/khds-8th-annual-family-golf-outing/
LOCATION:Boca Delray Golf & Country Club
CATEGORIES:Community Events
ORGANIZER;CN="Suzanne Rice":MAILTO:suzanner@hilleldayschool.org
END:VEVENT
BEGIN:VEVENT
DTSTART;TZID=America/New_York:20230604T110000
DTEND;TZID=America/New_York:20230604T120000
DTSTAMP:20260422T120629
CREATED:20230512T205825Z
LAST-MODIFIED:20230512T205825Z
UID:10001462-1685876400-1685880000@jewishboca.org
SUMMARY:Reproductive Freedom Town Hall: Take Action to Restore Reproductive Rights in Florida
DESCRIPTION:The entire community is invited to attend a vital Reproductive Freedom Town Hall: Take Action to Restore Reproductive Rights in Florida at Temple Beth El of Boca Raton on Sunday\, June 4\, 2023 at 11:00 am at their Schaefer Family Campus in east Boca Raton. A statewide coalition of organizations led by Planned Parenthood and including Temple Beth El of Boca Raton\, the Religious Action Center of Reform Judaism (RAC)\, the ACLU\, the National Council of Jewish Women and other interfaith organization are leading an effort to amend the Florida Constitution to enshrine abortion access through at least 24-weeks of pregnancy into law. This would be done by passing a ballot initiative during the election in November 2024.  Nearly 1\,000\,000 signatures will need to be collected to get the amendment on the ballot In November. Temple Beth El of Boca Raton and other Florida Reform congregations\, working with the Religious Action Center of Reform Judaism\, are committed to pursuing Reproductive freedom. Recently\, an effort to restore reproductive rights has been announced through putting forth a ballot initiative in 2024. Nearly 1\,000\,000 signatures will need to be collected to make this happen. \n  \nJoin us on Sunday\, June 4 at 11:00 am at the Schaefer Family Campus to learn more about this effort. Leaders from Temple Beth El and RAC-FL will discuss how a coalition across the State of Florida are working together to make this happen. \nCLICK HERE TO REGISTER. \nReform Jewish leaders from around the state will be gathering to strategize and learn how we can best support this effort. \nYou can also register for the launch of the RAC-FL Campaign to advance Reproductive Justice in Florida by clicking here.
URL:https://jewishboca.org/events/reproductive-freedom-town-hall-take-action-to-restore-reproductive-rights-in-florida/
LOCATION:Temple Beth El of Boca Raton\, 333 S.W. 4th Avenue\, Boca Raton\, 33432\, United States
CATEGORIES:Community Events
ATTACH;FMTTYPE=image/jpeg:https://jewishboca.org/wp-content/uploads/2023/05/2023-Town-Hall-Abortion-Ban-v3.jpg
ORGANIZER;CN="Temple Beth El of Boca Raton":MAILTO:sstallone@tbeboca.org
END:VEVENT
BEGIN:VEVENT
DTSTART;TZID=America/New_York:20230606T103000
DTEND;TZID=America/New_York:20230606T140000
DTSTAMP:20260422T120629
CREATED:20220930T203436Z
LAST-MODIFIED:20221114T181915Z
UID:10000692-1686047400-1686060000@jewishboca.org
SUMMARY:JFS Spring Cafe Europa 2023 June
DESCRIPTION:JFS Luncheon for Holocaust Survivors
URL:https://jewishboca.org/events/jfs-spring-cafe-europa-2023-june/
LOCATION:B’nai Torah Congregation\, 6261 SW 18th St\, Boca Raton\, F\, 33433\, United States
CATEGORIES:Community Events,Jewish Family Services (JFS)
ORGANIZER;CN="Jill Waldman":MAILTO:jillw@ralesjfs.org
END:VEVENT
BEGIN:VEVENT
DTSTART;TZID=America/New_York:20230606T163000
DTEND;TZID=America/New_York:20230606T173000
DTSTAMP:20260422T120629
CREATED:20220927T194834Z
LAST-MODIFIED:20230428T170215Z
UID:10000933-1686069000-1686072600@jewishboca.org
SUMMARY:Federation Executive Committee Meeting
DESCRIPTION:
URL:https://jewishboca.org/events/federation-executive-committee-meeting-31/
LOCATION:Jewish Federation of South Palm Beach County – Levine Board Room\, 9901 Donna Klein Blvd.\, Boca Raton
CATEGORIES:Community Events,Federation Events,Federation Executive Committee
ORGANIZER;CN="Jessica Rykus":MAILTO:jessicar@bocafed.org
END:VEVENT
BEGIN:VEVENT
DTSTART;TZID=America/New_York:20230606T173000
DTEND;TZID=America/New_York:20230606T183000
DTSTAMP:20260422T120629
CREATED:20220930T203237Z
LAST-MODIFIED:20230428T170251Z
UID:10000688-1686072600-1686076200@jewishboca.org
SUMMARY:Federation Board of Directors Meeting
DESCRIPTION:
URL:https://jewishboca.org/events/federation-board-of-directors-meeting-13/
LOCATION:Jewish Federation of South Palm Beach County – Zinman Hall\, 9901 Donna Klein Blvd.\, Boca Raton\, FL\, 33428\, United States
CATEGORIES:Community Events,Federation Events
ORGANIZER;CN="Jessica Rykus":MAILTO:jessicar@bocafed.org
END:VEVENT
BEGIN:VEVENT
DTSTART;TZID=America/New_York:20230607T173000
DTEND;TZID=America/New_York:20230607T190000
DTSTAMP:20260422T120629
CREATED:20221101T160015Z
LAST-MODIFIED:20221101T160015Z
UID:10000974-1686159000-1686164400@jewishboca.org
SUMMARY:DKJA Board Meeting
DESCRIPTION:
URL:https://jewishboca.org/events/dkja-board-meeting-2/
CATEGORIES:Community Events,Federation Events
END:VEVENT
BEGIN:VEVENT
DTSTART;TZID=America/New_York:20230608T093000
DTEND;TZID=America/New_York:20230608T093000
DTSTAMP:20260422T120629
CREATED:20220930T203436Z
LAST-MODIFIED:20221031T165544Z
UID:10000691-1686216600-1686216600@jewishboca.org
SUMMARY:KHDS Kindergarten Graduation 2023
DESCRIPTION:KHDS Kindergarten Graduation
URL:https://jewishboca.org/events/khds-kindergarten-graduation-2023/
CATEGORIES:Community Events
ORGANIZER;CN="Gwenn Baer":MAILTO:gbaer@hilleldayschool.org
END:VEVENT
BEGIN:VEVENT
DTSTART;TZID=America/New_York:20230608T100000
DTEND;TZID=America/New_York:20230608T114500
DTSTAMP:20260422T120629
CREATED:20230518T130307Z
LAST-MODIFIED:20230518T130307Z
UID:10001484-1686218400-1686224700@jewishboca.org
SUMMARY:Sinai Residences Campus Tour
DESCRIPTION:Thursday\, June 8\, 2023 \n10:00 am – 11:45 am \n• Group will meet in the large card room at the Sinai Residences West Campus at 10:00 am \n• Bus will leave promptly at 10:10 am \nA Campus Experience Like No Other. \nStep inside a bustling hub of activity at the Jewish Federation of South Palm Beach County Campus. Feel the expanse of your community as you tour the more than 100 acres that many of our local agencies and programs call home. Meet your neighbors who train the disabled\, feed the hungry\, educate our youth\, cultivate our Jewish community and care for the elderly. \nYou will be inspired. \nFor more information\, please contact Michelle Namm at 561.852.6088 or email michelen@bocafed.org. \nRSVP:
URL:https://jewishboca.org/events/sinai-residences-campus-tour/
LOCATION:Jewish Federation Campus\, 9901 Donna Klein Blvd\, Boca Raton\, FL\, 33428\, United States
CATEGORIES:Community Events,Federation Events
ORGANIZER;CN="Michele Namm":MAILTO:michelem@bocafed.org
END:VEVENT
BEGIN:VEVENT
DTSTART;TZID=America/New_York:20230609T083000
DTEND;TZID=America/New_York:20230609T083000
DTSTAMP:20260422T120629
CREATED:20220930T203436Z
LAST-MODIFIED:20221013T221549Z
UID:10000690-1686299400-1686299400@jewishboca.org
SUMMARY:Levis JCC Executive Committee Mtg
DESCRIPTION:Levis JCC Executive Committee Mtg
URL:https://jewishboca.org/events/levis-jcc-executive-committee-mtg-3/
CATEGORIES:Community Events
END:VEVENT
BEGIN:VEVENT
DTSTART;TZID=America/New_York:20230614T160000
DTEND;TZID=America/New_York:20230614T170000
DTSTAMP:20260422T120629
CREATED:20230517T180045Z
LAST-MODIFIED:20230517T180045Z
UID:10001482-1686758400-1686762000@jewishboca.org
SUMMARY:Global Connections with Robert Siegel: Changing Times in Real Estate
DESCRIPTION:Global Connections with Robert Siegel: Changing Times in Real Estate  \nRobert Siegel (former Senior Host of NPR’s All Things Considered for 31 years) interviews: \nScott Rechler (Chairman & CEO of RXR) \nProfessor Stijn Van Nieuwerburgh (Earl Kazis and Benjamin Shore Professor of Real Estate\, Columbia Business School) \nWednesday\, June 14th @ 4pm  \nFREE REGISTRATION:  https://globalconnections.splashthat.com
URL:https://jewishboca.org/events/global-connections-with-robert-siegel-changing-times-in-real-estate/
LOCATION:Zoom
CATEGORIES:Community Events
ATTACH;FMTTYPE=image/png:https://jewishboca.org/wp-content/uploads/2023/05/Canva-small-.png
ORGANIZER;CN="American Friends of Rabin Medical Center":MAILTO:afrmc@afrmc.org
END:VEVENT
BEGIN:VEVENT
DTSTART;TZID=America/New_York:20230614T173000
DTEND;TZID=America/New_York:20230614T190000
DTSTAMP:20260422T120629
CREATED:20230306T164643Z
LAST-MODIFIED:20230510T164233Z
UID:10001262-1686763800-1686769200@jewishboca.org
SUMMARY:PJ Library Sweet Summer Series with Chabad of West Boca
DESCRIPTION:• Wednesday\, June 14\, 5:30-7 pm\nUncle Louie G’s \n19575 State Road 7\, Unit 18\, Boca Raton \nIn partnership with Chabad of West Boca \nFor more information\, please contact PJ Library Director Elana Ostroff at pjlibrary@bocafed.org or 561-852-6080. \nRSVP:
URL:https://jewishboca.org/events/pj-library-sweet-summer-ice-cream-event-2/
CATEGORIES:Community Events,Federation Events,PJ Library
ORGANIZER;CN="Elana Ostroff":MAILTO:ElanaO@jewishboca.org
END:VEVENT
BEGIN:VEVENT
DTSTART;TZID=America/New_York:20230615T183000
DTEND;TZID=America/New_York:20230615T183000
DTSTAMP:20260422T120629
CREATED:20220930T203237Z
LAST-MODIFIED:20230524T143248Z
UID:10000687-1686853800-1686853800@jewishboca.org
SUMMARY:YAD Summer Happy Hour
DESCRIPTION:Jewish Young Adults in your 20’s\, join the Jewish Federation of South Palm Beach County’s Young Adult Division for a fun summer outing connecting with new and old friends! \nJune 15\, 2023 | 6:30pm \nBiergarten Boca \n309 Via De Palmas #90\, Boca Raton (Upstairs area) \nCouvert: $18 in advance\, $25 at the door \nCo-Chairs: Lindsey and Shira Koolik \nDelicious Kosher lite bites and first drink on us. \nFor more information\, contact Sandy Baum at 561-852 6065 or sandyb@bocafed.org. \nRSVP:
URL:https://jewishboca.org/events/yad-summer-happy-hour/
LOCATION:Biergarten\, 309 Via De Palmas #90\, Boca Raton\, FL\, 33432\, United States
CATEGORIES:3049,Community Events,Federation Events
ORGANIZER;CN="Sandy Baum":MAILTO:SandyB@bocafed.org
END:VEVENT
BEGIN:VEVENT
DTSTART;TZID=America/New_York:20230621T173000
DTEND;TZID=America/New_York:20230621T190000
DTSTAMP:20260422T120629
CREATED:20230306T164919Z
LAST-MODIFIED:20230510T164351Z
UID:10001263-1687368600-1687374000@jewishboca.org
SUMMARY:PJ Library Sweet Summer Series with Boca Raton Synagogue
DESCRIPTION:• Wednesday\, June 21\, 5:30-7 pm\nYogurt Rendezvous – Del Mar Shopping Center \n7150 Beracasa Way\, Boca Raton \nIn partnership with Boca Raton Synagogue \nFor more information\, please contact PJ Library Director Elana Ostroff at pjlibrary@bocafed.org or 561-852-6080. \nRSVP:\n\n 
URL:https://jewishboca.org/events/pj-library-sweet-summer-ice-cream-event-5/
CATEGORIES:Community Events,Federation Events,PJ Library
ORGANIZER;CN="Elana Ostroff":MAILTO:ElanaO@jewishboca.org
END:VEVENT
BEGIN:VEVENT
DTSTART;TZID=America/New_York:20230622T173000
DTEND;TZID=America/New_York:20230622T173000
DTSTAMP:20260422T120629
CREATED:20230504T162445Z
LAST-MODIFIED:20230518T124451Z
UID:10001427-1687455000-1687455000@jewishboca.org
SUMMARY:PAC Summer Networking Happy Hour
DESCRIPTION:Join us for the next PAC Networking Happy Hour. Bring your fellow estate planning colleagues and mingle with the PAC. \nThursday\, June 22\, 2023 • 5:30 p.m \nPrezzo – 5560 N. Military Trail\, Boca Raton \nCouvert: $25 \nLite bites will be served. \nPAC Networking Happy Hour Chair: Stephanie Midler\, CIMA®\, CFP® \nPAC Chair: Bryan M. Drowos\, CFP®\, CPWA® \nFor more information\, please contact Erica Gordon\, Director\, Foundation Development at EricaG@bocafed.org or 561.852.3114. \n \nRSVP:
URL:https://jewishboca.org/events/pac-summer-networking-happy-hour/
LOCATION:Prezzo\, 5560 N. Military Trail\, Boca Raton\, FL\, 33496\, United States
CATEGORIES:Community Events,Federation Events,PAC
ORGANIZER;CN="Erica Gordon":MAILTO:ericag@bocafed.org
END:VEVENT
BEGIN:VEVENT
DTSTART;TZID=America/New_York:20230628T173000
DTEND;TZID=America/New_York:20230628T190000
DTSTAMP:20260422T120629
CREATED:20230306T165039Z
LAST-MODIFIED:20230510T164443Z
UID:10001264-1687973400-1687978800@jewishboca.org
SUMMARY:PJ Library Sweet Summer Series with Congregation B'nai Israel
DESCRIPTION:• Wednesday\, June 28\, 5:30-7 pm\nSloan’s – Uptown Boca \n9690 Glades Road\, Suite 350\, Boca Raton \nIn partnership with Congregation B’nai Israel \nFor more information\, please contact PJ Library Director Elana Ostroff at pjlibrary@bocafed.org or 561-852-6080. \nRSVP:
URL:https://jewishboca.org/events/pj-library-sweet-summer-ice-cream-event-6/
CATEGORIES:Community Events,Federation Events,PJ Library
ORGANIZER;CN="Elana Ostroff":MAILTO:ElanaO@jewishboca.org
END:VEVENT
BEGIN:VEVENT
DTSTART;TZID=America/New_York:20230629T194500
DTEND;TZID=America/New_York:20230629T194500
DTSTAMP:20260422T120629
CREATED:20230623T183114Z
LAST-MODIFIED:20230623T183307Z
UID:10001619-1688067900-1688067900@jewishboca.org
SUMMARY:Truman & the State of Israel
DESCRIPTION:Guest Speaker: Robert P. Watson\, Ph.D. \nThursday\, June 29\, 2023 \n7:45pm \nSymphony Hall at Sinai Residences \nFor more information contact Michele Namm at 561.852.6088 or email michelen@bocafed.org. \nWE LOOK FORWARD TO SEEING YOU!
URL:https://jewishboca.org/events/truman-the-state-of-israel/
LOCATION:Sinai Residences\, 21036 95th Avenue South\, Boca Raton\, FL\, 33428\, United States
CATEGORIES:Community Events,Federation Events
ORGANIZER;CN="Michele Namm":MAILTO:michelem@bocafed.org
END:VEVENT
END:VCALENDAR