BEGIN:VCALENDAR
VERSION:2.0
PRODID:-//Jewish Boca - ECPv6.8.3//NONSGML v1.0//EN
CALSCALE:GREGORIAN
METHOD:PUBLISH
X-WR-CALNAME:Jewish Boca
X-ORIGINAL-URL:https://jewishboca.org
X-WR-CALDESC:Events for Jewish Boca
REFRESH-INTERVAL;VALUE=DURATION:PT1H
X-Robots-Tag:noindex
X-PUBLISHED-TTL:PT1H
BEGIN:VTIMEZONE
TZID:America/New_York
BEGIN:DAYLIGHT
TZOFFSETFROM:-0500
TZOFFSETTO:-0400
TZNAME:EDT
DTSTART:20230312T070000
END:DAYLIGHT
BEGIN:STANDARD
TZOFFSETFROM:-0400
TZOFFSETTO:-0500
TZNAME:EST
DTSTART:20231105T060000
END:STANDARD
END:VTIMEZONE
BEGIN:VEVENT
DTSTART;TZID=America/New_York:20231204T160000
DTEND;TZID=America/New_York:20231204T160000
DTSTAMP:20260421T190320
CREATED:20230524T193323Z
LAST-MODIFIED:20230524T193328Z
UID:10001525-1701705600-1701705600@jewishboca.org
SUMMARY:JWF Prospective Trustee Orientation and Mock Review
DESCRIPTION:
URL:https://jewishboca.org/events/jwf-prospective-trustee-orientation-and-mock-review/
LOCATION:Private Home\, Boca Raton\, FL\, 33428\, United States
CATEGORIES:Community Events,Federation Events,Jewish Women's Foundation
ORGANIZER;CN="Tanya Miller":MAILTO:tanyam@bocafed.org
END:VEVENT
END:VCALENDAR