BEGIN:VCALENDAR
VERSION:2.0
PRODID:-//Jewish Boca - ECPv6.8.3//NONSGML v1.0//EN
CALSCALE:GREGORIAN
METHOD:PUBLISH
X-WR-CALNAME:Jewish Boca
X-ORIGINAL-URL:https://jewishboca.org
X-WR-CALDESC:Events for Jewish Boca
REFRESH-INTERVAL;VALUE=DURATION:PT1H
X-Robots-Tag:noindex
X-PUBLISHED-TTL:PT1H
BEGIN:VTIMEZONE
TZID:America/New_York
BEGIN:DAYLIGHT
TZOFFSETFROM:-0500
TZOFFSETTO:-0400
TZNAME:EDT
DTSTART:20250309T070000
END:DAYLIGHT
BEGIN:STANDARD
TZOFFSETFROM:-0400
TZOFFSETTO:-0500
TZNAME:EST
DTSTART:20251102T060000
END:STANDARD
END:VTIMEZONE
BEGIN:VEVENT
DTSTART;TZID=America/New_York:20250313T180000
DTEND;TZID=America/New_York:20250313T190000
DTSTAMP:20260421T063807
CREATED:20240221T181657Z
LAST-MODIFIED:20240718T200708Z
UID:10002046-1741888800-1741892400@jewishboca.org
SUMMARY:JFS Board of Directors Meeting
DESCRIPTION:JFS Board of Directors Meeting
URL:https://jewishboca.org/events/jfs-board-of-directors-meeting-2/2025-03-13/
LOCATION:Cooperman Center Classroom
CATEGORIES:Community Events,Jewish Family Services (JFS)
END:VEVENT
END:VCALENDAR