BEGIN:VCALENDAR
VERSION:2.0
PRODID:-//Jewish Boca - ECPv6.8.3//NONSGML v1.0//EN
CALSCALE:GREGORIAN
METHOD:PUBLISH
X-ORIGINAL-URL:https://jewishboca.org
X-WR-CALDESC:Events for Jewish Boca
REFRESH-INTERVAL;VALUE=DURATION:PT1H
X-Robots-Tag:noindex
X-PUBLISHED-TTL:PT1H
BEGIN:VTIMEZONE
TZID:America/New_York
BEGIN:DAYLIGHT
TZOFFSETFROM:-0500
TZOFFSETTO:-0400
TZNAME:EDT
DTSTART:20260308T070000
END:DAYLIGHT
BEGIN:STANDARD
TZOFFSETFROM:-0400
TZOFFSETTO:-0500
TZNAME:EST
DTSTART:20261101T060000
END:STANDARD
END:VTIMEZONE
BEGIN:VEVENT
DTSTART;TZID=America/New_York:20260513T090000
DTEND;TZID=America/New_York:20260513T100000
DTSTAMP:20260420T075045
CREATED:20250617T155711Z
LAST-MODIFIED:20250617T163126Z
UID:10003249-1778662800-1778666400@jewishboca.org
SUMMARY:PFC Task Force Final Meeting
DESCRIPTION:
URL:https://jewishboca.org/events/io-task-force-final-meeting/
LOCATION:Zoom
CATEGORIES:Community Events,Federation Events
ORGANIZER;CN="Arielle Elkoby":MAILTO:ariellee@jewishboca.org
END:VEVENT
BEGIN:VEVENT
DTSTART;TZID=America/New_York:20260513T163000
DTEND;TZID=America/New_York:20260513T173000
DTSTAMP:20260420T075045
CREATED:20250416T200334Z
LAST-MODIFIED:20250417T143431Z
UID:10002966-1778689800-1778693400@jewishboca.org
SUMMARY:JJCF Investment Committee Mtg
DESCRIPTION:
URL:https://jewishboca.org/events/jjcf-investment-committee-mtg-3/
LOCATION:Focus Partners Wealth\, 5100 Town Center Circle\, Tower II\, Suite 150\, Boca Raton\, 33486\, United States
CATEGORIES:Community Events,Federation Events
ORGANIZER;CN="Lottie Nilsen":MAILTO:lottien@bocafed.org
END:VEVENT
BEGIN:VEVENT
DTSTART;TZID=America/New_York:20260513T173000
DTEND;TZID=America/New_York:20260513T183000
DTSTAMP:20260420T075045
CREATED:20250416T200446Z
LAST-MODIFIED:20250417T143509Z
UID:10002967-1778693400-1778697000@jewishboca.org
SUMMARY:JJCF Board of Trustees Mtg
DESCRIPTION:
URL:https://jewishboca.org/events/jjcf-board-of-trustees-mtg-2/
LOCATION:Focus Partners Wealth\, 5100 Town Center Circle\, Tower II\, Suite 150\, Boca Raton\, 33486\, United States
CATEGORIES:Community Events,Federation Events
ORGANIZER;CN="Lottie Nilsen":MAILTO:lottien@bocafed.org
END:VEVENT
BEGIN:VEVENT
DTSTART;TZID=America/New_York:20260514T160000
DTEND;TZID=America/New_York:20260514T180000
DTSTAMP:20260420T075045
CREATED:20260320T183159Z
LAST-MODIFIED:20260320T193950Z
UID:10003563-1778774400-1778781600@jewishboca.org
SUMMARY:PJ Library® Shavuot Ice Cream Drop In
DESCRIPTION:PJ Library® invites you to a sweet afternoon at Lily’s Handmade Ice Cream. \nThursday\, May 14\, 2026 \n4:00pm – 6:00pm \nLet’s cone-nect over ice cream and crafts to celebrate an early Shavuot! \nSpace is limited. \nRSVP required for your child to receive an ice cream on us. \nℹ︎pjlibrary@jewishboca.org or 561.852.6080 \nRSVP:\n\n\n                \n                        Email(Required)\n                            \n                        Name(Required)\n                            \n                            \n                                                    First\n                                                    \n                                                \n                            \n                            \n                                                            Last\n                                                            \n                                                        \n                            \n                        Address(Required)    \n                    \n                         \n                                        Street Address\n                                        \n                                   \n                                        Address Line 2\n                                        \n                                    \n                                    City\n                                    \n                                 \n                                        State\n                                        AlabamaAlaskaAmerican SamoaArizonaArkansasCaliforniaColoradoConnecticutDelawareDistrict of ColumbiaFloridaGeorgiaGuamHawaiiIdahoIllinoisIndianaIowaKansasKentuckyLouisianaMaineMarylandMassachusettsMichiganMinnesotaMississippiMissouriMontanaNebraskaNevadaNew HampshireNew JerseyNew MexicoNew YorkNorth CarolinaNorth DakotaNorthern Mariana IslandsOhioOklahomaOregonPennsylvaniaPuerto RicoRhode IslandSouth CarolinaSouth DakotaTennesseeTexasUtahU.S. Virgin IslandsVermontVirginiaWashingtonWest VirginiaWisconsinWyomingArmed Forces AmericasArmed Forces EuropeArmed Forces Pacific\n                                      \n                                    ZIP Code\n                                    \n                                \n                    \n                Cell PhonePhone(Required)By checking this box I agree to receive text messages from PJ Library/The Jewish Federation of South Palm Beach County.\n								\n								Yes\n							Terms & Conditions and Privacy PolicyBy registering\, I agree to the Jewish Federation of South Palm Beach County’s Terms & Conditions and Privacy Policy. To opt out\, contact digitalmarketing@jewishboca.org\n								\n								I agree\n							Number of children attending(Required)Select...1 Child2 Children3 Children4 Children5 ChildrenNames and ages of children attending(Required)Number of adults attending(Required)Select...1 Adult2 Adults3 Adults4 Adults5 AdultsDo you currently receive a PJ Library subscription?(Required)Select...YesNoHow did you hear about us?Choose...Monthly E-NewsletterE-Mail from FederationDirect mail pieceBilling statementPledge cardAdvertisementFriendFamilyFacebookTwitterAttended Federation EventCAPTCHA
URL:https://jewishboca.org/events/pj-library-shavuot-ice-cream-drop-in/
CATEGORIES:Community Events,Federation Events,PJ Library
ORGANIZER;CN="PJ Library%C2%AE":MAILTO:pjlibrary@jewishboca.org
END:VEVENT
BEGIN:VEVENT
DTSTART;TZID=America/New_York:20260514T180000
DTEND;TZID=America/New_York:20260514T200000
DTSTAMP:20260420T075045
CREATED:20250721T140619Z
LAST-MODIFIED:20250721T140619Z
UID:10003343-1778781600-1778788800@jewishboca.org
SUMMARY:3049ish Committee Meeting
DESCRIPTION:
URL:https://jewishboca.org/events/3049ish-committee-meeting-5/
LOCATION:Jewish Federation Campus\, 9901 Donna Klein Blvd\, Boca Raton\, FL\, 33428\, United States
CATEGORIES:3049,Community Events,Federation Events
ORGANIZER;CN="Allison O'Mara":MAILTO:allisono@jewishboca.org
END:VEVENT
BEGIN:VEVENT
DTSTART;TZID=America/New_York:20260514T193000
DTEND;TZID=America/New_York:20260514T200000
DTSTAMP:20260420T075045
CREATED:20250519T181942Z
LAST-MODIFIED:20250519T181942Z
UID:10003129-1778787000-1778788800@jewishboca.org
SUMMARY:Yom Yerushalayaim
DESCRIPTION:Begins at Sundown
URL:https://jewishboca.org/events/yom-yerushalayaim/
CATEGORIES:Community Events,Federation Events
END:VEVENT
BEGIN:VEVENT
DTSTART;VALUE=DATE:20260515
DTEND;VALUE=DATE:20260516
DTSTAMP:20260420T075045
CREATED:20250519T182035Z
LAST-MODIFIED:20250519T182035Z
UID:10003130-1778803200-1778889599@jewishboca.org
SUMMARY:Yom Yerushalayim
DESCRIPTION:All Day
URL:https://jewishboca.org/events/yom-yerushalayim-4/
CATEGORIES:Community Events,Federation Events
END:VEVENT
END:VCALENDAR