BEGIN:VCALENDAR
VERSION:2.0
PRODID:-//Jewish Boca - ECPv6.8.3//NONSGML v1.0//EN
CALSCALE:GREGORIAN
METHOD:PUBLISH
X-WR-CALNAME:Jewish Boca
X-ORIGINAL-URL:https://jewishboca.org
X-WR-CALDESC:Events for Jewish Boca
REFRESH-INTERVAL;VALUE=DURATION:PT1H
X-Robots-Tag:noindex
X-PUBLISHED-TTL:PT1H
BEGIN:VTIMEZONE
TZID:America/New_York
BEGIN:DAYLIGHT
TZOFFSETFROM:-0500
TZOFFSETTO:-0400
TZNAME:EDT
DTSTART:20250309T070000
END:DAYLIGHT
BEGIN:STANDARD
TZOFFSETFROM:-0400
TZOFFSETTO:-0500
TZNAME:EST
DTSTART:20251102T060000
END:STANDARD
END:VTIMEZONE
BEGIN:VEVENT
DTSTART;TZID=America/New_York:20250127T173000
DTEND;TZID=America/New_York:20250127T213000
DTSTAMP:20260423T133136
CREATED:20240410T172636Z
LAST-MODIFIED:20240410T172643Z
UID:10002159-1737999000-1738013400@jewishboca.org
SUMMARY:Wexner Seminar
DESCRIPTION:Levine Board Room
URL:https://jewishboca.org/events/wexner-seminar-26/
LOCATION:Jewish Federation of South Palm Beach County – Levine Board Room\, 9901 Donna Klein Blvd.\, Boca Raton
CATEGORIES:Community Events,Federation Events
ORGANIZER;CN="Jessica Rykus":MAILTO:jessicar@bocafed.org
END:VEVENT
BEGIN:VEVENT
DTSTART;TZID=America/New_York:20250128T160000
DTEND;TZID=America/New_York:20250128T190000
DTSTAMP:20260423T133136
CREATED:20240411T203512Z
LAST-MODIFIED:20241108T170907Z
UID:10002191-1738080000-1738090800@jewishboca.org
SUMMARY:JWF Grant Meeting #2
DESCRIPTION:
URL:https://jewishboca.org/events/jwf-grant-meeting-2-2/
LOCATION:Proskauer\, One Boca Place 2255 Glades Road Suite 421 Atrium\, Boca Raton\, FL\, 33431\, United States
CATEGORIES:Federation Events,Jewish Women's Foundation
ORGANIZER;CN="Lisa Barash":MAILTO:LisaB@jewishboca.org
END:VEVENT
BEGIN:VEVENT
DTSTART;TZID=America/New_York:20250129T090000
DTEND;TZID=America/New_York:20250129T110000
DTSTAMP:20260423T133136
CREATED:20240603T164643Z
LAST-MODIFIED:20240724T212739Z
UID:10002409-1738141200-1738148400@jewishboca.org
SUMMARY:Safety Net Services Task Force Meeting 2
DESCRIPTION:
URL:https://jewishboca.org/events/safety-net-services-task-force-meeting-2-2/
LOCATION:LEVINE BOARDROOM\, FEDERATION CAMPUS\, 9901 DONNA KLEIN BLVD.\, Boca Raton\, FL\, 33428\, United States
CATEGORIES:Community Events,Federation Events
ORGANIZER;CN="Arielle Elkoby":MAILTO:ariellee@jewishboca.org
END:VEVENT
BEGIN:VEVENT
DTSTART;TZID=America/New_York:20250130T104500
DTEND;TZID=America/New_York:20250130T140000
DTSTAMP:20260423T133136
CREATED:20240109T152805Z
LAST-MODIFIED:20250117T181816Z
UID:10001909-1738233900-1738245600@jewishboca.org
SUMMARY:Lion of Judah Luncheon
DESCRIPTION:Empowerment Through Resilience \nWomen Leading Change and Advocating for Israel \nThursday\, January 30\, 2025 \nB’nai Torah Congregation\n6261 SW 18th St\nBoca Raton \n10:45 AM Registration | 11:30 AM Program & Speaker \n \nEvent Co-Chairs: Marissa Hollander and Karen Lazar \nChair\, Women’s Philanthropy: Shelly Snyder \nVice Chair Campaign\, Women’s Philanthropy: Amy Dweck \n$136 per person | Dietary Laws Observed \nA minimum individual women’s gift of $5\,000 to the 2025 Jewish Federation of South Palm Beach County is required to attend. \nFor more information\, please contact Rachel Lempert at 561-852-6061 or rachell@bocafed.org \nThe IRS requires to inform you that the cost of your couvert is not tax-deductible. A COPY OF THE OFFICIAL REGISTRATION SC-02157 AND FINANCIAL INFORMATION MAY BE OBTAINED FROM THE DIVISION OF CONSUMER SERVICES BY CALLING TOLL FREE 1-800-HELP-FLA (436-7352) WITHIN THE STATE OF FLORIDA OR 850-410-3800 OUTSIDE OF THE STATE OF FLORIDA. REGISTRATION DOES NOT IMPLY ENDORSEMENT\, OR RECOMMENDATION BY THE STATE.\n\n\n\n\nWe are heartbroken by the loss of Olga Meshoe Washington\, who was scheduled to be a guest panelist at our luncheon. Our heartfelt prayers and strength go out to the Meshoe and Washington families during this difficult time. Together\, we will lift up Olga’s voice as a true lioness of Zion\, as her memory will continue to inspire us all.\n\n\n\n\n\n\n  \nRSVP:\nEvent Registration is now closed. For more information please reach out to Marissa Vinograd at marissav@bocafed.org\, 561-852-3163.
URL:https://jewishboca.org/events/lion-of-judah-luncheon-opt-2/
LOCATION:Bnai Torah\, 6261 SW 18th St\, Boca Raton\, FL\, 33433\, United States
CATEGORIES:Community Events,Federation Events,Lion of Judah,Women's
ORGANIZER;CN="Kathleen Ben-Shoaff":MAILTO:KathleenB@jewishboca.org
END:VEVENT
END:VCALENDAR