BEGIN:VCALENDAR
VERSION:2.0
PRODID:-//Jewish Boca - ECPv6.8.3//NONSGML v1.0//EN
CALSCALE:GREGORIAN
METHOD:PUBLISH
X-ORIGINAL-URL:https://jewishboca.org
X-WR-CALDESC:Events for Jewish Boca
REFRESH-INTERVAL;VALUE=DURATION:PT1H
X-Robots-Tag:noindex
X-PUBLISHED-TTL:PT1H
BEGIN:VTIMEZONE
TZID:America/New_York
BEGIN:DAYLIGHT
TZOFFSETFROM:-0500
TZOFFSETTO:-0400
TZNAME:EDT
DTSTART:20230312T070000
END:DAYLIGHT
BEGIN:STANDARD
TZOFFSETFROM:-0400
TZOFFSETTO:-0500
TZNAME:EST
DTSTART:20231105T060000
END:STANDARD
END:VTIMEZONE
BEGIN:VEVENT
DTSTART;TZID=America/New_York:20231112T180000
DTEND;TZID=America/New_York:20231112T200000
DTSTAMP:20260419T165040
CREATED:20230720T193622Z
LAST-MODIFIED:20230906T172627Z
UID:10001686-1699812000-1699819200@jewishboca.org
SUMMARY:Stonebridge New Member's Event
DESCRIPTION:Hosted by a Stonebridge donor.
URL:https://jewishboca.org/events/stonebridge-new-members-event/
LOCATION:Crazy Uncle Mike’s\, 6450 N Federal Hwy\, Boca Raton\, FL\, 33487\, United States
CATEGORIES:Community Events,Federation Events
ORGANIZER;CN="Shirley Gross":MAILTO:ShirleyG@jewishboca.org
END:VEVENT
BEGIN:VEVENT
DTSTART;TZID=America/New_York:20231114T163000
DTEND;TZID=America/New_York:20231114T173000
DTSTAMP:20260419T165040
CREATED:20221027T154824Z
LAST-MODIFIED:20221027T160441Z
UID:10000936-1699979400-1699983000@jewishboca.org
SUMMARY:Federation Executive Committee Meeting
DESCRIPTION:
URL:https://jewishboca.org/events/federation-executive-committee-meeting/2023-11-14/
LOCATION:Jewish Federation of South Palm Beach County in Zinman Hall\, 9901 Donna Klein Blvd\, Boca Raton\, FL\, 33428\, United States
CATEGORIES:Community Events,Federation Events,Federation Executive Committee
ORGANIZER;CN="Jessica Rykus":MAILTO:jessicar@bocafed.org
END:VEVENT
BEGIN:VEVENT
DTSTART;TZID=America/New_York:20231114T163000
DTEND;TZID=America/New_York:20231114T190000
DTSTAMP:20260419T165040
CREATED:20230816T195549Z
LAST-MODIFIED:20231113T180806Z
UID:10001779-1699979400-1699988400@jewishboca.org
SUMMARY:PJ Library® Mitzvah Pizza
DESCRIPTION:Tuesday\, November 14\, 2023 \n6:00-7:00PM \nPlease bring gently used secular children’s books to be distributed to the Little Free Libraries throughout our community. \nPizza bagel dinner included per child. \nLox & Bagel \n21065 Powerline Road\, Boca Raton \n$5 per child. \nSpace is limited. \nReservations required. \nFor more information\, contact pjlibrary@bocafed.org. \nRSVP:
URL:https://jewishboca.org/events/pj-library-mitzvah-pizza/
LOCATION:Lox & Bagel\, 21065 Powerline Rd\, Boca Raton\, FL\, 33433\, United States
CATEGORIES:Community Events,Federation Events,PJ Library
ORGANIZER;CN="Elana Ostroff":MAILTO:ElanaO@jewishboca.org
END:VEVENT
BEGIN:VEVENT
DTSTART;TZID=America/New_York:20231114T170000
DTEND;TZID=America/New_York:20231114T190000
DTSTAMP:20260419T165040
CREATED:20230706T174454Z
LAST-MODIFIED:20230802T192810Z
UID:10001646-1699981200-1699988400@jewishboca.org
SUMMARY:Federation Event Tnt
DESCRIPTION:
URL:https://jewishboca.org/events/gold-coast-kick-off-event-opt3/
CATEGORIES:Community Events,Federation Events
ORGANIZER;CN="Felice Naide":MAILTO:felicen@bocafed.org
END:VEVENT
BEGIN:VEVENT
DTSTART;TZID=America/New_York:20231115T163000
DTEND;TZID=America/New_York:20231115T183000
DTSTAMP:20260419T165040
CREATED:20230524T193056Z
LAST-MODIFIED:20230921T191417Z
UID:10001524-1700065800-1700073000@jewishboca.org
SUMMARY:JWF Wine & Welcome
DESCRIPTION:November 15\, 2023 \n4:30 – 6:30PM \nInteriors by Brown \n4501 N Federal Hwy.\, Boca Raton \nCouvert: $25 \nLite bites and wine will be served. \nKosher dietary laws observed. \nEVENT CO-CHAIRS: Marlene Freeman and Robbie Caplan \nJWF CHAIR: Amy Rosenberg \nFor more information\, contact Tanya Miller at TanyaM@bocafed.org or 561.852.3166 \nRSVP:
URL:https://jewishboca.org/events/jwf-wine-welcome-2/
LOCATION:Interiors by Brown\, 4501 North Federal Highway\, Boca Raton\, FL\, 33431\, United States
CATEGORIES:Community Events,Federation Events,Jewish Women's Foundation
ORGANIZER;CN="Tanya Miller":MAILTO:tanyam@bocafed.org
END:VEVENT
BEGIN:VEVENT
DTSTART;TZID=America/New_York:20231115T190000
DTEND;TZID=America/New_York:20231115T203000
DTSTAMP:20260419T165040
CREATED:20230519T185750Z
LAST-MODIFIED:20230831T150816Z
UID:10001499-1700074800-1700080200@jewishboca.org
SUMMARY:Women's Philanthropy - Young Women's Philanthropy Session #2
DESCRIPTION:
URL:https://jewishboca.org/events/womens-philanthropy-young-womens-philanthropy-session-2/
CATEGORIES:Community Events,Federation Events,Young Women’s Philanthropy
ORGANIZER;CN="Marissa Vinograd":MAILTO:marissav@bocafed.org
END:VEVENT
END:VCALENDAR