BEGIN:VCALENDAR
VERSION:2.0
PRODID:-//Jewish Boca - ECPv6.8.3//NONSGML v1.0//EN
CALSCALE:GREGORIAN
METHOD:PUBLISH
X-ORIGINAL-URL:https://jewishboca.org
X-WR-CALDESC:Events for Jewish Boca
REFRESH-INTERVAL;VALUE=DURATION:PT1H
X-Robots-Tag:noindex
X-PUBLISHED-TTL:PT1H
BEGIN:VTIMEZONE
TZID:America/New_York
BEGIN:DAYLIGHT
TZOFFSETFROM:-0500
TZOFFSETTO:-0400
TZNAME:EDT
DTSTART:20230312T070000
END:DAYLIGHT
BEGIN:STANDARD
TZOFFSETFROM:-0400
TZOFFSETTO:-0500
TZNAME:EST
DTSTART:20231105T060000
END:STANDARD
END:VTIMEZONE
BEGIN:VEVENT
DTSTART;VALUE=DATE:20231015
DTEND;VALUE=DATE:20231023
DTSTAMP:20260423T040106
CREATED:20221223T151656Z
LAST-MODIFIED:20221223T151656Z
UID:10001065-1697328000-1698019199@jewishboca.org
SUMMARY:Federation Community Mission
DESCRIPTION:
URL:https://jewishboca.org/events/federation-community-mission/
LOCATION:FL
CATEGORIES:Community Events,Federation Events
ORGANIZER;CN="Melody DeSanto":MAILTO:MelodyD@bocafed.org
END:VEVENT
BEGIN:VEVENT
DTSTART;VALUE=DATE:20231023
DTEND;VALUE=DATE:20231027
DTSTAMP:20260423T040106
CREATED:20230601T141936Z
LAST-MODIFIED:20230601T141942Z
UID:10001568-1698019200-1698364799@jewishboca.org
SUMMARY:UAE Mission
DESCRIPTION:
URL:https://jewishboca.org/events/uae-mission/
LOCATION:FL
CATEGORIES:Community Events,Federation Events
END:VEVENT
BEGIN:VEVENT
DTSTART;VALUE=DATE:20231023
DTEND;VALUE=DATE:20231028
DTSTAMP:20260423T040106
CREATED:20230515T161025Z
LAST-MODIFIED:20230515T161025Z
UID:10001465-1698019200-1698451199@jewishboca.org
SUMMARY:International Leadership Reunion\, Israel
DESCRIPTION:
URL:https://jewishboca.org/events/international-leadership-reunion-israel/
LOCATION:FL
CATEGORIES:Community Events,Federation Events
END:VEVENT
BEGIN:VEVENT
DTSTART;TZID=America/New_York:20231023T093000
DTEND;TZID=America/New_York:20231023T110000
DTSTAMP:20260423T040106
CREATED:20230913T145323Z
LAST-MODIFIED:20230928T165615Z
UID:10001823-1698053400-1698058800@jewishboca.org
SUMMARY:Boca Grove Campus Tour
DESCRIPTION:A Campus Experience Like No Other. \nStep inside a bustling hub of activity on the Jewish Federation of South Palm Beach County Campus. Feel the expanse of your community as you tour the more than 100 acres that many of our local agencies and programs call home. Meet your neighbors who train the disabled\, feed the hungry\, educate our youth\, cultivate our Jewish community and care for the elderly. \nYou will leave inspired. \nMonday\, October 23\, 2023 \n9:30 am – 11:00 am \n9901 Donna Klein Blvd. Boca Raton \nThis campus tour is exclusive to Boca Grove. \nFor more information\, please contact Debra Corso at 561.852.3142 or email debrac@bocafed.org \nRSVP:
URL:https://jewishboca.org/events/boca-grove-campus-tour-2/
LOCATION:Jewish Federation of South Palm Beach County\, 9901 Donna Klein Blvd\, Boca Raton\, FL\, 33428\, United States
CATEGORIES:Community Events,Federation Events
ORGANIZER;CN="Janice Obuchowski":MAILTO:JaniceOb@jewishboca.org
END:VEVENT
BEGIN:VEVENT
DTSTART;TZID=America/New_York:20231023T173000
DTEND;TZID=America/New_York:20231023T213000
DTSTAMP:20260423T040106
CREATED:20230502T153957Z
LAST-MODIFIED:20230601T230007Z
UID:10001411-1698082200-1698096600@jewishboca.org
SUMMARY:Wexner Seminar
DESCRIPTION:Levine
URL:https://jewishboca.org/events/wexner-seminar-2/
LOCATION:FL
CATEGORIES:Community Events,Federation Events
END:VEVENT
BEGIN:VEVENT
DTSTART;TZID=America/New_York:20231024T160000
DTEND;TZID=America/New_York:20231024T170000
DTSTAMP:20260423T040106
CREATED:20230518T160912Z
LAST-MODIFIED:20230922T161322Z
UID:10001486-1698163200-1698166800@jewishboca.org
SUMMARY:Women's Philanthropy Cabinet Meeting
DESCRIPTION:
URL:https://jewishboca.org/events/womens-philanthropy-cabinet-meeting/
LOCATION:Crazy Uncle Mike’s\, 6450 N Federal Hwy\, Boca Raton\, FL\, 33487\, United States
CATEGORIES:Community Events,Federation Events
ORGANIZER;CN="Kathleen Ben-Shoaff":MAILTO:KathleenB@jewishboca.org
END:VEVENT
BEGIN:VEVENT
DTSTART;TZID=America/New_York:20231025T103000
DTEND;TZID=America/New_York:20231025T130000
DTSTAMP:20260423T040106
CREATED:20230912T154222Z
LAST-MODIFIED:20230921T181849Z
UID:10001821-1698229800-1698238800@jewishboca.org
SUMMARY:Boca Woods Country Club Campus Tour
DESCRIPTION:
URL:https://jewishboca.org/events/boca-woods-country-club-campus-tour/
LOCATION:FL
CATEGORIES:Community Events,Federation Events
ORGANIZER;CN="Shirley Gross":MAILTO:ShirleyG@jewishboca.org
END:VEVENT
BEGIN:VEVENT
DTSTART;TZID=America/New_York:20231026T090000
DTEND;TZID=America/New_York:20231026T090000
DTSTAMP:20260423T040106
CREATED:20230811T155352Z
LAST-MODIFIED:20231009T182801Z
UID:10001771-1698310800-1698310800@jewishboca.org
SUMMARY:CJL - Best Practices Town Hall
DESCRIPTION:BEST PRACTICES TOWN HALL \nJACOBSON JEWISH COMMUNITY FOUNDATION IS PLEASED TO WELCOME NEW AND EXPERIENCED LEGACY TEAMS FOR AN INTERACTIVE TRAINING!  \nLearn about:  \n• Keeping the momentum for LIFE & LEGACY™ going strong \n• Best practices to fire up your teams on stewardship\, marketing\, relationship building\, and building an all-in team of board members \n• Refresh your knowledge of legacy giving strategies \n• Next steps to motivate your teams and get the legacy conversations going \nTHURSDAY\, OCTOBER 26\, 2023 • 9:00 A.M. \nZinman Hall at the Jewish Federation of South Palm Beach County \n9901 Donna Klein Boulevard • Boca Raton\, FL 33428 \nWho should attend?  \nAll Life & Legacy team members should attend. All community development professionals are welcome. \nFor more information\, please contact Sandra Baum\, Director of Foundation Community Resources\, Jacobson Jewish Community Foundation at 561.852.6065 or sandyb@bocafed.org. \nRSVP:
URL:https://jewishboca.org/events/cjl-training/
LOCATION:Zinman Hall
CATEGORIES:Community Events,Federation Events
ORGANIZER;CN="Sandy Baum":MAILTO:SandyB@bocafed.org
END:VEVENT
END:VCALENDAR