BEGIN:VCALENDAR
VERSION:2.0
PRODID:-//Jewish Boca - ECPv6.8.3//NONSGML v1.0//EN
CALSCALE:GREGORIAN
METHOD:PUBLISH
X-WR-CALNAME:Jewish Boca
X-ORIGINAL-URL:https://jewishboca.org
X-WR-CALDESC:Events for Jewish Boca
REFRESH-INTERVAL;VALUE=DURATION:PT1H
X-Robots-Tag:noindex
X-PUBLISHED-TTL:PT1H
BEGIN:VTIMEZONE
TZID:America/New_York
BEGIN:DAYLIGHT
TZOFFSETFROM:-0500
TZOFFSETTO:-0400
TZNAME:EDT
DTSTART:20230312T070000
END:DAYLIGHT
BEGIN:STANDARD
TZOFFSETFROM:-0400
TZOFFSETTO:-0500
TZNAME:EST
DTSTART:20231105T060000
END:STANDARD
END:VTIMEZONE
BEGIN:VEVENT
DTSTART;VALUE=DATE:20230305
DTEND;VALUE=DATE:20230306
DTSTAMP:20260422T121223
CREATED:20221101T161825Z
LAST-MODIFIED:20221101T161842Z
UID:10000984-1677974400-1678060799@jewishboca.org
SUMMARY:JARC Clients Only gala
DESCRIPTION:tbd
URL:https://jewishboca.org/events/jarc-clients-only-gala/
CATEGORIES:Community Events,Federation Events
END:VEVENT
BEGIN:VEVENT
DTSTART;TZID=America/New_York:20230306T140000
DTEND;TZID=America/New_York:20230306T160000
DTSTAMP:20260422T121223
CREATED:20230222T191129Z
LAST-MODIFIED:20230222T191129Z
UID:10001124-1678111200-1678118400@jewishboca.org
SUMMARY:Safety Net Services Task Force Meeting 3
DESCRIPTION:
URL:https://jewishboca.org/events/safety-net-services-task-force-meeting-3/
CATEGORIES:Community Events,Federation Events
ORGANIZER;CN="Arielle Elkoby":MAILTO:ariellee@jewishboca.org
END:VEVENT
BEGIN:VEVENT
DTSTART;TZID=America/New_York:20230308T093000
DTEND;TZID=America/New_York:20230308T110000
DTSTAMP:20260422T121223
CREATED:20220930T214459Z
LAST-MODIFIED:20230214T152515Z
UID:10000830-1678267800-1678273200@jewishboca.org
SUMMARY:Women's Philanthropy International Women's Day - Social Action
DESCRIPTION:Join the residents for a lively game of BINGO! \nThis hands-on volunteer opportunity will leave you knowing you’ve brought special joy to someone’s day. \nIdeas for prizes to be provided with confirmation of attendance. \nWEDNESDAY\, MARCH 8\, 2023 • 9:30 AM \nJARC FLORIDA \nJEWISH FEDERATION OF SOUTH PALM BEACH COUNTY CAMPUS \n21160 95TH AVENUE SOUTH\, BOCA RATON \nCHAIR\, SOCIAL ACTION: ROBIN SIEGAL \nRegistration required. Space is limited. \nFor more information contact Caissa Vega at 561.852.6061 or caissav@bocafed.org. \nRSVP:\nEvent Registration is now closed.
URL:https://jewishboca.org/events/womens-philanthropy-international-womens-day-social-action/
CATEGORIES:Community Events,Federation Events,Women's
ORGANIZER;CN="Kathleen Ben-Shoaff":MAILTO:KathleenB@jewishboca.org
END:VEVENT
BEGIN:VEVENT
DTSTART;TZID=America/New_York:20230308T163000
DTEND;TZID=America/New_York:20230308T163000
DTSTAMP:20260422T121223
CREATED:20220930T220613Z
LAST-MODIFIED:20221031T165142Z
UID:10000834-1678293000-1678293000@jewishboca.org
SUMMARY:JJCF Investment Committee Meeting
DESCRIPTION:
URL:https://jewishboca.org/events/jjcf-investment-committee-meeting-4/
LOCATION:Zoom
CATEGORIES:Community Events,Jacobson Jewish Community Foundation (JJCF)
ORGANIZER;CN="Robyn Kimmelman":MAILTO:robynk@bocafed.org
END:VEVENT
BEGIN:VEVENT
DTSTART;TZID=America/New_York:20230308T173000
DTEND;TZID=America/New_York:20230308T173000
DTSTAMP:20260422T121223
CREATED:20220930T220613Z
LAST-MODIFIED:20221031T165141Z
UID:10000833-1678296600-1678296600@jewishboca.org
SUMMARY:JJCF Board of Trustees Meeting
DESCRIPTION:
URL:https://jewishboca.org/events/jjcf-board-of-trustees-meeting-4/
CATEGORIES:Community Events,Jacobson Jewish Community Foundation (JJCF)
ORGANIZER;CN="Robyn Kimmelman":MAILTO:robynk@bocafed.org
END:VEVENT
BEGIN:VEVENT
DTSTART;TZID=America/New_York:20230309T081500
DTEND;TZID=America/New_York:20230309T091500
DTSTAMP:20260422T121223
CREATED:20220930T214458Z
LAST-MODIFIED:20221121T223226Z
UID:10000828-1678349700-1678353300@jewishboca.org
SUMMARY:Women's Philanthropy Officer's Meeting Final
DESCRIPTION:
URL:https://jewishboca.org/events/womens-philanthropy-officers-meeting-final/
LOCATION:Levine Board Room\, Boca Raton\, FL\, 33428\, United States
CATEGORIES:Community Events,Federation Events,Women's
ORGANIZER;CN="Kathleen Ben-Shoaff":MAILTO:KathleenB@jewishboca.org
END:VEVENT
BEGIN:VEVENT
DTSTART;TZID=America/New_York:20230309T093000
DTEND;TZID=America/New_York:20230309T110000
DTSTAMP:20260422T121223
CREATED:20220930T214205Z
LAST-MODIFIED:20221028T175743Z
UID:10000827-1678354200-1678359600@jewishboca.org
SUMMARY:Women's Philanthropy Board Meeting #3
DESCRIPTION:
URL:https://jewishboca.org/events/womens-philanthropy-board-meeting-3/
LOCATION:Zinman Hall
CATEGORIES:Community Events,Federation Events,Women's
ORGANIZER;CN="Kathleen Ben-Shoaff":MAILTO:KathleenB@jewishboca.org
END:VEVENT
BEGIN:VEVENT
DTSTART;TZID=America/New_York:20230309T100000
DTEND;TZID=America/New_York:20230309T120000
DTSTAMP:20260422T121223
CREATED:20230123T213117Z
LAST-MODIFIED:20230308T165557Z
UID:10001082-1678356000-1678363200@jewishboca.org
SUMMARY:Addison Reserve Passover Mitzvah Project
DESCRIPTION:If you would like to participate\, please make a donation of $100 or more to Jewish Federation of SPBC. \nThis gift is not part of the Federation’s 2023 Annual campaign. \nInterested in being a bigger part of the project? Join us on March 9th at 10:00 a.m. at the Jacobson Family Food Pantry for a hands-on food packaging. \nQuestions about the Mitzvah Project or Federation?  \nContact: Janice Obuchowski Associate Vice President\, Campaign janiceob@bocafed.org 561.852.3271 www.jewishboca.org \nRSVP:\nOnline registration is now closed. For additional information\, please contact Janice Obuchowski at janiceob@bocafed.org or at 561-852-3271.
URL:https://jewishboca.org/events/addison-reserve-passover-mitzvah-project/
LOCATION:Jacobson Family Food Pantry\, 430 S. Congress Avenue\, Delray Beach\, FL\, 33484\, United States
CATEGORIES:Community Events,Federation Events
ORGANIZER;CN="Janice Obuchowski":MAILTO:JaniceOb@jewishboca.org
END:VEVENT
END:VCALENDAR