BEGIN:VCALENDAR
VERSION:2.0
PRODID:-//Jewish Boca - ECPv6.8.3//NONSGML v1.0//EN
CALSCALE:GREGORIAN
METHOD:PUBLISH
X-ORIGINAL-URL:https://jewishboca.org
X-WR-CALDESC:Events for Jewish Boca
REFRESH-INTERVAL;VALUE=DURATION:PT1H
X-Robots-Tag:noindex
X-PUBLISHED-TTL:PT1H
BEGIN:VTIMEZONE
TZID:America/New_York
BEGIN:DAYLIGHT
TZOFFSETFROM:-0500
TZOFFSETTO:-0400
TZNAME:EDT
DTSTART:20230312T070000
END:DAYLIGHT
BEGIN:STANDARD
TZOFFSETFROM:-0400
TZOFFSETTO:-0500
TZNAME:EST
DTSTART:20231105T060000
END:STANDARD
END:VTIMEZONE
BEGIN:VEVENT
DTSTART;TZID=America/New_York:20230122T150000
DTEND;TZID=America/New_York:20230122T180000
DTSTAMP:20260422T214029
CREATED:20220930T223349Z
LAST-MODIFIED:20221031T164521Z
UID:10000898-1674399600-1674410400@jewishboca.org
SUMMARY:March of the Living Student Class #2
DESCRIPTION:
URL:https://jewishboca.org/events/march-of-the-living-student-class-2/
LOCATION:Zinman Hall
CATEGORIES:Community Events,March of the Living,Missions
ORGANIZER;CN="Michelle Budin":MAILTO:michellear@bocafed.org
END:VEVENT
BEGIN:VEVENT
DTSTART;TZID=America/New_York:20230123T180000
DTEND;TZID=America/New_York:20230123T210000
DTSTAMP:20260422T214029
CREATED:20221101T155316Z
LAST-MODIFIED:20221219T170933Z
UID:10000970-1674496800-1674507600@jewishboca.org
SUMMARY:3049 Paint & Pour - Women's Night Out!
DESCRIPTION:Join fellow 3049 women for a special night out as we experiment with the art of acrylic paint pouring! No prior experience necessary. \nEnjoy light bites\, a beer tasting\, take home a beautiful piece of artwork\, and make new friends! \nMonday\, January 23\, 2023 | 6 pm \nBarrel of Monks Brewing \n1141 S. Rogers Cir. #5\, Boca Raton\, FL 33487 \nEvent Chairs: Brandey Edelson & Rachel Wolff \nCouvert: $54 per person | Dietary laws observed \nFor more information\, contact Sandy Baum at 561-852-6065 or sandyb@bocafed.org\, or Marissa Vinograd at 561-852-3163 or marissav@bocafed.org. \nRSVP:\nRegistration is closed. Please contact Sandy at sandyb@bocafed.org or (561) 852-6065 with any questions.
URL:https://jewishboca.org/events/3049-paint-and-pour/
LOCATION:Barrel of Monks Brewing\, 1141 S Rogers Circle #5\, Boca Raton\, FL\, 33487\, United States
CATEGORIES:3049,Community Events,Federation Events,Women's
ORGANIZER;CN="Sandy Baum":MAILTO:SandyB@bocafed.org
END:VEVENT
BEGIN:VEVENT
DTSTART;TZID=America/New_York:20230125T133000
DTEND;TZID=America/New_York:20230125T153000
DTSTAMP:20260422T214029
CREATED:20221103T131853Z
LAST-MODIFIED:20221104T204015Z
UID:10001008-1674653400-1674660600@jewishboca.org
SUMMARY:Chapter Two Campus Tour
DESCRIPTION:Season 2021-2022 Chapter Two Campus tour
URL:https://jewishboca.org/events/chapter-two-campus-tour/
LOCATION:FL
CATEGORIES:Community Events,Federation Events
ORGANIZER;CN="Marissa Vinograd":MAILTO:marissav@bocafed.org
END:VEVENT
BEGIN:VEVENT
DTSTART;TZID=America/New_York:20230125T173000
DTEND;TZID=America/New_York:20230125T190000
DTSTAMP:20260422T214029
CREATED:20221026T203928Z
LAST-MODIFIED:20221212T161402Z
UID:10000924-1674667800-1674673200@jewishboca.org
SUMMARY:Boca Rio Cocktails & Conversation
DESCRIPTION:Please join us for this informative and exciting event exclusively for the members of Boca Rio Golf Club \nCurrent Threats to Our Jewish Life and Safety and How We Empower Ourselves to Address Them \nFEATURING: \nMichael G. Masters – National Director and Chief Executive Officer of the Secure Community Network \nAlan Poland – Community Security Director\, Jewish Federation of South Palm Beach County \nWednesday\, January 25\, 2023 • 5:30 pm \nBoca Rio Golf Club • 22041 Boca Rio Road \nEvening Underwriters: \nEllie & Martin Lifton \nMyrna & Mike Ginsberg \nAnnie & Norman Jacobson \nDale & David Pratt \nMarilyn Rush & Arnold Sollar \nNaomi & Richard Steinberg \nThere will be a brief presentation about the Boca Rio Mission to Israel. \nRSVP by January 20\, 2023  \nThis impactful evening is presented by the Jewish Federation of South Palm Beach County. \nIf you are interested in staying for dinner\, please make a reservation with Luciano. \nThe dinner will be charged to your Boca Rio account. \nFor more information\, contact Felice Naide at 561.852.6084 or felicen@bocafed.org \nRSVP:
URL:https://jewishboca.org/events/boca-rio-speaker-series/
LOCATION:Boca Rio\, Boca Raton\, FL\, 33428\, United States
CATEGORIES:Community Events,Federation Events
ORGANIZER;CN="Felice Naide":MAILTO:felicen@bocafed.org
END:VEVENT
BEGIN:VEVENT
DTSTART;TZID=America/New_York:20230125T173000
DTEND;TZID=America/New_York:20230125T190000
DTSTAMP:20260422T214029
CREATED:20221101T155706Z
LAST-MODIFIED:20221101T155706Z
UID:10000972-1674667800-1674673200@jewishboca.org
SUMMARY:DKJA Board Meeting
DESCRIPTION:
URL:https://jewishboca.org/events/dkja-board-meeting/
LOCATION:FL
CATEGORIES:Community Events,Federation Events
END:VEVENT
BEGIN:VEVENT
DTSTART;TZID=America/New_York:20230125T180000
DTEND;TZID=America/New_York:20230125T180000
DTSTAMP:20260422T214029
CREATED:20221101T155835Z
LAST-MODIFIED:20221101T155835Z
UID:10000973-1674669600-1674669600@jewishboca.org
SUMMARY:Levis JCC Board of Directors Mtg
DESCRIPTION:BOD Mtg
URL:https://jewishboca.org/events/levis-jcc-board-of-directors-mtg-4/
LOCATION:FL
CATEGORIES:Community Events,Federation Events
END:VEVENT
BEGIN:VEVENT
DTSTART;TZID=America/New_York:20230126T180000
DTEND;TZID=America/New_York:20230126T180000
DTSTAMP:20260422T214029
CREATED:20221101T160840Z
LAST-MODIFIED:20221101T160840Z
UID:10000978-1674756000-1674756000@jewishboca.org
SUMMARY:Temple Beth El of Boca Raton Donor Appreciation
DESCRIPTION:Donor appreciation event.
URL:https://jewishboca.org/events/temple-beth-el-of-boca-raton-donor-appreciation-2/
LOCATION:Temple Beth El of Boca Raton\, 333 S.W. 4th Avenue\, Boca Raton\, 33432\, United States
CATEGORIES:Community Events,Federation Events
END:VEVENT
BEGIN:VEVENT
DTSTART;TZID=America/New_York:20230126T190000
DTEND;TZID=America/New_York:20230126T210000
DTSTAMP:20260422T214029
CREATED:20220930T223341Z
LAST-MODIFIED:20221027T182027Z
UID:10000892-1674759600-1674766800@jewishboca.org
SUMMARY:Young Women's Philanthropy #2
DESCRIPTION:
URL:https://jewishboca.org/events/young-womens-philanthropy-2/
LOCATION:FL
CATEGORIES:Community Events,Federation Events,Women's,Young Women’s Philanthropy
ORGANIZER;CN="Marissa Vinograd":MAILTO:marissav@bocafed.org
END:VEVENT
END:VCALENDAR