BEGIN:VCALENDAR
VERSION:2.0
PRODID:-//Jewish Boca - ECPv6.8.3//NONSGML v1.0//EN
CALSCALE:GREGORIAN
METHOD:PUBLISH
X-WR-CALNAME:Jewish Boca
X-ORIGINAL-URL:https://jewishboca.org
X-WR-CALDESC:Events for Jewish Boca
REFRESH-INTERVAL;VALUE=DURATION:PT1H
X-Robots-Tag:noindex
X-PUBLISHED-TTL:PT1H
BEGIN:VTIMEZONE
TZID:UTC
BEGIN:STANDARD
TZOFFSETFROM:+0000
TZOFFSETTO:+0000
TZNAME:UTC
DTSTART:20230101T000000
END:STANDARD
TZID:America/New_York
BEGIN:DAYLIGHT
TZOFFSETFROM:-0500
TZOFFSETTO:-0400
TZNAME:EDT
DTSTART:20230312T070000
END:DAYLIGHT
BEGIN:STANDARD
TZOFFSETFROM:-0400
TZOFFSETTO:-0500
TZNAME:EST
DTSTART:20231105T060000
END:STANDARD
END:VTIMEZONE
BEGIN:VEVENT
DTSTART;TZID=UTC:20230116T103000
DTEND;TZID=UTC:20230116T120000
DTSTAMP:20260422T231456
CREATED:20221003T052315Z
LAST-MODIFIED:20221129T155219Z
UID:10000906-1673865000-1673870400@jewishboca.org
SUMMARY:PJ Library Bedner's Farm
DESCRIPTION: Join your PJ Library friends  (and make some new ones)  for a special morning at the farm.  \n Monday\, January 16\, 2023  \n10:30 a.m. – 12:00 p.m.  \n(Registration will open at 10:00 a.m.)  \n Bedner’s Farm  \n12033 U.S. 441\, Boynton Beach  \n(3 miles North of Atlantic Ave.)  \n $10 per child in advance  \n$15 per child at the door (space permitting)  \nAdvance registration required by January 12. (Children under 12 months are free).  \nCost includes interactive story and singing\, seasonal u-pick\, and either gem mining or auto tram ride.  \nCall Elana Ostroff\, PJ Library Director\, for more information at 561.852.6080.  \nRSVP:\nThank you for your interest in this program.  Registration is currently closed as we have a sold out crowd.  We look forward to seeing you at our next event soon. For any additional information\, please contact Elana at pjlibrary@bocafed.org
URL:https://jewishboca.org/events/pj-library-bedners-farm/
LOCATION:Bedner’s Farm\, 12033 U.S. 441\, Boynton Beach\, FL\, 33473\, United States
CATEGORIES:Community Events,Federation Events,PJ Library
ORGANIZER;CN="Elana Ostroff":MAILTO:ElanaO@jewishboca.org
END:VEVENT
BEGIN:VEVENT
DTSTART;TZID=America/New_York:20230117T093000
DTEND;TZID=America/New_York:20230117T093000
DTSTAMP:20260422T231456
CREATED:20221101T145256Z
LAST-MODIFIED:20221101T145335Z
UID:10000961-1673947800-1673947800@jewishboca.org
SUMMARY:Chapter Two for Men #2
DESCRIPTION:
URL:https://jewishboca.org/events/chapter-two-for-men-2-jan16/
LOCATION:FL
CATEGORIES:Community Events,Federation Events
ORGANIZER;CN="Janice Obuchowski":MAILTO:JaniceOb@jewishboca.org
END:VEVENT
BEGIN:VEVENT
DTSTART;TZID=America/New_York:20230117T100000
DTEND;TZID=America/New_York:20230117T120000
DTSTAMP:20260422T231456
CREATED:20221027T184409Z
LAST-MODIFIED:20230105T031239Z
UID:10000942-1673949600-1673956800@jewishboca.org
SUMMARY:Women's Philanthropy Outreach - 3049
DESCRIPTION:Please join us to learn what our Jewish Federation is doing for those in need in our community\, in Israel and around the world. \nGet inspired to fulfill the mitzvah of tzedakah. Together we do extraordinary things! \nTUESDAY\, JANUARY 17\, 2023 | 10:00 am \nAT THE HOME OF YAIRA GURMAN \nADDRESS PROVIDED WITH REGISTRATION \nGUEST SPEAKER: SIMONE KNEGO \nSimone Knego is author of the best-selling book\, The Extraordinary UnOrdinary You\, is a keynote speaker\, wife\, and mother to six multicultural children. Simone was the 2018-2019 Co-Chair for the Jewish Federations of North America’s National Young Leadership Cabinet and has participated in many philanthropic missions around the world. She is currently the Chair of the Network of Independent Communities for JFNA\, an Intermediate Federation Trustee\, a member of JFNA’s JEDI committee\, and a board member of the Jewish Federation of Sarasota-Manatee. Her greatest desire is to help others recognize that what they do matters—and it’s the little everyday things that can have the largest impact on the world around us. \nFor more information\, contact Sandy Baum at 561-852-6065 or sandyb@bocafed.org. \nRSVP:\nOnline registration is closed\, please contact sandyb@bocafed.org or (561) 852-6065 with any questions.
URL:https://jewishboca.org/events/wp3049/
LOCATION:FL
CATEGORIES:Community Events,Federation Events,Women's
ORGANIZER;CN="Janice Obuchowski":MAILTO:JaniceOb@jewishboca.org
END:VEVENT
BEGIN:VEVENT
DTSTART;TZID=America/New_York:20230117T160000
DTEND;TZID=America/New_York:20230117T160000
DTSTAMP:20260422T231456
CREATED:20221128T153652Z
LAST-MODIFIED:20221218T003523Z
UID:10001030-1673971200-1673971200@jewishboca.org
SUMMARY:Women's Philanthropy Outreach - Boca West
DESCRIPTION:Please join your friends and neighbors in Boca West to learn what our Jewish Federation is doing for those in need in our community\, in Israel and around the world. \nTUESDAY\, JANUARY 17\, 2023 | 4:00 PM \nAKOYA – BOCA WEST COUNTRY CLUB \n20155 BOCA WEST DR.\, BOCA RATON \nGUEST SPEAKER: SIMONE KNEGO \nSimone Knego is author of the best-selling book\, The Extraordinary UnOrdinary You\, is a keynote speaker\, wife\, and mother to six multicultural children. Simone was the 2018-2019 Co-Chair for the Jewish Federations of North America’s National Young Leadership Cabinet and has participated in many philanthropic missions around the world. She is currently the Chair of the Network of Independent Communities for JFNA\, an Intermediate Federation Trustee\, a member of JFNA’s JEDI committee\, and a board member of the Jewish Federation of Sarasota-Manatee. Her greatest desire is to help others recognize that what they do matters—and it’s the little everyday things that can have the largest impact on the world around us. \nLight refreshments will be served. \nHOST COMMITTEE: \nTerry Adelman \nGale Baim \nJanet Barsky \nRhoda Bertuch \nHelene Brody \nDorothy Bucksbaum \nSusan Cohen \nAnnette Cooper \nMarilyn Davimos \nEstelle Elkus \nLanee Friedel \nBetsy Gaberman \nRani Garfinkle \nKinnie Gorelick \nPearl Greenfield \nAnne Jacobson \nJudy Levis Krug \nBarbara Levy \nEllie Lifton \nCatherine Pollack \nSuzanne Rivkin \nJane Roberts \nMarcia Ruderman \nMarilyn Rush \nRiva Samberg \nCarol Swidler \nDoris Tamarkin \nAnita Waltuch \nJudith Zachs \nFor more information\, contact Jessica Epstein Matiash at jessicam@bocafed.org or 561-852-5054. \nRSVP:
URL:https://jewishboca.org/events/womens-outreach-boca-west/
LOCATION:Akoya – Boca West Country Club\, 20155 Boca West Drive\, Boca Raton\, FL\, 33434\, United States
CATEGORIES:Community Events,Federation Events
ORGANIZER;CN="Michele Namm":MAILTO:michelem@bocafed.org
END:VEVENT
BEGIN:VEVENT
DTSTART;TZID=America/New_York:20230117T173000
DTEND;TZID=America/New_York:20230117T183000
DTSTAMP:20260422T231456
CREATED:20221101T153401Z
LAST-MODIFIED:20221114T181912Z
UID:10000965-1673976600-1673980200@jewishboca.org
SUMMARY:JFS Executive Cmte Meeting 01.17.2023
DESCRIPTION:Bonnie Goldberg at bonniego@ralesjfs.org \nGovernance Meeting
URL:https://jewishboca.org/events/jfs-executive-cmte-meeting-01-17-2023/
LOCATION:FL
CATEGORIES:Community Events,Federation Events,Jewish Family Services (JFS)
END:VEVENT
BEGIN:VEVENT
DTSTART;TZID=America/New_York:20230118T093000
DTEND;TZID=America/New_York:20230118T113000
DTSTAMP:20260422T231456
CREATED:20221101T153905Z
LAST-MODIFIED:20221202T170941Z
UID:10000967-1674034200-1674041400@jewishboca.org
SUMMARY:Women's Philanthropy Outreach - Addison
DESCRIPTION:Please join us to learn what our Jewish Federation is doing for those in need in our community\, in Israel and around the world. Get inspired to fulfill the mitzvah of tzedakah. Together we do extraordinary things! \nWEDNESDAY\, JANUARY 18\, 2023 \n9:30 am \nAT THE HOME OF STEPHANI PERLMUTTER\, CHAIR \nADDRESS PROVIDED WITH REGISTRATION \nGUEST SPEAKER: SIMONE KNEGO \nSimone Knego is author of the best-selling book\, The Extraordinary UnOrdinary You\, is a keynote speaker\, wife\, and mother to six multicultural children. Simone was the 2018-2019 Co-Chair for the Jewish Federations of North America’s National Young Leadership Cabinet and has participated in many philanthropic missions around the world. She is currently the Chair of the Network of Independent Communities for JFNA\, an Intermediate Federation Trustee\, a member of JFNA’s JEDI committee\, and a board member of the Jewish Federation of Sarasota-Manatee. Her greatest desire is to help others recognize that what they do matters—and it’s the little everyday things that can have the largest impact on the world around us. \nFor more information\, contact Janice Obuchowski at 561.852.3271 or janiceob@bocafed.org. \nRSVP:\nEvent Registration is now closed
URL:https://jewishboca.org/events/womens-philanthropy-outreach-3/
LOCATION:Private Home\, Boca Raton\, FL\, 33428\, United States
CATEGORIES:Community Events,Federation Events,Women's
ORGANIZER;CN="Janice Obuchowski":MAILTO:JaniceOb@jewishboca.org
END:VEVENT
BEGIN:VEVENT
DTSTART;TZID=America/New_York:20230118T120000
DTEND;TZID=America/New_York:20230118T120000
DTSTAMP:20260422T231456
CREATED:20221101T172211Z
LAST-MODIFIED:20221222T154349Z
UID:10001001-1674043200-1674043200@jewishboca.org
SUMMARY:Women's Philanthropy Outreach - Woodfield
DESCRIPTION:Please join us to learn what our Jewish Federation is doing for those in need in our community\, in Israel and around the world. \nGet inspired to fulfill the mitzvah of tzedakah. Together we do extraordinary things! \nWEDNESDAY\, JANUARY 18\, 2023 | 12 pm \nAT THE HOME OF DARYL MOGIL \nADDRESS PROVIDED WITH REGISTRATION \nLunch will be served. \nGUEST SPEAKER: SIMONE KNEGO \nSimone Knego is author of the best-selling book\, The Extraordinary UnOrdinary You\, is a keynote speaker\, wife\, and mother to six multicultural children. Simone was the 2018-2019 Co-Chair for the Jewish Federations of North America’s National Young Leadership Cabinet and has participated in many philanthropic missions around the world. She is currently the Chair of the Network of Independent Communities for JFNA\, an Intermediate Federation Trustee\, a member of JFNA’s JEDI committee\, and a board member of the Jewish Federation of Sarasota-Manatee. Her greatest desire is to help others recognize that what they do matters—and it’s the little everyday things that can have the largest impact on the world around us. \nFor more information\, contact Jodi Faden at jodif@bocafed.org. \nRSVP:\nEvent Registration is now closed.
URL:https://jewishboca.org/events/womens-philanthropy-outreach-woodfield/
LOCATION:Private Home\, Boca Raton\, FL\, 33428\, United States
CATEGORIES:Community Events,Federation Events,Women's
ORGANIZER;CN="Jodi Faden":MAILTO:jodif@bocafed.org
END:VEVENT
BEGIN:VEVENT
DTSTART;TZID=America/New_York:20230118T163000
DTEND;TZID=America/New_York:20230118T173000
DTSTAMP:20260422T231456
CREATED:20221027T154824Z
LAST-MODIFIED:20221027T160441Z
UID:10000930-1674059400-1674063000@jewishboca.org
SUMMARY:Federation Executive Committee Meeting
DESCRIPTION:
URL:https://jewishboca.org/events/federation-executive-committee-meeting/2023-01-18/
LOCATION:Jewish Federation of South Palm Beach County in Zinman Hall\, 9901 Donna Klein Blvd\, Boca Raton\, FL\, 33428\, United States
CATEGORIES:Community Events,Federation Events,Federation Executive Committee
ORGANIZER;CN="Jessica Rykus":MAILTO:jessicar@bocafed.org
END:VEVENT
BEGIN:VEVENT
DTSTART;TZID=America/New_York:20230118T163000
DTEND;TZID=America/New_York:20230118T173000
DTSTAMP:20260422T231456
CREATED:20231219T184240Z
LAST-MODIFIED:20231219T184251Z
UID:10000947-1674059400-1674063000@jewishboca.org
SUMMARY:Women's Philanthropy Outreach - Delaire Country Club
DESCRIPTION:Please join us to learn what our Jewish Federation is doing for those in need in our community\, in Israel and around the world. \nGet inspired to fulfill the mitzvah of tzedakah. Together we do extraordinary things! \nWEDNESDAY\, JANUARY 18\, 2023 | 4:30 PM \nHOME OF CAROL LAZAR \nADDRESS SUPPLIED UPON REGISTERING \nNo minimum gift required to attend. \nLight Bites & Wine \nGUEST SPEAKER: SIMONE KNEGO \nSimone Knego is author of the best-selling book\, The Extraordinary UnOrdinary You\, is a keynote speaker\, wife\, and mother to six multicultural children. Simone was the 2018-2019 Co-Chair for the Jewish Federations of North America’s National Young Leadership Cabinet and has participated in many philanthropic missions around the world. She is currently the Chair of the Network of Independent Communities for JFNA\, an Intermediate Federation Trustee\, a member of JFNA’s JEDI committee\, and a board member of the Jewish Federation of Sarasota-Manatee. Her greatest desire is to help others recognize that what they do matters—and it’s the little everyday things that can have the largest impact on the world around us. \nFor more information\, contact Marissa Vinograd at marissav@bocafed.org or 561-852-3163. \nRSVP: \nEvent Registration is now closed
URL:https://jewishboca.org/events/womens-philanthropy-outreach-delaire-country-club-2/
LOCATION:Private Home\, Boca Raton\, FL\, 33428\, United States
CATEGORIES:Community Events,Federation Events,Women's
ORGANIZER;CN="Marissa Vinograd":MAILTO:marissav@bocafed.org
END:VEVENT
BEGIN:VEVENT
DTSTART;TZID=America/New_York:20230118T173000
DTEND;TZID=America/New_York:20230118T183000
DTSTAMP:20260422T231456
CREATED:20221101T154058Z
LAST-MODIFIED:20221101T154304Z
UID:10000968-1674063000-1674066600@jewishboca.org
SUMMARY:Federation Board of Directors Meeting
DESCRIPTION:
URL:https://jewishboca.org/events/federation-board-of-directors-meeting/
LOCATION:FL
CATEGORIES:Community Events,Federation Events
ORGANIZER;CN="Jessica Rykus":MAILTO:jessicar@bocafed.org
END:VEVENT
BEGIN:VEVENT
DTSTART;TZID=America/New_York:20230119T093000
DTEND;TZID=America/New_York:20230119T113000
DTSTAMP:20260422T231456
CREATED:20221101T154841Z
LAST-MODIFIED:20221117T214650Z
UID:10000969-1674120600-1674127800@jewishboca.org
SUMMARY:Women’s Philanthropy Outreach - Gold Coast
DESCRIPTION:Please join us to learn what our Jewish Federation is doing for those in need in our community\, in Israel and around the world. Get inspired to fulfill the mitzvah of tzedakah. Together we do extraordinary things! \nTHURSDAY\, JANUARY 19\, 2023 | 9:30 AM HOME OF KATHY GREEN ADDRESS SUPPLIED UPON REGISTERING \nLight bites will be served. \nGUEST SPEAKER: SIMONE KNEGO Simone Knego is author of the best-selling book\, The Extraordinary UnOrdinary You\, is a keynote speaker\, wife\, and mother to six multicultural children. Simone was the 2018-2019 Co-Chair for the Jewish Federations of North America’s National Young Leadership Cabinet and has participated in many philanthropic missions around the world. She is currently the Chair of the Network of Independent Communities for JFNA\, an Intermediate Federation Trustee\, a member of JFNA’s JEDI committee\, and a board member of the Jewish Federation of SarasotaManatee. Her greatest desire is to help others recognize that what they do matters—and it’s the little everyday things that can have the largest impact on the world around us. \nFor more information\, contact Felice Naide at felicen@bocafed.org or 561-852-6084. \nRSVP: \n\n\n                \n                        \n					January 19\, 2023 - 9:30amSelect # of People1 Person2 People3 People4 People5 People\n                    \n                    \n                          \n                    \n                \n                \n                    \n                        Your InformationFirst Name(Required)Last Name(Required)Your Email(Required)\n                                \n                                    \n                                    Enter Email\n                                \n                                \n                                    \n                                    Confirm Email\n                                \n                                \n                            Address(Required)    \n                    \n                         \n                                        \n                                        Street Address\n                                    \n                                        \n                                        Address Line 2\n                                    \n                                    \n                                    City\n                                 \n                                        \n                                        State / Province / Region\n                                      \n                                    \n                                    ZIP / Postal Code\n                                \n                                        AfghanistanAlbaniaAlgeriaAmerican SamoaAndorraAngolaAnguillaAntarcticaAntigua and BarbudaArgentinaArmeniaArubaAustraliaAustriaAzerbaijanBahamasBahrainBangladeshBarbadosBelarusBelgiumBelizeBeninBermudaBhutanBoliviaBonaire\, Sint Eustatius and SabaBosnia and HerzegovinaBotswanaBouvet IslandBrazilBritish Indian Ocean TerritoryBrunei DarussalamBulgariaBurkina FasoBurundiCabo VerdeCambodiaCameroonCanadaCayman IslandsCentral African RepublicChadChileChinaChristmas IslandCocos IslandsColombiaComorosCongoCongo\, Democratic Republic of theCook IslandsCosta RicaCroatiaCubaCuraçaoCyprusCzechiaCôte d'IvoireDenmarkDjiboutiDominicaDominican RepublicEcuadorEgyptEl SalvadorEquatorial GuineaEritreaEstoniaEswatiniEthiopiaFalkland IslandsFaroe IslandsFijiFinlandFranceFrench GuianaFrench PolynesiaFrench Southern TerritoriesGabonGambiaGeorgiaGermanyGhanaGibraltarGreeceGreenlandGrenadaGuadeloupeGuamGuatemalaGuernseyGuineaGuinea-BissauGuyanaHaitiHeard Island and McDonald IslandsHoly SeeHondurasHong KongHungaryIcelandIndiaIndonesiaIranIraqIrelandIsle of ManIsraelItalyJamaicaJapanJerseyJordanKazakhstanKenyaKiribatiKorea\, Democratic People's Republic ofKorea\, Republic ofKuwaitKyrgyzstanLao People's Democratic RepublicLatviaLebanonLesothoLiberiaLibyaLiechtensteinLithuaniaLuxembourgMacaoMadagascarMalawiMalaysiaMaldivesMaliMaltaMarshall IslandsMartiniqueMauritaniaMauritiusMayotteMexicoMicronesiaMoldovaMonacoMongoliaMontenegroMontserratMoroccoMozambiqueMyanmarNamibiaNauruNepalNetherlandsNew CaledoniaNew ZealandNicaraguaNigerNigeriaNiueNorfolk IslandNorth MacedoniaNorthern Mariana IslandsNorwayOmanPakistanPalauPalestine\, State ofPanamaPapua New GuineaParaguayPeruPhilippinesPitcairnPolandPortugalPuerto RicoQatarRomaniaRussian FederationRwandaRéunionSaint BarthélemySaint Helena\, Ascension and Tristan da CunhaSaint Kitts and NevisSaint LuciaSaint MartinSaint Pierre and MiquelonSaint Vincent and the GrenadinesSamoaSan MarinoSao Tome and PrincipeSaudi ArabiaSenegalSerbiaSeychellesSierra LeoneSingaporeSint MaartenSlovakiaSloveniaSolomon IslandsSomaliaSouth AfricaSouth Georgia and the South Sandwich IslandsSouth SudanSpainSri LankaSudanSurinameSvalbard and Jan MayenSwedenSwitzerlandSyria Arab RepublicTaiwanTajikistanTanzania\, the United Republic ofThailandTimor-LesteTogoTokelauTongaTrinidad and TobagoTunisiaTurkmenistanTurks and Caicos IslandsTuvaluTürkiyeUS Minor Outlying IslandsUgandaUkraineUnited Arab EmiratesUnited KingdomUnited StatesUruguayUzbekistanVanuatuVenezuelaViet NamVirgin Islands\, BritishVirgin Islands\, U.S.Wallis and FutunaWestern SaharaYemenZambiaZimbabweÅland Islands\n                                        Country\n                                    \n                    \n                Phone(Required)Additional Guest NamesCAPTCHA
URL:https://jewishboca.org/events/womens-philanthropy-outreach-5/
LOCATION:FL
CATEGORIES:Community Events,Federation Events,Women's
ORGANIZER;CN="Felice Naide":MAILTO:felicen@bocafed.org
END:VEVENT
BEGIN:VEVENT
DTSTART;TZID=America/New_York:20230119T102732
DTEND;TZID=America/New_York:20230119T102732
DTSTAMP:20260422T231456
CREATED:20220930T223050Z
LAST-MODIFIED:20230119T152732Z
UID:10000839-1674124052-1674124052@jewishboca.org
SUMMARY:PJWC Discussion Series
DESCRIPTION:
URL:https://jewishboca.org/events/pjwc-discussion-series-3/
LOCATION:FL
CATEGORIES:Community Events,Federation Events,Professional Jewish Women’s Collective
END:VEVENT
BEGIN:VEVENT
DTSTART;TZID=America/New_York:20230119T102836
DTEND;TZID=America/New_York:20230119T102836
DTSTAMP:20260422T231456
CREATED:20220930T212354Z
LAST-MODIFIED:20230119T152836Z
UID:10000762-1674124116-1674124116@jewishboca.org
SUMMARY:PJWC Discussion Series
DESCRIPTION:
URL:https://jewishboca.org/events/pjwc-discussion-series-2/
LOCATION:FL
CATEGORIES:Community Events,Federation Events,Professional Jewish Women’s Collective
END:VEVENT
BEGIN:VEVENT
DTSTART;TZID=America/New_York:20230119T102916
DTEND;TZID=America/New_York:20230119T102916
DTSTAMP:20260422T231456
CREATED:20220930T203650Z
LAST-MODIFIED:20230119T152916Z
UID:10000703-1674124156-1674124156@jewishboca.org
SUMMARY:PJWC Discussion Series
DESCRIPTION:
URL:https://jewishboca.org/events/pjwc-discussion-series/
LOCATION:FL
CATEGORIES:Community Events,Federation Events,Professional Jewish Women’s Collective
END:VEVENT
BEGIN:VEVENT
DTSTART;TZID=America/New_York:20230119T123000
DTEND;TZID=America/New_York:20230119T123000
DTSTAMP:20260422T231456
CREATED:20221101T172725Z
LAST-MODIFIED:20221215T152148Z
UID:10001002-1674131400-1674131400@jewishboca.org
SUMMARY:Women’s Philanthropy Outreach - St. Andrews
DESCRIPTION:Please join us to learn what our Jewish Federation is doing for those in need in our community\, in Israel and around the world. \nGet inspired to fulfill the mitzvah of tzedakah. \nTogether we do extraordinary things! \nTHURSDAY\, JANUARY 19\, 2023 | 12:30 PM \nHOME OF CATHY BAER HAUBENSTOCK \nADDRESS PROVIDED WITH REGISTRATION \nLunch will be served. \nGUEST SPEAKER: SIMONE KNEGO \nSimone Knego is author of the best-selling book\, The Extraordinary UnOrdinary You\, is a keynote speaker\, wife\, and mother to six multicultural children. Simone was the 2018-2019 Co-Chair for the Jewish Federations of North America’s National Young Leadership Cabinet and has participated in many philanthropic missions around the world. She is currently the Chair of the Network of Independent Communities for JFNA\, an Intermediate Federation Trustee\, a member of JFNA’s JEDI committee\, and a board member of the Jewish Federation of Sarasota-Manatee. Her greatest desire is to help others recognize that what they do matters—and it’s the little everyday things that can have the largest impact on the world around us. \nFor more information\, contact Ida Novack at idan@bocafed.org or 561-852-3342. \nRSVP:\nEvent Registration is now closed.
URL:https://jewishboca.org/events/womens-philanthropy-outreach-st-andrews/
LOCATION:FL
CATEGORIES:Community Events,Federation Events,Women's
ORGANIZER;CN="Ida Novack":MAILTO:idan@jewishboca.org
END:VEVENT
BEGIN:VEVENT
DTSTART;TZID=America/New_York:20230119T160000
DTEND;TZID=America/New_York:20230119T170000
DTSTAMP:20260422T231456
CREATED:20221027T185700Z
LAST-MODIFIED:20221207T211358Z
UID:10000943-1674144000-1674147600@jewishboca.org
SUMMARY:Women's Philanthropy Outreach - The Polo Club
DESCRIPTION:Please join your friends and neighbors in the Polo Club to learn what our Jewish Federation is doing for those in need in our community\, in Israel and around the world. \nTHURSDAY\, JANUARY 19\, 2023 | 4:00 PM \nHOME OF JEANNE FIBUS\, THE POLO CLUB \nADDRESS SUPPLIED UPON REGISTERING \nGUEST SPEAKER: SIMONE KNEGO \nSimone Knego is author of the best-selling book\, The Extraordinary UnOrdinary You\, is a keynote speaker\, wife\, and mother to six multicultural children. Simone was the 2018-2019 Co-Chair for the Jewish Federations of North America’s National Young Leadership Cabinet and has participated in many philanthropic missions around the world. She is currently the Chair of the Network of Independent Communities for JFNA\, an Intermediate Federation Trustee\, a member of JFNA’s JEDI committee\, and a board member of the Jewish Federation of Sarasota-Manatee. Her greatest desire is to help others recognize that what they do matters—and it’s the little everyday things that can have the largest impact on the world around us. \nLight refreshments will be served. \nFor more information\, contact Jessica Epstein Matiash at jessicam@bocafed.org or 561-852-5054. \nRSVP:\nThank you for your interest in the Polo Club - Women's Outreach. Please contact Jessica Matiash at Jessicam@bocafed.org for more information or to RSVP.
URL:https://jewishboca.org/events/womens-philanthropy-outreach-polo-club/
LOCATION:Polo Club Private Home\, Boca Raton\, FL\, United States
CATEGORIES:Community Events,Federation Events,Women's
ORGANIZER;CN="Michele Namm":MAILTO:michelem@bocafed.org
END:VEVENT
BEGIN:VEVENT
DTSTART;TZID=America/New_York:20230119T173000
DTEND;TZID=America/New_York:20230119T183000
DTSTAMP:20260422T231456
CREATED:20221027T144633Z
LAST-MODIFIED:20221114T181912Z
UID:10000927-1674149400-1674153000@jewishboca.org
SUMMARY:JFS Board of Directors Mtg
DESCRIPTION:Governance Meeting
URL:https://jewishboca.org/events/jfs-board-of-directors-mtg/
LOCATION:FL
CATEGORIES:Community Events,Federation Events,Jewish Family Services (JFS)
ORGANIZER;CN="Bonnie Goldberg":MAILTO:bonniego@ralesjfs.org
END:VEVENT
END:VCALENDAR