BEGIN:VCALENDAR
VERSION:2.0
PRODID:-//Jewish Boca - ECPv6.8.3//NONSGML v1.0//EN
CALSCALE:GREGORIAN
METHOD:PUBLISH
X-WR-CALNAME:Jewish Boca
X-ORIGINAL-URL:https://jewishboca.org
X-WR-CALDESC:Events for Jewish Boca
REFRESH-INTERVAL;VALUE=DURATION:PT1H
X-Robots-Tag:noindex
X-PUBLISHED-TTL:PT1H
BEGIN:VTIMEZONE
TZID:UTC
BEGIN:STANDARD
TZOFFSETFROM:+0000
TZOFFSETTO:+0000
TZNAME:UTC
DTSTART:20230101T000000
END:STANDARD
TZID:America/New_York
BEGIN:DAYLIGHT
TZOFFSETFROM:-0500
TZOFFSETTO:-0400
TZNAME:EDT
DTSTART:20230312T070000
END:DAYLIGHT
BEGIN:STANDARD
TZOFFSETFROM:-0400
TZOFFSETTO:-0500
TZNAME:EST
DTSTART:20231105T060000
END:STANDARD
END:VTIMEZONE
BEGIN:VEVENT
DTSTART;VALUE=DATE:20230108
DTEND;VALUE=DATE:20230109
DTSTAMP:20260422T214039
CREATED:20221003T052028Z
LAST-MODIFIED:20221031T194507Z
UID:10000903-1673136000-1673222399@jewishboca.org
SUMMARY:Boca West Foundation - An Evening with Jay Leno
DESCRIPTION:
URL:https://jewishboca.org/events/boca-west-foundation-an-evening-with-jay-leno/
LOCATION:Boca West Country Club\, 20583 Boca West Drive\, Boca Raton\, 33434\, United States
CATEGORIES:Community Events,Federation Events
END:VEVENT
BEGIN:VEVENT
DTSTART;TZID=UTC:20230108T150000
DTEND;TZID=UTC:20230108T180000
DTSTAMP:20260422T214039
CREATED:20221003T052737Z
LAST-MODIFIED:20221031T164520Z
UID:10000907-1673190000-1673200800@jewishboca.org
SUMMARY:March of the Living Student Class #1
DESCRIPTION:
URL:https://jewishboca.org/events/march-of-the-living-student-class-1/
LOCATION:Zinman Hall
CATEGORIES:Community Events,March of the Living,Missions
ORGANIZER;CN="Michelle Budin":MAILTO:michellear@bocafed.org
END:VEVENT
BEGIN:VEVENT
DTSTART;TZID=UTC:20230109T093000
DTEND;TZID=UTC:20230109T093000
DTSTAMP:20260422T214039
CREATED:20221028T175655Z
LAST-MODIFIED:20221028T175655Z
UID:10000949-1673256600-1673256600@jewishboca.org
SUMMARY:Women's Philanthropy Board Meeting #2
DESCRIPTION:
URL:https://jewishboca.org/events/womens-philanthropy-board-meeting-2/
LOCATION:Zinman Hall
CATEGORIES:Community Events,Federation Events,Women's
ORGANIZER;CN="Kathleen Ben-Shoaff":MAILTO:KathleenB@jewishboca.org
END:VEVENT
BEGIN:VEVENT
DTSTART;TZID=America/New_York:20230109T173000
DTEND;TZID=America/New_York:20230109T190000
DTSTAMP:20260422T214039
CREATED:20221026T203233Z
LAST-MODIFIED:20221214T210449Z
UID:10000923-1673285400-1673290800@jewishboca.org
SUMMARY:Gold Coast - Cocktail Reception
DESCRIPTION:RECONNECT AND MEET YOUR DOWNTOWN BOCA RATON NEIGHBORS.  \nENJOY A SHORT PRESENTATION BY ALAN POLAND\, COMMUNITY SECURITY DIRECTOR.  \nMONDAY\, JANUARY 9 | 5:30 – 7:00 PM  \nRooftop Tower 155  \n155 E. Boca Raton Road  \nChaired by Gloria & Rick Singer  \nThe Jewish Federation of South Palm Beach County has partnered with Secure Community Network (SCN) to create a community-wide security program led by Alan Poland. \nAlan offers 20+ years of experience in law enforcement\, counterterrorism and private security.  \nWine and Cheese  \nDietary laws will be observed. \nCOUVERT: $36  \nThere will be no solicitation of funds.  \nCOMMITTEE*  \nJane & Edward Best  \nAmy & Aboud Dweck  \nRuth & Harry Goldberg  \nElise Goodfriend  \nKathy & Ken Green  \nBarbara Heimann  \nMarissa Hollander  \nJill Poser Kammet & David Kammet  \nMarci & David Kessler  \nDarryl Kogan  \nHelene & Rick Paul  \nLeah & Larry Richman  \nJill & Michael Rose  \nSharon & Adam Sackstein  \n*As of 12/14/22 \nFor information\, please contact Felice Naide at 561-852-6084 or felicen@bocafed.org.  \nRSVP:\nIf you would like to attend the Gold Coast Downtown Boca Cocktail Reception at Rooftop Tower 155\, please contact Felice Naide at 561-852-6084 or email felicen@bocafed.org.
URL:https://jewishboca.org/events/boca155/
LOCATION:Tower 155\, Boca Raton\, FL\, 33428\, United States
CATEGORIES:Community Events,Federation Events
ORGANIZER;CN="Felice Naide":MAILTO:felicen@bocafed.org
END:VEVENT
BEGIN:VEVENT
DTSTART;TZID=America/New_York:20230110T180000
DTEND;TZID=America/New_York:20230110T200000
DTSTAMP:20260422T214039
CREATED:20221101T140701Z
LAST-MODIFIED:20221129T222620Z
UID:10000957-1673373600-1673380800@jewishboca.org
SUMMARY:2023 Life & Legacy Community Celebration
DESCRIPTION:A celebration of legacy donors who have participated in the LIFE & LEGACY™ initiative and a community introduction to the Jewish Future Pledge. \nSpeaker: Rabbi Daniel Cohen \nAuthor of “What Will They Say About You When You Are Gone? \nCreating a Life of Legacy” & “Secret of the Light” \nFeaturing: Mike Leven \nBusiness Executive\, Visionary Philanthropist\, and \nCo-Founder of the Jewish Future Pledge \nTuesday\, January 10\, 2023 | 6 P.M. – 8 P.M. \nZinman Hall – Jewish Federation of South Palm Beach County \n9901 Donna Klein Blvd.\, Boca Raton \nNo charge for attendees who pre-register • $18 for walk-in registration \nCocktails and heavy hors d’oeuvres • Dietary laws observed \nRSVP by Tuesday\, January 3\, 2023 \nFor more information\, please contact Stephanie Nichol\, Director\, Foundation Grants and Scholarships at 561.852.3188 or StephanieN@bocafed.org. \nRSVP:
URL:https://jewishboca.org/events/jewish-future-pledge-cjl-celebration-2/
LOCATION:Zinman Hall
CATEGORIES:Community Events,Federation Events
ORGANIZER;CN="Stephanie Nichol":MAILTO:Stephanien@jewishboca.org
END:VEVENT
BEGIN:VEVENT
DTSTART;TZID=America/New_York:20230111T173000
DTEND;TZID=America/New_York:20230111T190000
DTSTAMP:20260422T214039
CREATED:20221208T214316Z
LAST-MODIFIED:20221228T193822Z
UID:10001056-1673458200-1673463600@jewishboca.org
SUMMARY:YAD Ice Cream Meet Up
DESCRIPTION:Casual meet up for young adults- bring an item for the Jacobson food pantry and bring a friend.
URL:https://jewishboca.org/events/yad2-0-event/
LOCATION:Proper Ice Cream\, 5560 N Military Trail\, Unit 312\, Boca Raton\, FL\, 33496\, United States
CATEGORIES:Community Events,Federation Events
ORGANIZER;CN="Sandy Baum":MAILTO:SandyB@bocafed.org
END:VEVENT
BEGIN:VEVENT
DTSTART;TZID=UTC:20230112T093000
DTEND;TZID=UTC:20230112T113000
DTSTAMP:20260422T214039
CREATED:20221028T180356Z
LAST-MODIFIED:20221028T180603Z
UID:10000950-1673515800-1673523000@jewishboca.org
SUMMARY:Women's Philanthropy Chapter 2 #3
DESCRIPTION:
URL:https://jewishboca.org/events/womens-philanthropy-chapter-2-3/
LOCATION:Weisman Center\, 7091 West Atlantic Avenue\, Delray Beach\, FL\, 33446\, United States
CATEGORIES:Community Events,Federation Events,Women's
ORGANIZER;CN="Marissa Vinograd":MAILTO:marissav@bocafed.org
END:VEVENT
BEGIN:VEVENT
DTSTART;TZID=America/New_York:20230112T173000
DTEND;TZID=America/New_York:20230112T173000
DTSTAMP:20260422T214039
CREATED:20221101T143859Z
LAST-MODIFIED:20230110T201859Z
UID:10000958-1673544600-1673544600@jewishboca.org
SUMMARY:Levis JCC Eastside Happy Hour
DESCRIPTION:Lauren Koblick at laurenk@levisjcc.org \nLevis JCC Eastside Happy Hour
URL:https://jewishboca.org/events/levis-jcc-eastside-happy-hour-2/
LOCATION:FL
CATEGORIES:Federation Events
END:VEVENT
BEGIN:VEVENT
DTSTART;TZID=America/New_York:20230112T173000
DTEND;TZID=America/New_York:20230112T190000
DTSTAMP:20260422T214039
CREATED:20221101T144243Z
LAST-MODIFIED:20221208T173148Z
UID:10000959-1673544600-1673550000@jewishboca.org
SUMMARY:Bourbon & Tequila Tasting - St. Andrews Country Club
DESCRIPTION:Come meet new friends and be inspired by the remarkable work of our Jewish Federation of South Palm Beach County. \nCan’t wait to see you there\, \nAmy & David Ross\, Robin & Gary Rubin and Andrea & Larry Schnurmacher – Event Chairs \nCouvert: $75 per person \nReservations are required to attend. Hors d’oevures will be served. \nWe encourage you to make personal reservations for dinner at the club immediately following the program. \nFor more information contact Ida Novack at 561.852.3342 or email at idan@bocafed.org. \nRSVP:
URL:https://jewishboca.org/events/federation-st-andrews-outreach/
LOCATION:FL
CATEGORIES:Community Events,Federation Events,Women's
ORGANIZER;CN="Ida Novack":MAILTO:idan@jewishboca.org
END:VEVENT
END:VCALENDAR