BEGIN:VCALENDAR
VERSION:2.0
PRODID:-//Jewish Boca - ECPv6.8.3//NONSGML v1.0//EN
CALSCALE:GREGORIAN
METHOD:PUBLISH
X-ORIGINAL-URL:https://jewishboca.org
X-WR-CALDESC:Events for Jewish Boca
REFRESH-INTERVAL;VALUE=DURATION:PT1H
X-Robots-Tag:noindex
X-PUBLISHED-TTL:PT1H
BEGIN:VTIMEZONE
TZID:UTC
BEGIN:STANDARD
TZOFFSETFROM:+0000
TZOFFSETTO:+0000
TZNAME:UTC
DTSTART:20220101T000000
END:STANDARD
END:VTIMEZONE
BEGIN:VEVENT
DTSTART;TZID=UTC:20221120T093000
DTEND;TZID=UTC:20221120T113000
DTSTAMP:20260425T001111
CREATED:20221024T193809Z
LAST-MODIFIED:20221026T152750Z
UID:10000917-1668936600-1668943800@jewishboca.org
SUMMARY:PJ Our Way® Supermarket Sweep
DESCRIPTION:GET READY FOR A MORNING OF CHESSED (GOOD DEEDS) AND FRIENDLY COMPETITION! \nJoin PJ Our Way® and team up for this fun foodraiser\, collecting food for the Jacobson Family Food Pantry. \n$25 per family (This program is for tweens ages 8-12 and a parent) \nSUNDAY\, NOV. 20TH\, 2022 \n9:30 AM – 11:30 AM \nGreenWise Market \n8210 Glades Rd \nBoca Raton\, FL 33434 \nRSVP:
URL:https://jewishboca.org/events/pj-our-way-supermarket-sweeps/
LOCATION:Publix (Formerly Greenwise Market)\, 8210 Glades Rd.\, Boca Raton\, 33434
CATEGORIES:Community Events,Federation Events,PJ Library
ORGANIZER;CN="Elana Ostroff":MAILTO:ElanaO@jewishboca.org
END:VEVENT
BEGIN:VEVENT
DTSTART;TZID=UTC:20221123T103000
DTEND;TZID=UTC:20221123T113000
DTSTAMP:20260425T001111
CREATED:20221025T012609Z
LAST-MODIFIED:20221031T164318Z
UID:10000921-1669199400-1669203000@jewishboca.org
SUMMARY:PJ Library® - It's All About Giving Thanks
DESCRIPTION:Join your PJ Library friends for storytime and crafts to kick off the Thanksgiving holiday. \nWednesday\, Nov. 23\, 2022 \n10:30am – 11:30 am \nPalm Beach County Library – Glades Road Branch \n20701 95th Ave. South • Boca Raton \nPlease bring a non-perishable food item for the Jacobson Family Food Pantry\, a program of JFS. \nSpace is limited. Reservations required. \nFor more information\, please call Elana Ostroff at 561.852.6080. \nRSVP:\nThank you for your interest in our PJ Library Giving Thanks program for Wednesday\, November 23rd. We are currently full for this program and unable to take additional guests. We look forward to seeing you at our next PJ Library event. For more information\, please email pjlibrary@bocafed.org.
URL:https://jewishboca.org/events/pj-library-its-all-about-giving-thanks/
LOCATION:Palm Beach County Library – Glades Road Branch\, 20701 95th Ave. South\, Boca Raton\, FL\, 33434\, United States
CATEGORIES:Community Events,Federation Events,PJ Library
ORGANIZER;CN="Elana Ostroff":MAILTO:ElanaO@jewishboca.org
END:VEVENT
END:VCALENDAR