BEGIN:VCALENDAR
VERSION:2.0
PRODID:-//Jewish Boca - ECPv6.8.3//NONSGML v1.0//EN
CALSCALE:GREGORIAN
METHOD:PUBLISH
X-WR-CALNAME:Jewish Boca
X-ORIGINAL-URL:https://jewishboca.org
X-WR-CALDESC:Events for Jewish Boca
REFRESH-INTERVAL;VALUE=DURATION:PT1H
X-Robots-Tag:noindex
X-PUBLISHED-TTL:PT1H
BEGIN:VTIMEZONE
TZID:America/New_York
BEGIN:DAYLIGHT
TZOFFSETFROM:-0500
TZOFFSETTO:-0400
TZNAME:EDT
DTSTART:20250309T070000
END:DAYLIGHT
BEGIN:STANDARD
TZOFFSETFROM:-0400
TZOFFSETTO:-0500
TZNAME:EST
DTSTART:20251102T060000
END:STANDARD
END:VTIMEZONE
BEGIN:VEVENT
DTSTART;TZID=America/New_York:20251119T180000
DTEND;TZID=America/New_York:20251119T213000
DTSTAMP:20260421T201116
CREATED:20250226T150312Z
LAST-MODIFIED:20250919T150208Z
UID:10002861-1763575200-1763587800@jewishboca.org
SUMMARY:Federation Leadership Gifts Event
DESCRIPTION:Leadership Gifts Event | Navigating the Now – Israel and the Middle East. \nJoin us for an exclusive gathering for our most distinguished donors\, featuring acandid and timely conversation on the complex realities facing Israel and the Middle East today; offering insight\, perspective\, and connection at a critical moment for the Jewish people and our global community. \nConversation with Miri Eisen and Amos Hochstein \nWednesday\, November 19\, 2025 \nThe Addison\n2 E Camino Real\, Boca Raton \n6:00pm \nCocktails and Dinner. Dietary laws observed. \nBruce Dan\, Campaign Chair; Jill Rose\, Chair of the Board\nCo-Chairs: Suzanne and Stuart Grant and Simone Karp and Mark Winepol \nCouvert: $150 per person \nA minimum household gift of $50\,000 to the 2026 Jewish Federation of South Palm Beach County Annual Campaign is required to attend. \nFor more information\, please contact Ida Novack at 561-852-3342 or idan@jewishboca.org \nThe IRS requires us to inform you that the cost of your couvert is not tax-deductible. A COPY OF THE OFFICIAL REGISTRATION SC-02157 AND FINANCIAL INFORMATION MAY BE OBTAINED FROM THE DIVISION OF CONSUMER SERVICES BY CALLING TOLL-FREE 1-800-HELP-FLA (435-7352) WITHIN THE STATE OF FLORIDA OR (850) 410-3800 OUTSIDE OF THE STATE OF FLORIDA. REGISTRATION DOES NOT IMPLY ENDORSEMENT\, APPROVAL\, OR RECOMMENDATION BY THE STATE.\nRSVP:\nEvent Registration is now closed. \n 
URL:https://jewishboca.org/events/federation-leadership-gifts-event/
LOCATION:The Addison\, 2 E Camino Real\, Boca Raton\, FL\, 33432\, United States
CATEGORIES:Community Events,Federation Events,Major Donors
ORGANIZER;CN="Ida Novack":MAILTO:idan@jewishboca.org
END:VEVENT
END:VCALENDAR