BEGIN:VCALENDAR
VERSION:2.0
PRODID:-//Jewish Boca - ECPv6.8.3//NONSGML v1.0//EN
CALSCALE:GREGORIAN
METHOD:PUBLISH
X-WR-CALNAME:Jewish Boca
X-ORIGINAL-URL:https://jewishboca.org
X-WR-CALDESC:Events for Jewish Boca
REFRESH-INTERVAL;VALUE=DURATION:PT1H
X-Robots-Tag:noindex
X-PUBLISHED-TTL:PT1H
BEGIN:VTIMEZONE
TZID:America/New_York
BEGIN:DAYLIGHT
TZOFFSETFROM:-0500
TZOFFSETTO:-0400
TZNAME:EDT
DTSTART:20250309T070000
END:DAYLIGHT
BEGIN:STANDARD
TZOFFSETFROM:-0400
TZOFFSETTO:-0500
TZNAME:EST
DTSTART:20251102T060000
END:STANDARD
END:VTIMEZONE
BEGIN:VEVENT
DTSTART;TZID=America/New_York:20250406T113000
DTEND;TZID=America/New_York:20250406T113000
DTSTAMP:20260421T111113
CREATED:20240522T160625Z
LAST-MODIFIED:20250324T141120Z
UID:10002381-1743939000-1743939000@jewishboca.org
SUMMARY:2025 Boca Woods Golf Outing
DESCRIPTION:Sunday April 6th\, 2025 \nSHOTGUN: 1:00pm \n4-Person Scramble \nRegistration\, lunch & practice: 11:30am – 12:30pm \n5:30pm – Hors d’oeuvres\, dinner and a meaningful program \nSponsorship packages are available per request \nEvent Co-Chairs:  \nJacqui & Frank Atcheson\, \nCipi & Rich Kurzman\,  \nLinda & Kenny Levine \nDetails: \n$180 – Golf\, lunch\, dinner and program \n$125 – Dinner Only \n$550 – Golf\, lunch\, dinner for 2 + 1 tee sign \n$1\,000 – Golf\, lunch\, dinner for 4 + 1 tee sign \n$250 – Tee Sign \nRSVP no later than March 28\, 2025 \nFor more information\, contact Ellen Glantz-Tucker at eglantztucker@innovativetel.com or 201.248.0788. \nShirley Gross: ShirleyG@bocafed.org or 561.852.3182. \nThe IRS requires to inform you that the cost of your couvert of $80 per person is not tax-deductible. A COPY OF THE OFFICIAL REGISTRATION SC-02157 AND FINANCIAL INFORMATION MAY BE OBTAINED FROM THE DIVISION OF CONSUMER SERVICES BY CALLING TOLL FREE 1-800-HELP-FLA (436-7352) WITHIN THE STATE OF FLORIDA OR 850-410-3800 OUTSIDE OF THE STATE OF FLORIDA. REGISTRATION DOES NOT IMPLY ENDORSEMENT\, OR RECOMMENDATION BY THE STATE.\nRSVP:\nEvent Registration is now closed.
URL:https://jewishboca.org/events/2025-boca-woods-golf-outing/
CATEGORIES:Community Events,Federation Events
ORGANIZER;CN="Shirley Gross":MAILTO:ShirleyG@jewishboca.org
END:VEVENT
END:VCALENDAR