BEGIN:VCALENDAR
VERSION:2.0
PRODID:-//Jewish Boca - ECPv6.8.3//NONSGML v1.0//EN
CALSCALE:GREGORIAN
METHOD:PUBLISH
X-ORIGINAL-URL:https://jewishboca.org
X-WR-CALDESC:Events for Jewish Boca
REFRESH-INTERVAL;VALUE=DURATION:PT1H
X-Robots-Tag:noindex
X-PUBLISHED-TTL:PT1H
BEGIN:VTIMEZONE
TZID:America/New_York
BEGIN:DAYLIGHT
TZOFFSETFROM:-0500
TZOFFSETTO:-0400
TZNAME:EDT
DTSTART:20230312T070000
END:DAYLIGHT
BEGIN:STANDARD
TZOFFSETFROM:-0400
TZOFFSETTO:-0500
TZNAME:EST
DTSTART:20231105T060000
END:STANDARD
END:VTIMEZONE
BEGIN:VEVENT
DTSTART;TZID=America/New_York:20230226T150000
DTEND;TZID=America/New_York:20230226T180000
DTSTAMP:20260422T163148
CREATED:20220930T223128Z
LAST-MODIFIED:20230216T192039Z
UID:10000847-1677423600-1677434400@jewishboca.org
SUMMARY:March of the Living Student Class #4
DESCRIPTION:
URL:https://jewishboca.org/events/march-of-the-living-student-class-4/
LOCATION:Clayman/Levine\, Boca Raton\, FL\, 33428\, United States
CATEGORIES:Community Events,March of the Living
ORGANIZER;CN="Michelle Budin":MAILTO:michellear@bocafed.org
END:VEVENT
BEGIN:VEVENT
DTSTART;TZID=America/New_York:20230226T170000
DTEND;TZID=America/New_York:20230226T170000
DTSTAMP:20260422T163148
CREATED:20230208T164136Z
LAST-MODIFIED:20230208T173217Z
UID:10001104-1677430800-1677430800@jewishboca.org
SUMMARY:Boca Rio Together Mission Info Session
DESCRIPTION:MISSION INFO SESSION:  \nSUNDAY\, FEBRUARY 26 \n5:00 PM | MEN’S CARD ROOM \n2023 BOCA RIO MISSION HIGHLIGHTS: \n• Enjoy the Mizpe Hayamim Spa Hotel overlooking the magnificent Golan Heights and the Sea of Galilee \n• Security and geopolitical briefing from security experts \n• Experience Shabbat in Jerusalem at The Orient \n• Meet with Israeli dignitaries and leaders \n• Tel Aviv at the 2022 Best New Hotel in the World\, David Kempinski \n• Private event at the ANU Museum \n• Enjoy the finest in wine and food \n• Celebrate 75 years of the modern state of Israel \nMISSION CHAIRS: Debbie Bernstein\, Dale & David Pratt and Elliott & Karen Wallace \nFor more information contact Felice Naide at 561.852.6084 or email felicen@bocafed.org. \nPlease share the following information to assist us in creating the most meaningful experience for you:\nCLICK HERE
URL:https://jewishboca.org/events/boca-rio-together-mission-info-session/
LOCATION:FL
CATEGORIES:Community Events,Federation Events
ORGANIZER;CN="Felice Naide":MAILTO:felicen@bocafed.org
END:VEVENT
END:VCALENDAR