BEGIN:VCALENDAR
VERSION:2.0
PRODID:-//Jewish Boca - ECPv6.8.3//NONSGML v1.0//EN
CALSCALE:GREGORIAN
METHOD:PUBLISH
X-ORIGINAL-URL:https://jewishboca.org
X-WR-CALDESC:Events for Jewish Boca
REFRESH-INTERVAL;VALUE=DURATION:PT1H
X-Robots-Tag:noindex
X-PUBLISHED-TTL:PT1H
BEGIN:VTIMEZONE
TZID:UTC
BEGIN:STANDARD
TZOFFSETFROM:+0000
TZOFFSETTO:+0000
TZNAME:UTC
DTSTART:20230101T000000
END:STANDARD
END:VTIMEZONE
BEGIN:VEVENT
DTSTART;VALUE=DATE:20230108
DTEND;VALUE=DATE:20230109
DTSTAMP:20260422T174235
CREATED:20221003T052028Z
LAST-MODIFIED:20221031T194507Z
UID:10000903-1673136000-1673222399@jewishboca.org
SUMMARY:Boca West Foundation - An Evening with Jay Leno
DESCRIPTION:
URL:https://jewishboca.org/events/boca-west-foundation-an-evening-with-jay-leno/
LOCATION:Boca West Country Club\, 20583 Boca West Drive\, Boca Raton\, 33434\, United States
CATEGORIES:Community Events,Federation Events
END:VEVENT
BEGIN:VEVENT
DTSTART;TZID=UTC:20230108T150000
DTEND;TZID=UTC:20230108T180000
DTSTAMP:20260422T174235
CREATED:20221003T052737Z
LAST-MODIFIED:20221031T164520Z
UID:10000907-1673190000-1673200800@jewishboca.org
SUMMARY:March of the Living Student Class #1
DESCRIPTION:
URL:https://jewishboca.org/events/march-of-the-living-student-class-1/
LOCATION:Zinman Hall
CATEGORIES:Community Events,March of the Living,Missions
ORGANIZER;CN="Michelle Budin":MAILTO:michellear@bocafed.org
END:VEVENT
END:VCALENDAR