BEGIN:VCALENDAR
VERSION:2.0
PRODID:-//Jewish Boca - ECPv6.8.3//NONSGML v1.0//EN
CALSCALE:GREGORIAN
METHOD:PUBLISH
X-ORIGINAL-URL:https://jewishboca.org
X-WR-CALDESC:Events for Jewish Boca
REFRESH-INTERVAL;VALUE=DURATION:PT1H
X-Robots-Tag:noindex
X-PUBLISHED-TTL:PT1H
BEGIN:VTIMEZONE
TZID:UTC
BEGIN:STANDARD
TZOFFSETFROM:+0000
TZOFFSETTO:+0000
TZNAME:UTC
DTSTART:20220101T000000
END:STANDARD
TZID:America/New_York
BEGIN:DAYLIGHT
TZOFFSETFROM:-0500
TZOFFSETTO:-0400
TZNAME:EDT
DTSTART:20220313T070000
END:DAYLIGHT
BEGIN:STANDARD
TZOFFSETFROM:-0400
TZOFFSETTO:-0500
TZNAME:EST
DTSTART:20221106T060000
END:STANDARD
END:VTIMEZONE
BEGIN:VEVENT
DTSTART;TZID=UTC:20221205T183000
DTEND;TZID=UTC:20221205T183000
DTSTAMP:20260424T061450
CREATED:20220930T102955Z
LAST-MODIFIED:20221102T152437Z
UID:10000550-1670265000-1670265000@jewishboca.org
SUMMARY:Pittsburgh Hometown Event
DESCRIPTION:Cocktails and Conversation \nConnect with other Pittsburgh neighbors to learn about your growing\, vibrant South Palm Beach County Jewish community. \nMONDAY\, DECEMBER 5TH | 6:30 PM \nAt the Home of Simone Karp \n(Address provided upon registration) \nHOST COMMITTEE \nRhonda and Mitchell Letwin \nBunny Morris \nShelly and Dan Snyder \nLois and Gary Weinstein \nBarbara and Don Werner \nDinner will be served. \nThere will be no solicitation of funds. \nFor additional information\, contact Felice Naide at Felicen@bocafed.org or 561-852-6084. \nRSVP:\nEvent Registration is now closed. \n 
URL:https://jewishboca.org/events/pittsburg-home-town-event/
LOCATION:Private Home\, Boca Raton\, FL\, 33428\, United States
CATEGORIES:Community Events,Federation Events
ORGANIZER;CN="Felice Naide":MAILTO:felicen@bocafed.org
END:VEVENT
BEGIN:VEVENT
DTSTART;TZID=America/New_York:20221205T194500
DTEND;TZID=America/New_York:20221205T210000
DTSTAMP:20260424T061450
CREATED:20221101T165243Z
LAST-MODIFIED:20221101T165243Z
UID:10000995-1670269500-1670274000@jewishboca.org
SUMMARY:Ned Dorman Program at Sinai Residences
DESCRIPTION:
URL:https://jewishboca.org/events/ned-dorman-program-at-sinai-residences/
LOCATION:Sinai Residences\, 21036 95th Avenue South\, Boca Raton\, FL\, 33428\, United States
CATEGORIES:Community Events,Federation Events
ORGANIZER;CN="Michele Namm":MAILTO:michelem@bocafed.org
END:VEVENT
END:VCALENDAR