BEGIN:VCALENDAR
VERSION:2.0
PRODID:-//Jewish Boca - ECPv6.8.3//NONSGML v1.0//EN
CALSCALE:GREGORIAN
METHOD:PUBLISH
X-WR-CALNAME:Jewish Boca
X-ORIGINAL-URL:https://jewishboca.org
X-WR-CALDESC:Events for Jewish Boca
REFRESH-INTERVAL;VALUE=DURATION:PT1H
X-Robots-Tag:noindex
X-PUBLISHED-TTL:PT1H
BEGIN:VTIMEZONE
TZID:America/New_York
BEGIN:DAYLIGHT
TZOFFSETFROM:-0500
TZOFFSETTO:-0400
TZNAME:EDT
DTSTART:20230312T070000
END:DAYLIGHT
BEGIN:STANDARD
TZOFFSETFROM:-0400
TZOFFSETTO:-0500
TZNAME:EST
DTSTART:20231105T060000
END:STANDARD
END:VTIMEZONE
BEGIN:VEVENT
DTSTART;TZID=America/New_York:20230316T100000
DTEND;TZID=America/New_York:20230316T150000
DTSTAMP:20260423T024149
CREATED:20230110T161528Z
LAST-MODIFIED:20230110T161528Z
UID:10001077-1678960800-1678978800@jewishboca.org
SUMMARY:JAFCO Breakfast at Tiffany's Luncheon: An Audrey Hepburn Retrospective with René  Silvin
DESCRIPTION:10am Boutique \n11:30am Luncheon & Program \n 
URL:https://jewishboca.org/events/jafco-breakfast-at-tiffanys-luncheon-an-audrey-hepburn-retrospective-with-rene-silvin/
LOCATION:The Polo Club\, 5400 Champion Blvd\, Boca Raton\, FL\, 33496\, United States
CATEGORIES:Community Events,Country Clubs
ATTACH;FMTTYPE=image/jpeg:https://jewishboca.org/wp-content/uploads/2023/01/Breakfast-at-Tiffanys.jpg
ORGANIZER;CN="JAFCO":MAILTO:info@jafco.org
END:VEVENT
END:VCALENDAR