BEGIN:VCALENDAR
VERSION:2.0
PRODID:-//Jewish Boca - ECPv6.8.3//NONSGML v1.0//EN
CALSCALE:GREGORIAN
METHOD:PUBLISH
X-ORIGINAL-URL:https://jewishboca.org
X-WR-CALDESC:Events for Jewish Boca
REFRESH-INTERVAL;VALUE=DURATION:PT1H
X-Robots-Tag:noindex
X-PUBLISHED-TTL:PT1H
BEGIN:VTIMEZONE
TZID:America/New_York
BEGIN:DAYLIGHT
TZOFFSETFROM:-0500
TZOFFSETTO:-0400
TZNAME:EDT
DTSTART:20230312T070000
END:DAYLIGHT
BEGIN:STANDARD
TZOFFSETFROM:-0400
TZOFFSETTO:-0500
TZNAME:EST
DTSTART:20231105T060000
END:STANDARD
END:VTIMEZONE
BEGIN:VEVENT
DTSTART;TZID=America/New_York:20230212T100000
DTEND;TZID=America/New_York:20230212T110000
DTSTAMP:20260423T053053
CREATED:20230130T191401Z
LAST-MODIFIED:20230130T191401Z
UID:10001094-1676196000-1676199600@jewishboca.org
SUMMARY:Tu B’shevat With PJ Library®
DESCRIPTION:In partnership with the Levis JCC Helene & Roy Schwedelson Special Needs Department Otzar Program and the Ruth & Norman Rales JFS Special Needs Department. \nSunday\, February 12 | 10-11 am \nLevi’s JCC building: 21050 95th Avenue South \nContact: tzippir@ralesjfs.org
URL:https://jewishboca.org/events/tu-bshevat-with-pj-library/
LOCATION:FL
CATEGORIES:Community Events,Federation Events,Special Needs
END:VEVENT
BEGIN:VEVENT
DTSTART;TZID=America/New_York:20230212T150000
DTEND;TZID=America/New_York:20230212T180000
DTSTAMP:20260423T053053
CREATED:20220930T223244Z
LAST-MODIFIED:20221031T164521Z
UID:10000863-1676214000-1676224800@jewishboca.org
SUMMARY:March of the Living Student Class #3
DESCRIPTION:
URL:https://jewishboca.org/events/march-of-the-living-student-class-3/
LOCATION:Clayman/Levine\, Boca Raton\, FL\, 33428\, United States
CATEGORIES:Community Events,March of the Living,Missions
ORGANIZER;CN="Michelle Budin":MAILTO:michellear@bocafed.org
END:VEVENT
BEGIN:VEVENT
DTSTART;TZID=America/New_York:20230213T140000
DTEND;TZID=America/New_York:20230213T150000
DTSTAMP:20260423T053053
CREATED:20220930T223226Z
LAST-MODIFIED:20230203T160309Z
UID:10000859-1676296800-1676300400@jewishboca.org
SUMMARY:Program Funding Council Meeting 1
DESCRIPTION:
URL:https://jewishboca.org/events/local-task-force-meeting-1/
LOCATION:FL
CATEGORIES:Community Events
END:VEVENT
BEGIN:VEVENT
DTSTART;TZID=America/New_York:20230213T180000
DTEND;TZID=America/New_York:20230213T200000
DTSTAMP:20260423T053053
CREATED:20220930T223227Z
LAST-MODIFIED:20221219T211710Z
UID:10000860-1676311200-1676318400@jewishboca.org
SUMMARY:Women's Philanthropy - Challah Cover Making
DESCRIPTION:Join us for a wonderful evening of creativity\, socializing and fun as we create beautiful hand-painted silk challah covers! \nMONDAY\, FEBRUARY 13\, 2023 | 6:00 PM \nZinman Hall – Jewish Federation of South Palm Beach County \n9901 Donna Klein Blvd.\, Boca Raton \nGuest Artist: Loren Stein \nMulti-media artist in mediums such as painting\, paper-cuts\, invitations\, centerpieces\, ritual art and more. \nCo-Chairs: Nancy Aronson and Jill Yesner \nCouvert: $65 per person includes activity\, dinner & wine \nDietary Laws Observed \nThis event is exclusively for Pomegranate and Pearl Society donors. \nA minimum gift of $360 to the 2023 UJA/Jewish Federation of South Palm Beach County Annual Campaign is required to attend. \nRSVP by February 6\, 2023 \nFor more information\, please contact Marissa Vinograd at 561.852.3163 or marissav@bocafed.org \nRSVP:\nRegistration is closed\, but walk-ins are welcome! \n  \n 
URL:https://jewishboca.org/events/womens-philanthropy-pomegranate-society-event/
LOCATION:Zinman Hall
CATEGORIES:Community Events,Federation Events,Pomegranate Society,Women's
ORGANIZER;CN="Marissa Vinograd":MAILTO:marissav@bocafed.org
END:VEVENT
BEGIN:VEVENT
DTSTART;TZID=America/New_York:20230214T083000
DTEND;TZID=America/New_York:20230214T094500
DTSTAMP:20260423T053053
CREATED:20230105T204240Z
LAST-MODIFIED:20230105T204938Z
UID:10001071-1676363400-1676367900@jewishboca.org
SUMMARY:PAC Campus Tour
DESCRIPTION:
URL:https://jewishboca.org/events/pac-campus-tour-2/
LOCATION:Jewish Federation Campus\, 9901 Donna Klein Blvd\, Boca Raton\, FL\, 33428\, United States
CATEGORIES:Community Events
ORGANIZER;CN="Erica Gordon":MAILTO:ericag@bocafed.org
END:VEVENT
BEGIN:VEVENT
DTSTART;TZID=America/New_York:20230215T080000
DTEND;TZID=America/New_York:20230215T170000
DTSTAMP:20260423T053053
CREATED:20221117T143012Z
LAST-MODIFIED:20221117T143012Z
UID:10001022-1676448000-1676480400@jewishboca.org
SUMMARY:2023 B'nai Torah Congregation Concert Series
DESCRIPTION:Music for Humanity Concert Series 2023
URL:https://jewishboca.org/events/2023-bnai-torah-congregation-concert-series/2023-02-15/
LOCATION:B’nai Torah Congregation\, 6261 SW 18th St\, Boca Raton\, F\, 33433\, United States
CATEGORIES:Community Events
ORGANIZER;CN="B'nai Torah Congregation":MAILTO:info@bnai-torah.org
END:VEVENT
BEGIN:VEVENT
DTSTART;TZID=America/New_York:20230215T103000
DTEND;TZID=America/New_York:20230215T143000
DTSTAMP:20260423T053053
CREATED:20220930T223226Z
LAST-MODIFIED:20221031T165338Z
UID:10000858-1676457000-1676471400@jewishboca.org
SUMMARY:Reflections of Hope Luncheon 2023
DESCRIPTION:Annual JFS Luncheon Fundraiser
URL:https://jewishboca.org/events/reflections-of-hope-luncheon-2023/
LOCATION:Boca West Country Club\, 20583 Boca West Drive\, Boca Raton\, 33434\, United States
CATEGORIES:Community Events
ORGANIZER;CN="Jill Waldman":MAILTO:jillw@ralesjfs.org
END:VEVENT
BEGIN:VEVENT
DTSTART;TZID=America/New_York:20230215T120000
DTEND;TZID=America/New_York:20230215T130000
DTSTAMP:20260423T053053
CREATED:20230130T191816Z
LAST-MODIFIED:20230130T191816Z
UID:10001096-1676462400-1676466000@jewishboca.org
SUMMARY:Jewish Disability Advocacy Day (JDAD)
DESCRIPTION:Join us for JDAD as we come together virtually from diverse communities across North America to harness our collective power and break down barriers to opportunity and inclusion. Help us advance policies that can empower millions of individuals with disabilities to lead more independent and fulfilling lives. Together\, we’ll learn\, take action\, and be inspired! \n\nWednesday\, February 15 | 12-1 pm \nRegister Here: https://www.jewishtogether.org/jdad-2023
URL:https://jewishboca.org/events/jewish-disability-advocacy-day-jdad/
LOCATION:FL
CATEGORIES:Community Events,Federation Events,Special Needs
END:VEVENT
BEGIN:VEVENT
DTSTART;TZID=America/New_York:20230215T183000
DTEND;TZID=America/New_York:20230215T183000
DTSTAMP:20260423T053053
CREATED:20230130T191601Z
LAST-MODIFIED:20230130T191601Z
UID:10001095-1676485800-1676485800@jewishboca.org
SUMMARY:Life Care Planning on Zoom
DESCRIPTION:What a Life Care Plan is and the steps recommended to create one for a loved one with special needs. \nWednesday\, February 15 | 6:30 pm \nRegister Here: https://financialguide.zoom.us/meeting/register/tJ0pcOitpzsqH9C5FmZQJucUijWfkF2ATfcX
URL:https://jewishboca.org/events/life-care-planning-on-zoom/
LOCATION:FL
CATEGORIES:Community Events,Federation Events,Special Needs
END:VEVENT
BEGIN:VEVENT
DTSTART;TZID=America/New_York:20230216T093000
DTEND;TZID=America/New_York:20230216T113000
DTSTAMP:20260423T053053
CREATED:20220930T223208Z
LAST-MODIFIED:20221027T182028Z
UID:10000857-1676539800-1676547000@jewishboca.org
SUMMARY:Women's Philanthropy Chapter 2 #4
DESCRIPTION:
URL:https://jewishboca.org/events/womens-philanthropy-chapter-2-4/
LOCATION:Jacobson Family Food Pantry\, 430 S. Congress Avenue\, Delray Beach\, FL\, 33484\, United States
CATEGORIES:Community Events,Federation Events,Women's
ORGANIZER;CN="Marissa Vinograd":MAILTO:marissav@bocafed.org
END:VEVENT
BEGIN:VEVENT
DTSTART;TZID=America/New_York:20230216T163000
DTEND;TZID=America/New_York:20230216T163000
DTSTAMP:20260423T053053
CREATED:20220930T223208Z
LAST-MODIFIED:20221031T165339Z
UID:10000856-1676565000-1676565000@jewishboca.org
SUMMARY:Chapter Two for Men #3
DESCRIPTION:
URL:https://jewishboca.org/events/chapter-two-for-men-3/
LOCATION:FL
CATEGORIES:Community Events
ORGANIZER;CN="Janice Obuchowski":MAILTO:JaniceOb@jewishboca.org
END:VEVENT
BEGIN:VEVENT
DTSTART;TZID=America/New_York:20230216T173000
DTEND;TZID=America/New_York:20230216T173000
DTSTAMP:20260423T053053
CREATED:20221101T161210Z
LAST-MODIFIED:20221101T161210Z
UID:10000980-1676568600-1676568600@jewishboca.org
SUMMARY:JARC Feb Board Meeting
DESCRIPTION:
URL:https://jewishboca.org/events/jarc-feb-board-meeting/
LOCATION:FL
CATEGORIES:Community Events,Federation Events
END:VEVENT
BEGIN:VEVENT
DTSTART;TZID=America/New_York:20230216T190000
DTEND;TZID=America/New_York:20230216T203000
DTSTAMP:20260423T053053
CREATED:20221205T222553Z
LAST-MODIFIED:20230215T191319Z
UID:10001040-1676574000-1676579400@jewishboca.org
SUMMARY:3049 - 30's & 40's Mix and Mingle
DESCRIPTION:30’s & 40’s Mix and Mingle! \nLOTUS CLUBHOUSE \n8190 Paradise Bay Ave\, Boca Raton\, FL 33496\nThursday\, February 16\, 2023 – 7:00PM – 8:30PM \nCOUVERT: $25 PER PERSON \nJoin the Jewish Federation of South Palm Beach County’s 30’s and 40’s Division\, 3049\, for a fun and casual meet up. 3049 is a welcoming space open to singles and couples looking to build friendships and make an impact. \nCome spend time with your neighbors and learn more about the Jewish Federation’s impact locally and globally. \nDairy and Kosher lite bites\, beer\, and wine will be available. \nFor more information\, contact Sandy Baum at 561-852-6065 or sandyb@bocafed.org \n3049 Co-Chairs: Benji Gene and Rachel Schrager \nEvent Co-Chairs: Wendi and Steven Appelbaum\, Ashley and Jamie Black\, Julie and Marc Kantor\, Amanda and Brandon Klein\, Elsa and Eric Rozenberg \nRSVP:\nThough registration has closed\, we are so excited to welcome you as a walk-in. Please tell security you will be attending a Jewish Federation event at the Clubhouse. Please call Sandy Baum with any questions: 954-907-2593.\n \nLOTUS CLUBHOUSE\n\n8190 Paradise Bay Ave\, Boca Raton\, FL 33496\n \nThursday\, FEBRUARY 16\, 2023 – 7:00PM – 8:30PM \n 
URL:https://jewishboca.org/events/3049-mix-mingle/
LOCATION:Lotus Boca Raton The Club\, 8190 Paradise Bay Ave.\, Boca Raton\, FL\, 33496\, United States
CATEGORIES:3049,Community Events,Federation Events
ORGANIZER;CN="Sandy Baum":MAILTO:SandyB@bocafed.org
END:VEVENT
END:VCALENDAR