BEGIN:VCALENDAR
VERSION:2.0
PRODID:-//Jewish Boca - ECPv6.8.3//NONSGML v1.0//EN
CALSCALE:GREGORIAN
METHOD:PUBLISH
X-ORIGINAL-URL:https://jewishboca.org
X-WR-CALDESC:Events for Jewish Boca
REFRESH-INTERVAL;VALUE=DURATION:PT1H
X-Robots-Tag:noindex
X-PUBLISHED-TTL:PT1H
BEGIN:VTIMEZONE
TZID:America/New_York
BEGIN:DAYLIGHT
TZOFFSETFROM:-0500
TZOFFSETTO:-0400
TZNAME:EDT
DTSTART:20250309T070000
END:DAYLIGHT
BEGIN:STANDARD
TZOFFSETFROM:-0400
TZOFFSETTO:-0500
TZNAME:EST
DTSTART:20251102T060000
END:STANDARD
END:VTIMEZONE
BEGIN:VEVENT
DTSTART;TZID=America/New_York:20250404T100000
DTEND;TZID=America/New_York:20250404T100000
DTSTAMP:20260422T094225
CREATED:20250306T193817Z
LAST-MODIFIED:20250402T191304Z
UID:10002871-1743760800-1743760800@jewishboca.org
SUMMARY:Delaire - Jewish Federation Campus Tour
DESCRIPTION:A Campus Experience Like No Other. \nStep inside a bustling hub of activity on the Jewish Federation of South Palm Beach County Campus. \nFeel the expanse of your community as you tour the more than 100 acres that many of our local agencies and programs call home. Meet your neighbors who train the disabled\, feed the hungry\, educate our youth\, cultivate our Jewish community and care for the elderly. \nYou will leave inspired. \n\nFriday\, April 4\, 2025 \n10:00 – 11:30 am \n9901 Donna Klein Blvd. Boca Raton \nMeet in front of Federation building promptly by 10:00 am \nFor information\, please contact: Jessica Matiash at 561.852.5054 or email JessicaM@bocafed.org \nRSVP:\nEvent Registration is now closed. \n  \n  \n 
URL:https://jewishboca.org/events/delaire-jewish-federation-campus-tour/
LOCATION:Jewish Federation of South Palm Beach County\, 9901 Donna Klein Blvd\, Boca Raton\, FL\, 33428\, United States
CATEGORIES:Community Events,Federation Events
ORGANIZER;CN="Jessica Epstein-Matiash":MAILTO:JessicaM@jewishboca.org
END:VEVENT
END:VCALENDAR