BEGIN:VCALENDAR
VERSION:2.0
PRODID:-//Jewish Boca - ECPv6.8.3//NONSGML v1.0//EN
CALSCALE:GREGORIAN
METHOD:PUBLISH
X-ORIGINAL-URL:https://jewishboca.org
X-WR-CALDESC:Events for Jewish Boca
REFRESH-INTERVAL;VALUE=DURATION:PT1H
X-Robots-Tag:noindex
X-PUBLISHED-TTL:PT1H
BEGIN:VTIMEZONE
TZID:America/New_York
BEGIN:DAYLIGHT
TZOFFSETFROM:-0500
TZOFFSETTO:-0400
TZNAME:EDT
DTSTART:20240310T070000
END:DAYLIGHT
BEGIN:STANDARD
TZOFFSETFROM:-0400
TZOFFSETTO:-0500
TZNAME:EST
DTSTART:20241103T060000
END:STANDARD
END:VTIMEZONE
BEGIN:VEVENT
DTSTART;TZID=America/New_York:20240826T103000
DTEND;TZID=America/New_York:20241209T120000
DTSTAMP:20260420T094855
CREATED:20240717T134027Z
LAST-MODIFIED:20240717T134027Z
UID:10002520-1724668200-1733745600@jewishboca.org
SUMMARY:A New Take on Mommy & Me -Multiple Classes & Start Dates
DESCRIPTION:Mommy & Me Classes at Temple Beth El Beck Family Campus \n9800 Yamato Road\, Boca Raton\, FL 33434 \nA New Take on Mommy & Me\nwith an emphasis on Sensory Play For 12 – 24 Months \nSensory activities encourage exploration and facilitate learning organically. This program will provide your toddler with a sense of self as they grow and develop in the warm and nurturing environment that the Beth El Early Learning Center provides. A strong foundation will be set for these young toddlers as they learn to share\, play cooperatively and respect their peers through stories\, songs\, music\, art and movement. Please send an email to Sam Barhai to request more information for upcoming classes. \nFor Babies 12-18 Months & Caregiver\n14 Mondays\nAugust 26 – December 9\n(No class 9/2 and 11/25)\n10:30 am – 12:00 pm\n$490 \nFor Babies 18-24 Months & Caregiver\n13 Wednesdays\nAugust 28 – December 11\n(No class 10/2\, 11/13\, and 11/27)\n9:15 am – 10:45 am\n$455 \nFor Babies 18-24 Months & Caregiver\n12 Fridays\nAugust 30 – December 13\n(No class 10/4\, 10/11\, 11/29\, and 12/6)\n9:15 am – 10:45 am\n$420 \nRegistration for Mommy & Me classes for Fall 2024 opens on\nMonday\, June 10 at 8:00 am.\nIf you have any questions\, please contact Samantha Barhai at SBarhai@tbeboca.org. \n  \nAbout the Curriculum\nThe Mommy & Me curriculum was created by Samantha Barhai\, Beth El Early Learning Center Assistant Director for Curriculum and Student Services. Sam holds a Bachelor’s Degree in Sociology and Child Development\, and a Master’s Degree in Education Administration. She has been with the Beth El Early Learning Center since 2014\, and brings a unique sense of warmth and creativity to her classroom curriculum. \nRegister at: https://tbeboca.shulcloud.com/form/elc-mommy-me-fall-2024.html
URL:https://jewishboca.org/events/a-new-take-on-mommy-me-multiple-classes-start-dates/
LOCATION:Temple Beth El Beck Family Campus\, 9800 Yamato Road\, Boca Raton\, FL\, 33434\, United States
CATEGORIES:Community Events
ATTACH;FMTTYPE=image/jpeg:https://jewishboca.org/wp-content/uploads/2024/07/2023-08-23-ELC-Mommy-and-Me.jpg
ORGANIZER;CN="Temple Beth El Beck Family Campus":MAILTO:SBarhai@tbeboca.org
END:VEVENT
BEGIN:VEVENT
DTSTART;TZID=America/New_York:20241118T093000
DTEND;TZID=America/New_York:20241118T110000
DTSTAMP:20260420T094855
CREATED:20240418T182633Z
LAST-MODIFIED:20241112T153331Z
UID:10002258-1731922200-1731927600@jewishboca.org
SUMMARY:Chapter Two for Men
DESCRIPTION:
URL:https://jewishboca.org/events/chapter-two-for-men-option-2/
LOCATION:Jewish Federation Campus in Levine\, 9901 Donna Klein Blvd\, Boca Raton\, FL\, 33428\, United States
CATEGORIES:Community Events,Federation Events
ORGANIZER;CN="Janice Obuchowski":MAILTO:JaniceOb@jewishboca.org
END:VEVENT
BEGIN:VEVENT
DTSTART;TZID=America/New_York:20241118T120000
DTEND;TZID=America/New_York:20241118T140000
DTSTAMP:20260420T094855
CREATED:20240404T192830Z
LAST-MODIFIED:20241007T173050Z
UID:10002131-1731931200-1731938400@jewishboca.org
SUMMARY:Women's Philanthropy Outreach #1
DESCRIPTION:Connect with like-minded women in St. Andrews. Women in this community make an incredible impact locally and around the world. Come join us! \nMONDAY\, NOVEMBER 18\, 2024 | 12:00 PM \nHOME OF LORI SHEMTOB\n17156 White Haven Dr\, Boca Raton \nLunch will be served and valet parking will be available. \n \nGuest Speaker: Rachie Shnay \nNYC native and grandchild of four Holocaust survivors\, Rachie Shnay is all about spreading positivity\, light\, and working to create a network of women who proudly embrace their Jewish identities in the most sparkly of ways. Rachie started her namesake fine jewelry business in 2019 and has built a massive following with her renowned\, “Mazel Collection.” Thousands of women in her “Mazel Club\,” including many A-list celebrities from Gal Gadot and Noa Tishby to Julianna Margolies and Debra Messing\, wear the pieces with Jewish pride. Rachie has always passionately shared her enthusiasm for Holocaust awareness\, the beauty of Judaism\, and supporting the State of Israel. She is also a co-founder of ‘The Healer’s Collection\,’ a fashion accessory and wellness brand as well as fashion brand\, “Joyce Met Rachie.” \nPieces from the Mazel Collection will be available for purchase with a percentage of each purchase benefitting the Jewish Federation of South Palm Beach County. \nFor more information\, contact Ida Novack at idan@bocafed.org or 561-852-3342. \nRSVP:\n\n 
URL:https://jewishboca.org/events/womens-philanthropy-outreach-2-2/
CATEGORIES:Community Events,Women's
ORGANIZER;CN="Ida Novack":MAILTO:idan@jewishboca.org
END:VEVENT
BEGIN:VEVENT
DTSTART;TZID=America/New_York:20241118T160000
DTEND;TZID=America/New_York:20241118T180000
DTSTAMP:20260420T094855
CREATED:20240404T192929Z
LAST-MODIFIED:20241022T140948Z
UID:10002132-1731945600-1731952800@jewishboca.org
SUMMARY:Women's Philanthropy Woodfield Women's Outreach
DESCRIPTION:You are invited for an afternoon of unity\, sisterhood and friendship \nMONDAY\, NOVEMBER 18\, 2024 | 4:00 PM \nHOSTED AND CHAIRED BY LAURA BEINNER \nADDRESS PROVIDED UPON REGISTRATION \nGuest Speaker: Rachie Shnay \nNYC native and grandchild of four Holocaust survivors\, Rachie Shnay is all about spreading positivity\, light\, and working to create a network of women who proudly embrace their Jewish identities in the most sparkly of ways. \nRachie started her namesake fine jewelry business in 2019\, and has built a massive following with her renowned “Mazel Collection.” Thousands of women in her “Mazel Club\,” including many A-list celebrities from Gal Gadot and Noa Tishby to Julianna Margolies and Debra Messing\, wear the pieces with Jewish pride. Rachie has always passionately shared her enthusiasm for Holocaust awareness\, the beauty of Judaism\, and supporting the State of Israel. She is also a co-founder of “The Healer’s Collection\,” a fashion accessory and wellness brand. \nFor more information\, contact Jodi Faden at jodif@bocafed.org or 516-902-4943. \n  \nRSVP:
URL:https://jewishboca.org/events/womens-philanthropy-outreach-3-2/
CATEGORIES:Community Events,Women's
ORGANIZER;CN="Jodi Faden":MAILTO:jodif@bocafed.org
END:VEVENT
BEGIN:VEVENT
DTSTART;TZID=America/New_York:20241118T170000
DTEND;TZID=America/New_York:20241118T210000
DTSTAMP:20260420T094855
CREATED:20240722T142041Z
LAST-MODIFIED:20240920T192717Z
UID:10002594-1731949200-1731963600@jewishboca.org
SUMMARY:AFMDA Event - Lior Raz at B'nai Torah
DESCRIPTION:TBD
URL:https://jewishboca.org/events/afmda-event-lior-raz-at-temple-beth-el/
LOCATION:Bnai Torah\, 6261 SW 18th St\, Boca Raton\, FL\, 33433\, United States
CATEGORIES:Community Events
ORGANIZER;CN="American Friends of Magen David Adom":MAILTO:lviselman@afmda.org
END:VEVENT
BEGIN:VEVENT
DTSTART;TZID=America/New_York:20241118T173000
DTEND;TZID=America/New_York:20241118T213000
DTSTAMP:20260420T094855
CREATED:20240410T172006Z
LAST-MODIFIED:20240410T172022Z
UID:10002155-1731951000-1731965400@jewishboca.org
SUMMARY:Wexner Seminar
DESCRIPTION:Levine Board Room
URL:https://jewishboca.org/events/wexner-seminar-22/
LOCATION:Jewish Federation of South Palm Beach County – Levine Board Room\, 9901 Donna Klein Blvd.\, Boca Raton
CATEGORIES:Community Events,Federation Events
ORGANIZER;CN="Jessica Rykus":MAILTO:jessicar@bocafed.org
END:VEVENT
END:VCALENDAR