BEGIN:VCALENDAR
VERSION:2.0
PRODID:-//Jewish Boca - ECPv6.8.3//NONSGML v1.0//EN
CALSCALE:GREGORIAN
METHOD:PUBLISH
X-ORIGINAL-URL:https://jewishboca.org
X-WR-CALDESC:Events for Jewish Boca
REFRESH-INTERVAL;VALUE=DURATION:PT1H
X-Robots-Tag:noindex
X-PUBLISHED-TTL:PT1H
BEGIN:VTIMEZONE
TZID:America/New_York
BEGIN:DAYLIGHT
TZOFFSETFROM:-0500
TZOFFSETTO:-0400
TZNAME:EDT
DTSTART:20240310T070000
END:DAYLIGHT
BEGIN:STANDARD
TZOFFSETFROM:-0400
TZOFFSETTO:-0500
TZNAME:EST
DTSTART:20241103T060000
END:STANDARD
END:VTIMEZONE
BEGIN:VEVENT
DTSTART;TZID=America/New_York:20240826T103000
DTEND;TZID=America/New_York:20241209T120000
DTSTAMP:20260425T071101
CREATED:20240717T134027Z
LAST-MODIFIED:20240717T134027Z
UID:10002520-1724668200-1733745600@jewishboca.org
SUMMARY:A New Take on Mommy & Me -Multiple Classes & Start Dates
DESCRIPTION:Mommy & Me Classes at Temple Beth El Beck Family Campus \n9800 Yamato Road\, Boca Raton\, FL 33434 \nA New Take on Mommy & Me\nwith an emphasis on Sensory Play For 12 – 24 Months \nSensory activities encourage exploration and facilitate learning organically. This program will provide your toddler with a sense of self as they grow and develop in the warm and nurturing environment that the Beth El Early Learning Center provides. A strong foundation will be set for these young toddlers as they learn to share\, play cooperatively and respect their peers through stories\, songs\, music\, art and movement. Please send an email to Sam Barhai to request more information for upcoming classes. \nFor Babies 12-18 Months & Caregiver\n14 Mondays\nAugust 26 – December 9\n(No class 9/2 and 11/25)\n10:30 am – 12:00 pm\n$490 \nFor Babies 18-24 Months & Caregiver\n13 Wednesdays\nAugust 28 – December 11\n(No class 10/2\, 11/13\, and 11/27)\n9:15 am – 10:45 am\n$455 \nFor Babies 18-24 Months & Caregiver\n12 Fridays\nAugust 30 – December 13\n(No class 10/4\, 10/11\, 11/29\, and 12/6)\n9:15 am – 10:45 am\n$420 \nRegistration for Mommy & Me classes for Fall 2024 opens on\nMonday\, June 10 at 8:00 am.\nIf you have any questions\, please contact Samantha Barhai at SBarhai@tbeboca.org. \n  \nAbout the Curriculum\nThe Mommy & Me curriculum was created by Samantha Barhai\, Beth El Early Learning Center Assistant Director for Curriculum and Student Services. Sam holds a Bachelor’s Degree in Sociology and Child Development\, and a Master’s Degree in Education Administration. She has been with the Beth El Early Learning Center since 2014\, and brings a unique sense of warmth and creativity to her classroom curriculum. \nRegister at: https://tbeboca.shulcloud.com/form/elc-mommy-me-fall-2024.html
URL:https://jewishboca.org/events/a-new-take-on-mommy-me-multiple-classes-start-dates/
LOCATION:Temple Beth El Beck Family Campus\, 9800 Yamato Road\, Boca Raton\, FL\, 33434\, United States
CATEGORIES:Community Events
ATTACH;FMTTYPE=image/jpeg:https://jewishboca.org/wp-content/uploads/2024/07/2023-08-23-ELC-Mommy-and-Me.jpg
ORGANIZER;CN="Temple Beth El Beck Family Campus":MAILTO:SBarhai@tbeboca.org
END:VEVENT
BEGIN:VEVENT
DTSTART;TZID=America/New_York:20240829T090000
DTEND;TZID=America/New_York:20240829T130000
DTSTAMP:20260425T071101
CREATED:20240723T150852Z
LAST-MODIFIED:20240723T150946Z
UID:10002607-1724922000-1724936400@jewishboca.org
SUMMARY:Palm Beach County Board of Rabbis Israel Bonds Sermon Seminar
DESCRIPTION:Luncheon Reception hosted by Palm Beach Israel Bonds
URL:https://jewishboca.org/events/palm-beach-county-board-of-rabbis-israel-bonds-sermon-seminar/
LOCATION:Temple Beth El\, Temple Beth El 333 SW 4th Ave\, Boca Raton\, FL\, 33432\, United States
CATEGORIES:Community Events
ORGANIZER;CN="Israel Bonds":MAILTO:palmbeach@israelbonds.com
END:VEVENT
BEGIN:VEVENT
DTSTART;TZID=America/New_York:20240829T173000
DTEND;TZID=America/New_York:20240829T193000
DTSTAMP:20260425T071101
CREATED:20240628T170646Z
LAST-MODIFIED:20240628T170646Z
UID:10002468-1724952600-1724959800@jewishboca.org
SUMMARY:Levis JCC Board of Directors Mitzvah Mingle
DESCRIPTION:Adolph & Rose Levis JCC \nSpecial Event for our Board of Directors \nITALIAN NIGHT! \nJoin us for an evening of Food\, Fun\, Mingle & Mitzvah! \nThursday\, August 29\, 2024 \n5:30 – 7:30 \nBeifield Auditorium \nDinner & Mingle\, Followed by Fun & Mitzvah
URL:https://jewishboca.org/events/levis-jcc-board-of-directors-mitzvah-mingle/
LOCATION:Beifield Auditorium\, 21050 95th Ave S\, Boca Raton\, FL\, 33428\, United States
CATEGORIES:Community Events
END:VEVENT
BEGIN:VEVENT
DTSTART;TZID=America/New_York:20240829T190000
DTEND;TZID=America/New_York:20240829T210000
DTSTAMP:20260425T071101
CREATED:20240725T133702Z
LAST-MODIFIED:20240725T133702Z
UID:10002637-1724958000-1724965200@jewishboca.org
SUMMARY:EILU V’EILU THESE AND THOSE: A DEBATE ON JEWISH VALUES AND AMERICAN POLITICS BY TWO OF AMERICAN JEWRY’S MOST PROMINENT SOCIAL POLICY THINKERS
DESCRIPTION:The Talmud records the famous divides between Hillel and Shammai\, but when they honored each other in the midst of their disagreements\, the Holy One would say: “Eilu V’Eilu Divrei Elohim Chayim – These words and those words are the words of the Living God.” \nThousands of years later\, with our nation so divided\, Temple Beth El is proud to host Dr. Tevi Troy and Rabbi David Saperstein for a night of engaging dialogue around the pressing issues facing our people and our nation today. Dr. Troy and Rabbi Saperstein will model how even political protagonists with sharply differing political\, religious\, and ideological views can engage in respectful and constructive dialogue\, offering us an opportunity to learn from two extraordinary leaders and thinkers – the places where they differ\, and where they find common ground. \nRegistration link: https://tbeboca.shulcloud.com/event/eilu-veilu—these-and-those-a-debate-on-jewish-values-and-american-politics.html \nBIOS \n TEVI TROY \nBest-selling author Dr. Tevi Troy formerly served as a senior White House aide\, Deputy Secretary of Health and Human Services and Liaison to the Jewish Community in the Bush administration. The  author of five books on the presidency\, including the forthcoming The Power and the Money: The Epic Clashes Between American Titans of Industry and Commanders in Chief\, he is currently Senior Fellow at the Bipartisan Policy Center\, a Visiting Fellow at the Mercatus Center and a Senior Scholar at Yeshiva University’s Straus Center. \nRABBI DAVID SAPERSTEIN \nFor 40 years\, Rabbi Saperstein served as Director of the Religious Action Center of Reform Judaism\, representing the Reform Jewish Movement in Washington\, DC. In 2014\, he was appointed by President Obama to serve as the first non-Christian US Ambassador-at-Large for International Religious Freedom. Also an attorney\, Rabbi Saperstein taught seminars on church-state law and on comparative Jewish and American law for 35 years at Georgetown University Law Center. \nRegister here 
URL:https://jewishboca.org/events/eilu-veilu-these-and-those-a-debate-on-jewish-values-and-american-politics-by-two-of-american-jewrys-most-prominent-social-policy-thinkers/
LOCATION:Temple Beth El of Boca Raton\, 333 S.W. 4th Avenue\, Boca Raton\, 33432\, United States
CATEGORIES:Community Events
ATTACH;FMTTYPE=image/jpeg:https://jewishboca.org/wp-content/uploads/2024/07/2024-8-29-Eilu-v-Eilu.jpg
ORGANIZER;CN="Temple Beth El of Boca Raton":MAILTO:aspilka@tbeboca.org
END:VEVENT
END:VCALENDAR