BEGIN:VCALENDAR
VERSION:2.0
PRODID:-//Jewish Boca - ECPv6.8.3//NONSGML v1.0//EN
CALSCALE:GREGORIAN
METHOD:PUBLISH
X-ORIGINAL-URL:https://jewishboca.org
X-WR-CALDESC:Events for Jewish Boca
REFRESH-INTERVAL;VALUE=DURATION:PT1H
X-Robots-Tag:noindex
X-PUBLISHED-TTL:PT1H
BEGIN:VTIMEZONE
TZID:America/New_York
BEGIN:DAYLIGHT
TZOFFSETFROM:-0500
TZOFFSETTO:-0400
TZNAME:EDT
DTSTART:20230312T070000
END:DAYLIGHT
BEGIN:STANDARD
TZOFFSETFROM:-0400
TZOFFSETTO:-0500
TZNAME:EST
DTSTART:20231105T060000
END:STANDARD
END:VTIMEZONE
BEGIN:VEVENT
DTSTART;VALUE=DATE:20231105
DTEND;VALUE=DATE:20231108
DTSTAMP:20260421T042535
CREATED:20230224T204406Z
LAST-MODIFIED:20230224T204406Z
UID:10001127-1699142400-1699401599@jewishboca.org
SUMMARY:FedPro23
DESCRIPTION:FedPro23: Save the date for our national conference\, which is open to all Federation professionals\, and which combines FedPro and FTPI (Finance\, Technology\, People\, and Innovation). FedPro23 will take place from November 5 to 7 at the Hilton Chicago; the room rate will be $299 plus tax. Registration will launch in May; details on registration fees will be released soon. For more information\, please email Jessica Balboni.
URL:https://jewishboca.org/events/fedpro23/
CATEGORIES:Community Events,Federation Events
END:VEVENT
BEGIN:VEVENT
DTSTART;TZID=America/New_York:20231105T083000
DTEND;TZID=America/New_York:20231105T123000
DTSTAMP:20260421T042535
CREATED:20230831T191434Z
LAST-MODIFIED:20230831T191434Z
UID:10001801-1699173000-1699187400@jewishboca.org
SUMMARY:JFS Board of Directors Retreat
DESCRIPTION:Board of Directors Retreat
URL:https://jewishboca.org/events/jfs-board-of-directors-retreat/
LOCATION:Shirley & Barton Weisman Delray Community Center\, 7091 W Atlantic Ave\, Delray Beach\, FL\, 33446\, United States
CATEGORIES:Community Events,Jewish Family Services (JFS)
END:VEVENT
BEGIN:VEVENT
DTSTART;TZID=America/New_York:20231105T123000
DTEND;TZID=America/New_York:20231105T193000
DTSTAMP:20260421T042535
CREATED:20230531T154653Z
LAST-MODIFIED:20230913T203720Z
UID:10001556-1699187400-1699212600@jewishboca.org
SUMMARY:22nd Annual Kristallnacht Film Forum
DESCRIPTION:THE WILD ONE illuminates the journey of an enigmatic artist\, Jack Garfein—Holocaust survivor\, celebrated Broadway director\, Actors Studio West co-founder\, and controversial filmmaker. It examines how his experience in the concentration camps shaped his vision of acting as a survival mechanism and propelled his engagement with themes of violence\, power\, and racism in postwar America in two explosive films\, “The Strange One” (1957) and “Something Wild” (1961). The film explores the importance of his legacy as an artist who confronted censorship and reveals how art can draw on personal memory to better enlighten our present. \nHONORING MARY ECKSTEIN \n \nSUNDAY\, NOVEMBER 5\, 2023 \nSCREENING TIMES: 12:30 PM & 4:30 PM | DONOR RECEPTION: 3:00 PM \nQ & A after each screening \nZinman Hall – Jewish Federation of South Palm Beach County \n9901 Donna Klein Blvd.\, Boca Raton \nTickets: $18 adult | $10 student \nKFF donors of $180 or more will receive two tickets to the film and are \ninvited to attend a Donor Reception honoring Mary Eckstein. \nEvent Chairs: Denise Leinhardt and Ruth Saitowitz \nDietary laws observed. \nFor more information\, contact Michelle Archambault at 561.852.6041 or email KFF@bocafed.org. \nRSVP:\nEvent Registration is now closed.
URL:https://jewishboca.org/events/kff-kristallnacht-film-forum/
LOCATION:Jewish Federation of South Palm Beach County – Zinman Hall\, 9901 Donna Klein Blvd.\, Boca Raton\, FL\, 33428\, United States
CATEGORIES:Community Events,Featured,Federation Events
ORGANIZER;CN="Michelle Budin":MAILTO:michellear@bocafed.org
END:VEVENT
END:VCALENDAR