BEGIN:VCALENDAR
VERSION:2.0
PRODID:-//Jewish Boca - ECPv6.8.3//NONSGML v1.0//EN
CALSCALE:GREGORIAN
METHOD:PUBLISH
X-ORIGINAL-URL:https://jewishboca.org
X-WR-CALDESC:Events for Jewish Boca
REFRESH-INTERVAL;VALUE=DURATION:PT1H
X-Robots-Tag:noindex
X-PUBLISHED-TTL:PT1H
BEGIN:VTIMEZONE
TZID:America/New_York
BEGIN:DAYLIGHT
TZOFFSETFROM:-0500
TZOFFSETTO:-0400
TZNAME:EDT
DTSTART:20230312T070000
END:DAYLIGHT
BEGIN:STANDARD
TZOFFSETFROM:-0400
TZOFFSETTO:-0500
TZNAME:EST
DTSTART:20231105T060000
END:STANDARD
END:VTIMEZONE
BEGIN:VEVENT
DTSTART;VALUE=DATE:20231009
DTEND;VALUE=DATE:20231017
DTSTAMP:20260421T050111
CREATED:20230410T170956Z
LAST-MODIFIED:20230803T195321Z
UID:10001348-1696809600-1697500799@jewishboca.org
SUMMARY:Boca Rio Israel Together Mission
DESCRIPTION:
URL:https://jewishboca.org/events/boca-rio-israel-together-mission/
CATEGORIES:Community Events,Federation Events
ORGANIZER;CN="Felice Naide":MAILTO:felicen@bocafed.org
END:VEVENT
BEGIN:VEVENT
DTSTART;TZID=America/New_York:20231010T160000
DTEND;TZID=America/New_York:20231010T170000
DTSTAMP:20260421T050111
CREATED:20230322T135153Z
LAST-MODIFIED:20230322T135153Z
UID:10001294-1696953600-1696957200@jewishboca.org
SUMMARY:JFS at Home Board Meeting
DESCRIPTION:JFS at Home Board Meeting
URL:https://jewishboca.org/events/jfs-at-home-board-meeting/
LOCATION:Zoom
CATEGORIES:Community Events
END:VEVENT
BEGIN:VEVENT
DTSTART;TZID=America/New_York:20231010T170000
DTEND;TZID=America/New_York:20231010T180000
DTSTAMP:20260421T050111
CREATED:20230606T193505Z
LAST-MODIFIED:20230606T193638Z
UID:10001590-1696957200-1696960800@jewishboca.org
SUMMARY:JARC Board Meeting
DESCRIPTION:JARC Board Meeting
URL:https://jewishboca.org/events/jarc-board-meeting-2/
LOCATION:JARC FL\, 21160 95th ave south\, Boca Raton\, FL\, 33428\, United States
CATEGORIES:Community Events
END:VEVENT
BEGIN:VEVENT
DTSTART;TZID=America/New_York:20231010T173000
DTEND;TZID=America/New_York:20231010T183000
DTSTAMP:20260421T050111
CREATED:20230322T205553Z
LAST-MODIFIED:20230322T205553Z
UID:10001278-1696959000-1696962600@jewishboca.org
SUMMARY:JFS Executive Committee Meeting
DESCRIPTION:Governance – JFS Executive Committee Meeting
URL:https://jewishboca.org/events/jfs-executive-committee-meeting-3/
LOCATION:Ruth and Norman Rales JFS
CATEGORIES:Community Events
END:VEVENT
BEGIN:VEVENT
DTSTART;TZID=America/New_York:20231010T180000
DTEND;TZID=America/New_York:20231010T180000
DTSTAMP:20260421T050111
CREATED:20231009T135516Z
LAST-MODIFIED:20231010T023009Z
UID:10001849-1696960800-1696960800@jewishboca.org
SUMMARY:Israel Solidarity Gathering
DESCRIPTION:Make your voice of support heard! Dress in blue and white and join your community as we pray for our families and friends and the safety of Israel. \nTuesday\, October 10\, 2023 \nProgram will begin promptly at 6:00 pm \n(allow ample time for parking and security – carpooling encouraged) \nCongregation B’nai Israel \n2200 Yamato Road\, Boca Raton \nLimited Seating | Registration Required \nGovernment Photo ID Required for all attendees \nCLICK HERE TO DONATE TO THE ISRAEL EMERGENCY CAMPAIGN \nFor more information\, contact 561-852-3100 or jcrc@bocafed.org. \nRSVP:\nDue to overwhelming support for Israel in our South Palm Beach community we have reached max capacity for this event. Please join us online via webinar. \nPlease click the link below to join the webinar:\nhttps://us06web.zoom.us/j/81385696545
URL:https://jewishboca.org/events/israel-solidarity-gathering/
LOCATION:Congregation B’nai Israel\, 2200 Yamato Road\, BOCA RATON\, FL\, 33431-4325\, United States
CATEGORIES:Community Events,Federation Events
ORGANIZER;CN="Marissa Trowbridge":MAILTO:marissat@bocafed.org
END:VEVENT
END:VCALENDAR