BEGIN:VCALENDAR
VERSION:2.0
PRODID:-//Jewish Boca - ECPv6.8.3//NONSGML v1.0//EN
CALSCALE:GREGORIAN
METHOD:PUBLISH
X-WR-CALNAME:Jewish Boca
X-ORIGINAL-URL:https://jewishboca.org
X-WR-CALDESC:Events for Jewish Boca
REFRESH-INTERVAL;VALUE=DURATION:PT1H
X-Robots-Tag:noindex
X-PUBLISHED-TTL:PT1H
BEGIN:VTIMEZONE
TZID:America/New_York
BEGIN:DAYLIGHT
TZOFFSETFROM:-0500
TZOFFSETTO:-0400
TZNAME:EDT
DTSTART:20230312T070000
END:DAYLIGHT
BEGIN:STANDARD
TZOFFSETFROM:-0400
TZOFFSETTO:-0500
TZNAME:EST
DTSTART:20231105T060000
END:STANDARD
END:VTIMEZONE
BEGIN:VEVENT
DTSTART;TZID=America/New_York:20230301T110000
DTEND;TZID=America/New_York:20230301T133000
DTSTAMP:20260423T005542
CREATED:20230329T192013Z
LAST-MODIFIED:20230329T192013Z
UID:10001305-1677668400-1677677400@jewishboca.org
SUMMARY:The New Directions Luncheon
DESCRIPTION:The annual New Directions Luncheon\, benefitting National Jewish Health\, will take place Friday March 1\, 2024 at Boca West Country Club. \nNational Jewish Health is the leading respiratory hospital in the nation. Founded 124 years ago as a nonprofit hospital\, National Jewish Health today is the only facility in the world dedicated exclusively to groundbreaking medical research and treatment of patients with respiratory\, cardiac\, immune and related disorders. Patients and families come to National Jewish Health from around the world to receive cutting-edge\, comprehensive\, coordinated care. To learn more\, visit njhealth.org.
URL:https://jewishboca.org/events/the-new-directions-luncheon-3/
LOCATION:Boca West Country Club\, 20583 Boca West Drive\, Boca Raton\, 33434\, United States
CATEGORIES:Community Events
ATTACH;FMTTYPE=image/jpeg:https://jewishboca.org/wp-content/uploads/2023/03/RGB-Logo-w_tagline.jpg
ORGANIZER;CN="Danielle Ross":MAILTO:rossd@njhealth.org
END:VEVENT
BEGIN:VEVENT
DTSTART;TZID=America/New_York:20230301T160000
DTEND;TZID=America/New_York:20230301T180000
DTSTAMP:20260423T005542
CREATED:20220930T223109Z
LAST-MODIFIED:20230223T144648Z
UID:10000842-1677686400-1677693600@jewishboca.org
SUMMARY:PJ Library Presents Purim and Pizza
DESCRIPTION:Special Guest Author and Illustrator: Alan Silberberg\, author of “Meet the Hamantaschen”\, will introduce us to his characters\, share his story and teach us how to “foodle doodle”. \n \nWednesday\, March 1\, 2023 \n4:00 – 6 :00pm \nMulticultural Arts Center\, Jewish Federation of SPBC campus\, Boca Raton \nRegistration is required and space is limited. \n$10 per family. Kosher pizza dinner included. \nPurim costumes welcome! \n(This program is for families with kids ages 5-10.) \nPlease bring a box or two of pasta to be donated to the Jacobson Family Food Pantry at JFS. \nFor more information\, please contact PJ Library Director Elana Ostroff at pjlibrary@bocafed.org or 561-852-6080. \nRSVP:\nEvent Registration is now closed.
URL:https://jewishboca.org/events/pj-library-presents-purim-and-pizza/
LOCATION:Multicultural Arts Center\, Jewish Federation of SPBC campus\, 9901 Donna Klein Blvd\, Boca Raton\, 33428
CATEGORIES:Community Events,Federation Events,PJ Library
ORGANIZER;CN="Elana Ostroff":MAILTO:ElanaO@jewishboca.org
END:VEVENT
BEGIN:VEVENT
DTSTART;TZID=America/New_York:20230301T173000
DTEND;TZID=America/New_York:20230301T173000
DTSTAMP:20260423T005542
CREATED:20230119T202125Z
LAST-MODIFIED:20230131T150946Z
UID:10001080-1677691800-1677691800@jewishboca.org
SUMMARY:PAC Networking Happy Hour
DESCRIPTION:Join us for the next PAC Networking Happy Hour. \nMix and mingle with your fellow PAC members. \nWednesday\, March 1\, 2023 • 5:30 p.m. \nBurtons Grill & Bar \n5580 N. Military Trail\, Boca Raton \nCouvert: $25 \nEstate planning colleagues who are eligible to join the PAC are welcome to attend. Separate registration is required. \nVegetarian options and kosher lite bites will be available. \nPAC Networking Happy Hour Co-Chairs: Lenny Sklawer\, Insurance Advisor and Stephanie Midler\, CIMA®\, CFP® \nPAC Chair: \nBryan M. Drowos\, CFP®\, CPWA® \nFor more information\, please contact Erica Gordon\, Director\, Foundation Development at EricaG@bocafed.org or 561.852.3114. \nRSVP:
URL:https://jewishboca.org/events/pac-networking-happy-hour-2/
LOCATION:Burton’s Grill & Bar\, 5580 North Military Trail\, Boca Raton\, FL\, 33496\, United States
CATEGORIES:Community Events,Federation Events,Jacobson Jewish Community Foundation (JJCF),PAC
ORGANIZER;CN="Erica Gordon":MAILTO:ericag@bocafed.org
END:VEVENT
BEGIN:VEVENT
DTSTART;TZID=America/New_York:20230301T173000
DTEND;TZID=America/New_York:20230301T190000
DTSTAMP:20260423T005542
CREATED:20221101T161354Z
LAST-MODIFIED:20221101T161354Z
UID:10000981-1677691800-1677697200@jewishboca.org
SUMMARY:DKJA Board Meeting
DESCRIPTION:
URL:https://jewishboca.org/events/dkja-board-meeting-4/
LOCATION:FL
CATEGORIES:Community Events,Federation Events
END:VEVENT
END:VCALENDAR