BEGIN:VCALENDAR
VERSION:2.0
PRODID:-//Jewish Boca - ECPv6.8.3//NONSGML v1.0//EN
CALSCALE:GREGORIAN
METHOD:PUBLISH
X-WR-CALNAME:Jewish Boca
X-ORIGINAL-URL:https://jewishboca.org
X-WR-CALDESC:Events for Jewish Boca
REFRESH-INTERVAL;VALUE=DURATION:PT1H
X-Robots-Tag:noindex
X-PUBLISHED-TTL:PT1H
BEGIN:VTIMEZONE
TZID:UTC
BEGIN:STANDARD
TZOFFSETFROM:+0000
TZOFFSETTO:+0000
TZNAME:UTC
DTSTART:20220101T000000
END:STANDARD
END:VTIMEZONE
BEGIN:VEVENT
DTSTART;TZID=UTC:20221027T103000
DTEND;TZID=UTC:20221027T103000
DTSTAMP:20260424T052212
CREATED:20220930T104154Z
LAST-MODIFIED:20221013T221549Z
UID:10000605-1666866600-1666866600@jewishboca.org
SUMMARY:Levis JCC Golf Classic 1
DESCRIPTION:Golf Classic
URL:https://jewishboca.org/events/levis-jcc-golf-classic-1/
CATEGORIES:Community Events
ORGANIZER;CN="Lauren Koblick":MAILTO:laurenk@levisjcc.org
END:VEVENT
END:VCALENDAR