BEGIN:VCALENDAR
VERSION:2.0
PRODID:-//Jewish Boca - ECPv6.8.3//NONSGML v1.0//EN
CALSCALE:GREGORIAN
METHOD:PUBLISH
X-WR-CALNAME:Jewish Boca
X-ORIGINAL-URL:https://jewishboca.org
X-WR-CALDESC:Events for Jewish Boca
REFRESH-INTERVAL;VALUE=DURATION:PT1H
X-Robots-Tag:noindex
X-PUBLISHED-TTL:PT1H
BEGIN:VTIMEZONE
TZID:UTC
BEGIN:STANDARD
TZOFFSETFROM:+0000
TZOFFSETTO:+0000
TZNAME:UTC
DTSTART:20220101T000000
END:STANDARD
END:VTIMEZONE
BEGIN:VEVENT
DTSTART;TZID=UTC:20221026T093000
DTEND;TZID=UTC:20221026T120000
DTSTAMP:20260421T065217
CREATED:20220818T201333Z
LAST-MODIFIED:20221025T180447Z
UID:10000218-1666776600-1666785600@jewishboca.org
SUMMARY:Women's Philanthropy Fall Kick Off
DESCRIPTION:Women’s Philanthropy Fall Kickoff\nElyssa Friedland\nAcclaimed author of five novels and an upcoming picture book. \nChairs: Jill Swimmer and Madeline Tabin\nCouvert: $65 per person \nNo minimum gift required to attend. There will be no solicitation of funds. \nBreakfast will be served. Dietary laws observed. \nThis event features open seating. Register early! Space is limited. \nRSVP by October 20\, 2022 \nFor more information\, contact Marissa Vinograd at 561-852-3163 or marissav@bocafed.org. \nPurchase Ticket RSVP\nPre registration is closed but walk-ins are welcome!\n \n \n 
URL:https://jewishboca.org/events/womens-philanthropy-kick-off/
LOCATION:Temple Beth El\, Temple Beth El 333 SW 4th Ave\, Boca Raton\, FL\, 33432\, United States
CATEGORIES:Community Events,Federation Events,Women's
ATTACH;FMTTYPE=image/jpeg:https://jewishboca.org/wp-content/uploads/2022/10/globe.jpg
ORGANIZER;CN="Marissa Vinograd":MAILTO:marissav@bocafed.org
END:VEVENT
END:VCALENDAR