BEGIN:VCALENDAR
VERSION:2.0
PRODID:-//Jewish Boca - ECPv6.8.3//NONSGML v1.0//EN
CALSCALE:GREGORIAN
METHOD:PUBLISH
X-WR-CALNAME:Jewish Boca
X-ORIGINAL-URL:https://jewishboca.org
X-WR-CALDESC:Events for Jewish Boca
REFRESH-INTERVAL;VALUE=DURATION:PT1H
X-Robots-Tag:noindex
X-PUBLISHED-TTL:PT1H
BEGIN:VTIMEZONE
TZID:America/New_York
BEGIN:DAYLIGHT
TZOFFSETFROM:-0500
TZOFFSETTO:-0400
TZNAME:EDT
DTSTART:20240310T070000
END:DAYLIGHT
BEGIN:STANDARD
TZOFFSETFROM:-0400
TZOFFSETTO:-0500
TZNAME:EST
DTSTART:20241103T060000
END:STANDARD
END:VTIMEZONE
BEGIN:VEVENT
DTSTART;VALUE=DATE:20240731
DTEND;VALUE=DATE:20240803
DTSTAMP:20260423T161733
CREATED:20240719T152133Z
LAST-MODIFIED:20240719T152133Z
UID:10002589-1722384000-1722643199@jewishboca.org
SUMMARY:National Young Leadership Cabinet - Real Estate Summit*
DESCRIPTION:*Invite Only \nJuly 31- August 2\, 2024 – Vail\, CO
URL:https://jewishboca.org/events/national-young-leadership-cabinet-real-estate-summit/
CATEGORIES:Community Events,Federation Events
ORGANIZER;CN="Allison O'Mara":MAILTO:allisono@jewishboca.org
END:VEVENT
BEGIN:VEVENT
DTSTART;TZID=America/New_York:20240806T173000
DTEND;TZID=America/New_York:20240806T190000
DTSTAMP:20260423T161733
CREATED:20240806T141346Z
LAST-MODIFIED:20240806T141346Z
UID:10002657-1722965400-1722970800@jewishboca.org
SUMMARY:JARC Board Meeting
DESCRIPTION:tbd
URL:https://jewishboca.org/events/jarc-board-meeting-11/
LOCATION:JARC FL\, 21160 95th ave south\, Boca Raton\, FL\, 33428\, United States
CATEGORIES:Community Events
ORGANIZER;CN="Vanessa Freer":MAILTO:vanessaf@jarcfl.org
END:VEVENT
BEGIN:VEVENT
DTSTART;TZID=America/New_York:20240812T193000
DTEND;TZID=America/New_York:20240812T233000
DTSTAMP:20260423T161733
CREATED:20230802T211815Z
LAST-MODIFIED:20230802T211815Z
UID:10001738-1723491000-1723505400@jewishboca.org
SUMMARY:The Fast of Tish'a B'Av begins at sunset
DESCRIPTION:
URL:https://jewishboca.org/events/the-fast-of-tisha-bav-begins-at-sunset/
CATEGORIES:Community Events,Federation Events
END:VEVENT
BEGIN:VEVENT
DTSTART;VALUE=DATE:20240813
DTEND;VALUE=DATE:20240814
DTSTAMP:20260423T161733
CREATED:20230802T211242Z
LAST-MODIFIED:20230802T211242Z
UID:10001737-1723507200-1723593599@jewishboca.org
SUMMARY:The Fast of Tish'a B'Av
DESCRIPTION:
URL:https://jewishboca.org/events/the-fast-of-tisha-bav/
CATEGORIES:Community Events,Federation Events
END:VEVENT
BEGIN:VEVENT
DTSTART;TZID=America/New_York:20240819T080000
DTEND;TZID=America/New_York:20240819T170000
DTSTAMP:20260423T161733
CREATED:20230502T145309Z
LAST-MODIFIED:20230502T170244Z
UID:10001399-1724054400-1724086800@jewishboca.org
SUMMARY:Tu B'Av
DESCRIPTION:
URL:https://jewishboca.org/events/tu-bav/
CATEGORIES:Community Events,Federation Events
END:VEVENT
BEGIN:VEVENT
DTSTART;TZID=America/New_York:20240819T180000
DTEND;TZID=America/New_York:20240819T200000
DTSTAMP:20260423T161733
CREATED:20240322T135647Z
LAST-MODIFIED:20240322T135647Z
UID:10002086-1724090400-1724097600@jewishboca.org
SUMMARY:Levis JCC Mitzvah Mingle
DESCRIPTION:Singles event for 40s\, 50s\, and 60s to meet\, mingle and work on a meaningful and purposeful mitzvah.
URL:https://jewishboca.org/events/levis-jcc-mitzvah-mingle/
LOCATION:Beifield Auditorium\, 21050 95th Ave S\, Boca Raton\, FL\, 33428\, United States
CATEGORIES:Community Events
END:VEVENT
BEGIN:VEVENT
DTSTART;VALUE=DATE:20240821
DTEND;VALUE=DATE:20240822
DTSTAMP:20260423T161733
CREATED:20240806T141118Z
LAST-MODIFIED:20240806T141118Z
UID:10002649-1724198400-1724284799@jewishboca.org
SUMMARY:Prospective New Member Open House
DESCRIPTION:Tour\, schmooze and get to know us! We are thrilled to welcome the community to our Schaefer Family Campus to experience this beautiful expression of Judaism for themselves. Invite your friends and neighbors to meet our clergy\, tour the building\, learn about the gorgeous Judaic art installations and experience what makes Temple Beth El unique. Sign up to tour\, schmooze and receive a special gift. \n*two different open house times: 11:30am-1:00pm or 6:30pm-8:00pm
URL:https://jewishboca.org/events/prospective-new-member-open-house/
LOCATION:Temple Beth El of Boca Raton\, 333 S.W. 4th Avenue\, Boca Raton\, 33432\, United States
CATEGORIES:Community Events
END:VEVENT
BEGIN:VEVENT
DTSTART;TZID=America/New_York:20240821T113000
DTEND;TZID=America/New_York:20240821T130000
DTSTAMP:20260423T161733
CREATED:20240710T164828Z
LAST-MODIFIED:20240715T140904Z
UID:10002487-1724239800-1724245200@jewishboca.org
SUMMARY:OPEN HOUSE FOR PROSPECTIVE MEMBERS - TWO TIME SLOTS
DESCRIPTION:Temple Beth El of Boca Raton is looking forward to welcoming the community to their Schaefer Family Campus in east Boca Raton\, to experience this beautiful expression of Judaism for themselves. Invite your friends and neighbors to meet our clergy\, tour the building\, learn about membership and see the gorgeous Judaic art installations\, as you experience what makes Temple Beth El unique. Sign up to tour\, schmooze and receive a special gift. Registration is required.  \nTwo time slot options: \n\n11:30 am – 1:00 pm\n6:30 pm – 8:00 pm
URL:https://jewishboca.org/events/open-house-for-prosepective-members-two-time-slots/
LOCATION:Temple Beth El of Boca Raton\, 333 S.W. 4th Avenue\, Boca Raton\, 33432\, United States
CATEGORIES:Community Events
ATTACH;FMTTYPE=image/jpeg:https://jewishboca.org/wp-content/uploads/2024/07/2024-8-21-Open-House.jpg
ORGANIZER;CN="Temple Beth El of Boca Raton":MAILTO:sstallone@tbeboca.org
END:VEVENT
BEGIN:VEVENT
DTSTART;TZID=America/New_York:20240821T170000
DTEND;TZID=America/New_York:20240821T180000
DTSTAMP:20260423T161733
CREATED:20240221T181728Z
LAST-MODIFIED:20240718T152935Z
UID:10002530-1724259600-1724263200@jewishboca.org
SUMMARY:JFS Executive Committee Meeting
DESCRIPTION:JFS Executive Committee Meeting
URL:https://jewishboca.org/events/jfs-executive-committee-meeting-5/2024-08-21/
LOCATION:Cooperman Center Classroom
CATEGORIES:Community Events,Jewish Family Services (JFS)
ORGANIZER;CN="Bonnie Goldberg":MAILTO:bonniego@ralesjfs.org
END:VEVENT
BEGIN:VEVENT
DTSTART;TZID=America/New_York:20240821T180000
DTEND;TZID=America/New_York:20240821T200000
DTSTAMP:20260423T161733
CREATED:20240628T170806Z
LAST-MODIFIED:20240628T170842Z
UID:10002469-1724263200-1724270400@jewishboca.org
SUMMARY:Levis JCC Board of Directors Meeting
DESCRIPTION:Our first meeting of the 2024-2025 fiscal year.
URL:https://jewishboca.org/events/levis-jcc-board-of-directors-meeting/
CATEGORIES:Community Events
END:VEVENT
BEGIN:VEVENT
DTSTART;TZID=America/New_York:20240822T170000
DTEND;TZID=America/New_York:20240822T180000
DTSTAMP:20260423T161733
CREATED:20240221T181728Z
LAST-MODIFIED:20240718T152935Z
UID:10001982-1724346000-1724349600@jewishboca.org
SUMMARY:JFS Executive Committee Meeting
DESCRIPTION:JFS Executive Committee Meeting
URL:https://jewishboca.org/events/jfs-executive-committee-meeting-5/2024-08-22/
LOCATION:Cooperman Center Classroom
CATEGORIES:Community Events,Jewish Family Services (JFS)
ORGANIZER;CN="Bonnie Goldberg":MAILTO:bonniego@ralesjfs.org
END:VEVENT
BEGIN:VEVENT
DTSTART;TZID=America/New_York:20240822T180000
DTEND;TZID=America/New_York:20240822T190000
DTSTAMP:20260423T161733
CREATED:20240221T181657Z
LAST-MODIFIED:20240718T200708Z
UID:10002043-1724349600-1724353200@jewishboca.org
SUMMARY:JFS Board of Directors Meeting
DESCRIPTION:JFS Board of Directors Meeting
URL:https://jewishboca.org/events/jfs-board-of-directors-meeting-2/2024-08-22/
LOCATION:Cooperman Center Classroom
CATEGORIES:Community Events,Jewish Family Services (JFS)
END:VEVENT
BEGIN:VEVENT
DTSTART;TZID=America/New_York:20240825T133000
DTEND;TZID=America/New_York:20240825T163000
DTSTAMP:20260423T161733
CREATED:20240823T151719Z
LAST-MODIFIED:20240823T151719Z
UID:10002694-1724592600-1724603400@jewishboca.org
SUMMARY:Montana Tucker throws first pitch at Miami Marlins Jewish Community Celebration Game on August 25
DESCRIPTION:Join Montana Tucker as she throws the ceremonial first pitch before the Marlins take on the Chicago Cubs this Sunday\, as part of the Miami Marlins’ annual Jewish Community Celebration.\n\nSouth Florida native\, Tucker is an award-winning actress\, singer\, dancer\, philanthropist and social media activist.\n\nThe Marlins are offering special ticket packages that include a commemorative Jewish Community Celebration Marlins jersey and access to a pre-game talk with author Howard Megdal.\n\nAbout Montana Tucker: With nearly 14 million followers across her social media platforms\, Tucker actively uses her influence to combat antisemitism and other forms of hate. She has been honored by notable figures and organizations\, including New York City Mayor Eric Adams\, the City of Beverly Hills\, the Combating Antisemitism Movement\, the National Holocaust Museum\, Artists 4 Israel\, the Auschwitz Jewish Center and the International Influencer Awards\, among many others
URL:https://jewishboca.org/events/montana-tucker-throws-first-pitch-at-miami-marlins-jewish-community-celebration-game-on-august-25/
LOCATION:loanDepot park\, 501 Marlins Way\, Miami\, 33125\, United States
CATEGORIES:Community Events
ATTACH;FMTTYPE=image/jpeg:https://jewishboca.org/wp-content/uploads/2024/08/Montana-Tucker-with-flag.jpeg
END:VEVENT
BEGIN:VEVENT
DTSTART;TZID=America/New_York:20240826T103000
DTEND;TZID=America/New_York:20241209T120000
DTSTAMP:20260423T161733
CREATED:20240717T134027Z
LAST-MODIFIED:20240717T134027Z
UID:10002520-1724668200-1733745600@jewishboca.org
SUMMARY:A New Take on Mommy & Me -Multiple Classes & Start Dates
DESCRIPTION:Mommy & Me Classes at Temple Beth El Beck Family Campus \n9800 Yamato Road\, Boca Raton\, FL 33434 \nA New Take on Mommy & Me\nwith an emphasis on Sensory Play For 12 – 24 Months \nSensory activities encourage exploration and facilitate learning organically. This program will provide your toddler with a sense of self as they grow and develop in the warm and nurturing environment that the Beth El Early Learning Center provides. A strong foundation will be set for these young toddlers as they learn to share\, play cooperatively and respect their peers through stories\, songs\, music\, art and movement. Please send an email to Sam Barhai to request more information for upcoming classes. \nFor Babies 12-18 Months & Caregiver\n14 Mondays\nAugust 26 – December 9\n(No class 9/2 and 11/25)\n10:30 am – 12:00 pm\n$490 \nFor Babies 18-24 Months & Caregiver\n13 Wednesdays\nAugust 28 – December 11\n(No class 10/2\, 11/13\, and 11/27)\n9:15 am – 10:45 am\n$455 \nFor Babies 18-24 Months & Caregiver\n12 Fridays\nAugust 30 – December 13\n(No class 10/4\, 10/11\, 11/29\, and 12/6)\n9:15 am – 10:45 am\n$420 \nRegistration for Mommy & Me classes for Fall 2024 opens on\nMonday\, June 10 at 8:00 am.\nIf you have any questions\, please contact Samantha Barhai at SBarhai@tbeboca.org. \n  \nAbout the Curriculum\nThe Mommy & Me curriculum was created by Samantha Barhai\, Beth El Early Learning Center Assistant Director for Curriculum and Student Services. Sam holds a Bachelor’s Degree in Sociology and Child Development\, and a Master’s Degree in Education Administration. She has been with the Beth El Early Learning Center since 2014\, and brings a unique sense of warmth and creativity to her classroom curriculum. \nRegister at: https://tbeboca.shulcloud.com/form/elc-mommy-me-fall-2024.html
URL:https://jewishboca.org/events/a-new-take-on-mommy-me-multiple-classes-start-dates/
LOCATION:Temple Beth El Beck Family Campus\, 9800 Yamato Road\, Boca Raton\, FL\, 33434\, United States
CATEGORIES:Community Events
ATTACH;FMTTYPE=image/jpeg:https://jewishboca.org/wp-content/uploads/2024/07/2023-08-23-ELC-Mommy-and-Me.jpg
ORGANIZER;CN="Temple Beth El Beck Family Campus":MAILTO:SBarhai@tbeboca.org
END:VEVENT
BEGIN:VEVENT
DTSTART;TZID=America/New_York:20240826T173000
DTEND;TZID=America/New_York:20240826T213000
DTSTAMP:20260423T161733
CREATED:20240410T165829Z
LAST-MODIFIED:20240410T171113Z
UID:10002150-1724693400-1724707800@jewishboca.org
SUMMARY:Wexner Seminar
DESCRIPTION:Levine Board Room
URL:https://jewishboca.org/events/wexner-seminar-17/
LOCATION:Jewish Federation of South Palm Beach County – Levine Board Room\, 9901 Donna Klein Blvd.\, Boca Raton
CATEGORIES:Community Events,Federation Events
ORGANIZER;CN="Jessica Rykus":MAILTO:jessicar@bocafed.org
END:VEVENT
BEGIN:VEVENT
DTSTART;TZID=America/New_York:20240827T114500
DTEND;TZID=America/New_York:20240827T133000
DTSTAMP:20260423T161733
CREATED:20240322T135723Z
LAST-MODIFIED:20240322T135723Z
UID:10002087-1724759100-1724765400@jewishboca.org
SUMMARY:Levis JCC JBiz - Business Networking Event
DESCRIPTION:Levis JCC JBiz – Business Networking Event at The Farmer’s Table
URL:https://jewishboca.org/events/levis-jcc-jbiz-business-networking-event-2/
LOCATION:Farmer’s Table
CATEGORIES:Community Events
ORGANIZER;CN="Ilana Ducorsky":MAILTO:Ilanad@levisjcc.org
END:VEVENT
BEGIN:VEVENT
DTSTART;TZID=America/New_York:20240827T170000
DTEND;TZID=America/New_York:20240827T180000
DTSTAMP:20260423T161733
CREATED:20240724T152213Z
LAST-MODIFIED:20240724T152213Z
UID:10002624-1724778000-1724781600@jewishboca.org
SUMMARY:Hillel of Broward and Palm Beach Executive Committee Meeting
DESCRIPTION:Hillel of Broward and Palm Beach Executive Committee Meeting
URL:https://jewishboca.org/events/hillel-of-broward-and-palm-beach-executive-committee-meeting-6/2024-08-27/
CATEGORIES:Community Events
ORGANIZER;CN="Hillel of Broward and Palm Beach":MAILTO:sonni@hillelcenter.org
END:VEVENT
BEGIN:VEVENT
DTSTART;TZID=America/New_York:20240828T163000
DTEND;TZID=America/New_York:20240828T173000
DTSTAMP:20260423T161733
CREATED:20220930T202416Z
LAST-MODIFIED:20221013T221511Z
UID:10000661-1724862600-1724866200@jewishboca.org
SUMMARY:Federation Executive Committee Meeting
DESCRIPTION:
URL:https://jewishboca.org/events/federation-executive-committee-meeting-18/
CATEGORIES:Community Events,Federation Events
ORGANIZER;CN="Jessica Rykus":MAILTO:jessicar@bocafed.org
END:VEVENT
BEGIN:VEVENT
DTSTART;TZID=America/New_York:20240828T173000
DTEND;TZID=America/New_York:20240828T183000
DTSTAMP:20260423T161733
CREATED:20220930T202416Z
LAST-MODIFIED:20221013T221511Z
UID:10000660-1724866200-1724869800@jewishboca.org
SUMMARY:Federation Board of Directors Meeting
DESCRIPTION:
URL:https://jewishboca.org/events/federation-board-of-directors-meeting-8/
LOCATION:Zoom
CATEGORIES:Community Events,Federation Events
ORGANIZER;CN="Jessica Rykus":MAILTO:jessicar@bocafed.org
END:VEVENT
BEGIN:VEVENT
DTSTART;TZID=America/New_York:20240829T090000
DTEND;TZID=America/New_York:20240829T130000
DTSTAMP:20260423T161733
CREATED:20240723T150852Z
LAST-MODIFIED:20240723T150946Z
UID:10002607-1724922000-1724936400@jewishboca.org
SUMMARY:Palm Beach County Board of Rabbis Israel Bonds Sermon Seminar
DESCRIPTION:Luncheon Reception hosted by Palm Beach Israel Bonds
URL:https://jewishboca.org/events/palm-beach-county-board-of-rabbis-israel-bonds-sermon-seminar/
LOCATION:Temple Beth El\, Temple Beth El 333 SW 4th Ave\, Boca Raton\, FL\, 33432\, United States
CATEGORIES:Community Events
ORGANIZER;CN="Israel Bonds":MAILTO:palmbeach@israelbonds.com
END:VEVENT
BEGIN:VEVENT
DTSTART;TZID=America/New_York:20240829T173000
DTEND;TZID=America/New_York:20240829T193000
DTSTAMP:20260423T161733
CREATED:20240628T170646Z
LAST-MODIFIED:20240628T170646Z
UID:10002468-1724952600-1724959800@jewishboca.org
SUMMARY:Levis JCC Board of Directors Mitzvah Mingle
DESCRIPTION:Adolph & Rose Levis JCC \nSpecial Event for our Board of Directors \nITALIAN NIGHT! \nJoin us for an evening of Food\, Fun\, Mingle & Mitzvah! \nThursday\, August 29\, 2024 \n5:30 – 7:30 \nBeifield Auditorium \nDinner & Mingle\, Followed by Fun & Mitzvah
URL:https://jewishboca.org/events/levis-jcc-board-of-directors-mitzvah-mingle/
LOCATION:Beifield Auditorium\, 21050 95th Ave S\, Boca Raton\, FL\, 33428\, United States
CATEGORIES:Community Events
END:VEVENT
BEGIN:VEVENT
DTSTART;TZID=America/New_York:20240829T190000
DTEND;TZID=America/New_York:20240829T210000
DTSTAMP:20260423T161733
CREATED:20240725T133702Z
LAST-MODIFIED:20240725T133702Z
UID:10002637-1724958000-1724965200@jewishboca.org
SUMMARY:EILU V’EILU THESE AND THOSE: A DEBATE ON JEWISH VALUES AND AMERICAN POLITICS BY TWO OF AMERICAN JEWRY’S MOST PROMINENT SOCIAL POLICY THINKERS
DESCRIPTION:The Talmud records the famous divides between Hillel and Shammai\, but when they honored each other in the midst of their disagreements\, the Holy One would say: “Eilu V’Eilu Divrei Elohim Chayim – These words and those words are the words of the Living God.” \nThousands of years later\, with our nation so divided\, Temple Beth El is proud to host Dr. Tevi Troy and Rabbi David Saperstein for a night of engaging dialogue around the pressing issues facing our people and our nation today. Dr. Troy and Rabbi Saperstein will model how even political protagonists with sharply differing political\, religious\, and ideological views can engage in respectful and constructive dialogue\, offering us an opportunity to learn from two extraordinary leaders and thinkers – the places where they differ\, and where they find common ground. \nRegistration link: https://tbeboca.shulcloud.com/event/eilu-veilu—these-and-those-a-debate-on-jewish-values-and-american-politics.html \nBIOS \n TEVI TROY \nBest-selling author Dr. Tevi Troy formerly served as a senior White House aide\, Deputy Secretary of Health and Human Services and Liaison to the Jewish Community in the Bush administration. The  author of five books on the presidency\, including the forthcoming The Power and the Money: The Epic Clashes Between American Titans of Industry and Commanders in Chief\, he is currently Senior Fellow at the Bipartisan Policy Center\, a Visiting Fellow at the Mercatus Center and a Senior Scholar at Yeshiva University’s Straus Center. \nRABBI DAVID SAPERSTEIN \nFor 40 years\, Rabbi Saperstein served as Director of the Religious Action Center of Reform Judaism\, representing the Reform Jewish Movement in Washington\, DC. In 2014\, he was appointed by President Obama to serve as the first non-Christian US Ambassador-at-Large for International Religious Freedom. Also an attorney\, Rabbi Saperstein taught seminars on church-state law and on comparative Jewish and American law for 35 years at Georgetown University Law Center. \nRegister here 
URL:https://jewishboca.org/events/eilu-veilu-these-and-those-a-debate-on-jewish-values-and-american-politics-by-two-of-american-jewrys-most-prominent-social-policy-thinkers/
LOCATION:Temple Beth El of Boca Raton\, 333 S.W. 4th Avenue\, Boca Raton\, 33432\, United States
CATEGORIES:Community Events
ATTACH;FMTTYPE=image/jpeg:https://jewishboca.org/wp-content/uploads/2024/07/2024-8-29-Eilu-v-Eilu.jpg
ORGANIZER;CN="Temple Beth El of Boca Raton":MAILTO:aspilka@tbeboca.org
END:VEVENT
END:VCALENDAR