BEGIN:VCALENDAR
VERSION:2.0
PRODID:-//Jewish Boca - ECPv6.8.3//NONSGML v1.0//EN
CALSCALE:GREGORIAN
METHOD:PUBLISH
X-WR-CALNAME:Jewish Boca
X-ORIGINAL-URL:https://jewishboca.org
X-WR-CALDESC:Events for Jewish Boca
REFRESH-INTERVAL;VALUE=DURATION:PT1H
X-Robots-Tag:noindex
X-PUBLISHED-TTL:PT1H
BEGIN:VTIMEZONE
TZID:America/New_York
BEGIN:DAYLIGHT
TZOFFSETFROM:-0500
TZOFFSETTO:-0400
TZNAME:EDT
DTSTART:20240310T070000
END:DAYLIGHT
BEGIN:STANDARD
TZOFFSETFROM:-0400
TZOFFSETTO:-0500
TZNAME:EST
DTSTART:20241103T060000
END:STANDARD
END:VTIMEZONE
BEGIN:VEVENT
DTSTART;VALUE=DATE:20240704
DTEND;VALUE=DATE:20240705
DTSTAMP:20260421T123140
CREATED:20230801T182225Z
LAST-MODIFIED:20230801T182225Z
UID:10001727-1720051200-1720137599@jewishboca.org
SUMMARY:Independence Day
DESCRIPTION:
URL:https://jewishboca.org/events/independence-day/
CATEGORIES:Community Events,Federation Events
END:VEVENT
BEGIN:VEVENT
DTSTART;VALUE=DATE:20240708
DTEND;VALUE=DATE:20240715
DTSTAMP:20260421T123140
CREATED:20240208T200113Z
LAST-MODIFIED:20240208T200113Z
UID:10001958-1720396800-1721001599@jewishboca.org
SUMMARY:2024 FRD Leadership Mission to Berlin and Israel
DESCRIPTION:
URL:https://jewishboca.org/events/2024-frd-leadership-mission-to-berlin-and-israel/
CATEGORIES:Community Events,Federation Events
END:VEVENT
BEGIN:VEVENT
DTSTART;TZID=America/New_York:20240717T193000
DTEND;TZID=America/New_York:20240717T213000
DTSTAMP:20260421T123140
CREATED:20240531T184610Z
LAST-MODIFIED:20240531T184929Z
UID:10002405-1721244600-1721251800@jewishboca.org
SUMMARY:PJ Library® Books\, Brews & Bingo
DESCRIPTION:July 17 | 7:30 – 9:30PM \nProsperity Brewers\n4160 NW 1ST Ave.\nBoca Raton\, FL \n$36 per adult or $54 per couple \n(Includes kosher lite bites and 2 drink tickets) \nRSVP required. Space is limited. \nFor more information\, please contact PJ Library® Director\, Elana Ostroff at pjlibrary@bocafed.org or 561-852-6080. \nPJ Library® in South Palm Beach County is made possible by generous support from the Jewish Federation of South Palm Beach County\, Leon and Toby Cooperman Family Foundation\, Jewish Women’s Foundation and the Harold Grinspoon Foundation. \nThe IRS requires to inform you that the cost of your couvert is not tax-deductible. A COPY OF THE OFFICIAL REGISTRATION SC-02157 AND FINANCIAL INFORMATION MAY BE OBTAINED FROM THE DIVISION OF CONSUMER SERVICES BY CALLING TOLL FREE 1-800-HELP-FLA (436-7352) WITHIN THE STATE OF FLORIDA OR850-410-3800 OUTSIDE OF THE STATE OF FLORIDA. REGISTRATION DOES NOT IMPLY ENDORSEMENT\, OR RECOMMENDATION BY THE STATE.\nRSVP:
URL:https://jewishboca.org/events/pj-library-books-brews-bingo/
LOCATION:Prosperity Brewers\, 4160 NW 1ST Ave\, #21\, Boca Raton\, FL\, 33431\, United States
CATEGORIES:Community Events,Federation Events,PJ Library
ORGANIZER;CN="PJ Library%C2%AE":MAILTO:pjlibrary@jewishboca.org
END:VEVENT
BEGIN:VEVENT
DTSTART;TZID=America/New_York:20240718T173000
DTEND;TZID=America/New_York:20240718T210000
DTSTAMP:20260421T123140
CREATED:20230425T182128Z
LAST-MODIFIED:20240603T153043Z
UID:10001362-1721323800-1721336400@jewishboca.org
SUMMARY:Levis JCC Run\, Sweat & Beers 5k
DESCRIPTION:On Thursday evening\, July 18\, 2024\, we run in the setting summer sun. Those 21+ will enjoy beer from Barrel of Monks Brewery at our post-race party.
URL:https://jewishboca.org/events/levis-jcc-run-sweat-beers-5k-2/
LOCATION:South County Regional Park
CATEGORIES:Community Events
END:VEVENT
BEGIN:VEVENT
DTSTART;TZID=America/New_York:20240721T170000
DTEND;TZID=America/New_York:20240721T180000
DTSTAMP:20260421T123140
CREATED:20240221T181728Z
LAST-MODIFIED:20240718T152935Z
UID:10002529-1721581200-1721584800@jewishboca.org
SUMMARY:JFS Executive Committee Meeting
DESCRIPTION:JFS Executive Committee Meeting
URL:https://jewishboca.org/events/jfs-executive-committee-meeting-5/2024-07-21/
LOCATION:Cooperman Center Classroom
CATEGORIES:Community Events,Jewish Family Services (JFS)
ORGANIZER;CN="Bonnie Goldberg":MAILTO:bonniego@ralesjfs.org
END:VEVENT
BEGIN:VEVENT
DTSTART;TZID=America/New_York:20240723T080000
DTEND;TZID=America/New_York:20240723T170000
DTSTAMP:20260421T123140
CREATED:20230502T145037Z
LAST-MODIFIED:20230502T170136Z
UID:10001397-1721721600-1721754000@jewishboca.org
SUMMARY:Fast of Tammuz
DESCRIPTION:
URL:https://jewishboca.org/events/fast-of-tammuz/
CATEGORIES:Community Events,Federation Events
END:VEVENT
BEGIN:VEVENT
DTSTART;TZID=America/New_York:20240724T173000
DTEND;TZID=America/New_York:20240724T193000
DTSTAMP:20260421T123140
CREATED:20240531T174152Z
LAST-MODIFIED:20240531T190316Z
UID:10001716-1721842200-1721849400@jewishboca.org
SUMMARY:B&P Summer Networking Happy Hour
DESCRIPTION:Wednesday\, July 24\, 2024 5:30 – 7:30pm \nBoca Raton Marriott at Boca Center\n5150 Town Center Circle\, Boca Raton \nCouvert: $50 per person | $55 at the door \nTwo drink tickets provided. \nLite bites. Dietary laws observed. \nSpace is limited. RSVP in advance. \nSummer Happy Hour Chair: Dan Levine \n B&P Division Chairs: Geil Bilu and Sandy Gerstein \nFor more information\, contact: Marc Fishman\, Interim Director\, Business Philanthropy 561-852-3169 | marcf@bocafed.org \nRSVP:\n\n 
URL:https://jewishboca.org/events/bp-summer-networking-happy-hour-3/
LOCATION:Boca Raton Marriott at Boca Center
CATEGORIES:B&P,Community Events,Federation Events
ORGANIZER;CN="Marc Fishman":MAILTO:marcf@bocafed.org
END:VEVENT
BEGIN:VEVENT
DTSTART;VALUE=DATE:20240731
DTEND;VALUE=DATE:20240803
DTSTAMP:20260421T123140
CREATED:20240719T152133Z
LAST-MODIFIED:20240719T152133Z
UID:10002589-1722384000-1722643199@jewishboca.org
SUMMARY:National Young Leadership Cabinet - Real Estate Summit*
DESCRIPTION:*Invite Only \nJuly 31- August 2\, 2024 – Vail\, CO
URL:https://jewishboca.org/events/national-young-leadership-cabinet-real-estate-summit/
CATEGORIES:Community Events,Federation Events
ORGANIZER;CN="Allison O'Mara":MAILTO:allisono@jewishboca.org
END:VEVENT
BEGIN:VEVENT
DTSTART;TZID=America/New_York:20240731T180000
DTEND;TZID=America/New_York:20240731T200000
DTSTAMP:20260421T123140
CREATED:20240605T174809Z
LAST-MODIFIED:20240605T174809Z
UID:10002431-1722448800-1722456000@jewishboca.org
SUMMARY:3049 Committee Meeting
DESCRIPTION:
URL:https://jewishboca.org/events/3049-committee-meeting-3/
LOCATION:Levine Board Room\, Boca Raton\, FL\, 33428\, United States
CATEGORIES:Community Events
ORGANIZER;CN="Allison O'Mara":MAILTO:allisono@jewishboca.org
END:VEVENT
END:VCALENDAR