BEGIN:VCALENDAR
VERSION:2.0
PRODID:-//Jewish Boca - ECPv6.8.3//NONSGML v1.0//EN
CALSCALE:GREGORIAN
METHOD:PUBLISH
X-ORIGINAL-URL:https://jewishboca.org
X-WR-CALDESC:Events for Jewish Boca
REFRESH-INTERVAL;VALUE=DURATION:PT1H
X-Robots-Tag:noindex
X-PUBLISHED-TTL:PT1H
BEGIN:VTIMEZONE
TZID:America/New_York
BEGIN:DAYLIGHT
TZOFFSETFROM:-0500
TZOFFSETTO:-0400
TZNAME:EDT
DTSTART:20230312T070000
END:DAYLIGHT
BEGIN:STANDARD
TZOFFSETFROM:-0400
TZOFFSETTO:-0500
TZNAME:EST
DTSTART:20231105T060000
END:STANDARD
TZID:UTC
BEGIN:STANDARD
TZOFFSETFROM:+0000
TZOFFSETTO:+0000
TZNAME:UTC
DTSTART:20230101T000000
END:STANDARD
END:VTIMEZONE
BEGIN:VEVENT
DTSTART;VALUE=DATE:20230128
DTEND;VALUE=DATE:20230205
DTSTAMP:20260422T235222
CREATED:20220930T212353Z
LAST-MODIFIED:20230512T153820Z
UID:10000760-1674864000-1675555199@jewishboca.org
SUMMARY:2023 General Assembly in Israel
DESCRIPTION:
URL:https://jewishboca.org/events/2023-general-assembly-in-israel-9/
LOCATION:FL
CATEGORIES:Community Events
END:VEVENT
BEGIN:VEVENT
DTSTART;TZID=America/New_York:20230201T104500
DTEND;TZID=America/New_York:20230201T140000
DTSTAMP:20260422T235222
CREATED:20220930T223322Z
LAST-MODIFIED:20230112T160922Z
UID:10000884-1675248300-1675260000@jewishboca.org
SUMMARY:Lion of Judah Luncheon
DESCRIPTION:WEDNESDAY\, FEBRUARY 1\, 2023 \nThe Polo Club \n\n\nEvent Chair: Shirley Weisman \n\n\nChair\, Women’s Philanthropy: Elyssa Kupferberg \n\n\nVice Chair Campaign\, Women’s Philanthropy: Shelly Snyder \n\n\nFor more information\, please contact Caissa Vega at: \n561-852-6061\, caissav@bocafed.org. \n\nA minimum individual woman’s gift of $5\,000 to the 2023 UJA/Jewish Federation of South Palm Beach County Annual Campaign is required to attend.
URL:https://jewishboca.org/events/lion-of-judah-luncheon/
LOCATION:The Polo Club\, 5400 Champion Blvd\, Boca Raton\, FL\, 33496\, United States
CATEGORIES:Community Events,Federation Events,Lion of Judah,Women's
ATTACH;FMTTYPE=image/jpeg:https://jewishboca.org/wp-content/uploads/2022/10/globe.jpg
ORGANIZER;CN="Kathleen Ben-Shoaff":MAILTO:KathleenB@jewishboca.org
END:VEVENT
BEGIN:VEVENT
DTSTART;TZID=America/New_York:20230202T093000
DTEND;TZID=America/New_York:20230202T110000
DTSTAMP:20260422T235222
CREATED:20230109T215936Z
LAST-MODIFIED:20230109T215936Z
UID:10001025-1675330200-1675335600@jewishboca.org
SUMMARY:Jewish Community Special Needs Panel Discussion
DESCRIPTION:Find out about resources and services in the local Jewish community for people with special needs  and their families. Please register at www.jewishboca.org/jdaim
URL:https://jewishboca.org/events/jewish-community-special-needs-panel-discussion/
LOCATION:Zoom
CATEGORIES:Community Events,Federation Events
ORGANIZER;CN="Tzippi Rosen":MAILTO:tzippir@ralesjfs.org
END:VEVENT
BEGIN:VEVENT
DTSTART;TZID=America/New_York:20230202T093000
DTEND;TZID=America/New_York:20230202T110000
DTSTAMP:20260422T235222
CREATED:20230130T183425Z
LAST-MODIFIED:20230130T191942Z
UID:10001093-1675330200-1675335600@jewishboca.org
SUMMARY:South Palm Beach County Special Needs Panel Discussion on Zoom
DESCRIPTION:Join us throughout the month of February for events exploring inclusion and advocacy and learn about the special needs programs offered within the Jewish community. \nLearn about the various agencies and special needs programs supported by the Jewish Federation of South Palm Beach County. \nThursday\, February 2 | 9:30-11 am \nRegister Here: https://us06web.zoom.us/meeting/register/tZcoc-6qqzopGtblnGfa3wOkVcWdIwR1xV_J
URL:https://jewishboca.org/events/south-palm-beach-county-special-needs-panel-discussion/
LOCATION:FL
CATEGORIES:Community Events,Federation Events,Special Needs
END:VEVENT
BEGIN:VEVENT
DTSTART;TZID=America/New_York:20230202T093000
DTEND;TZID=America/New_York:20230202T113000
DTSTAMP:20260422T235222
CREATED:20221101T145102Z
LAST-MODIFIED:20230113T151719Z
UID:10000960-1675330200-1675337400@jewishboca.org
SUMMARY:Addison Reserve Campus Tour
DESCRIPTION:NEW DATES\nAddison Reserve \nJoin our next Jewish Federation CAMPUS TOUR \nThursday\, February 2\, 2023 \n9:30 am – 11:30 am \n9901 Donna Klein Blvd. Boca Raton \nThis campus tour is exclusive to Addison Reserve. \nChairs: Wendy and Bruce Dan \nA Campus Experience Like No Other. \nStep inside a bustling hub of activity at the Jewish Federation of South Palm Beach County Campus. \nFeel the expanse of your community as you tour the more than 100 acres that many of our local agencies and programs call home. Meet your neighbors who train the disabled\, feed the hungry\, educate our youth\, cultivate our Jewish community and care for the elderly. You will be inspired. \nSAVE THE DATE FOR OUR NEXT TOUR: \nThursday\, March 30\, 2023 \nRSVP:\nEvent Registration is now closed.
URL:https://jewishboca.org/events/addison-reserve-campus-tour-option-1/
LOCATION:FL
CATEGORIES:Community Events,Federation Events
ORGANIZER;CN="Janice Obuchowski":MAILTO:JaniceOb@jewishboca.org
END:VEVENT
BEGIN:VEVENT
DTSTART;TZID=America/New_York:20230202T180000
DTEND;TZID=America/New_York:20230202T210000
DTSTAMP:20260422T235222
CREATED:20221101T161044Z
LAST-MODIFIED:20221101T161044Z
UID:10000979-1675360800-1675371600@jewishboca.org
SUMMARY:2023 S. Florida President’s Society Dinner
DESCRIPTION:Jewish National Fund-USA 2023 Annual S. Florida President’s Society Dinner \n$10\,000 Gift to 2023 Campaign required \nFor more information contact:\nLee Lebovich\nllebovich@jnf.org\n561-447-9733 x882
URL:https://jewishboca.org/events/2023-s-florida-presidents-society-dinner/
LOCATION:The Addison\, 2 E Camino Real\, Boca Raton\, FL\, 33432\, United States
CATEGORIES:Community Events
END:VEVENT
BEGIN:VEVENT
DTSTART;TZID=America/New_York:20230202T190000
DTEND;TZID=America/New_York:20230202T203000
DTSTAMP:20260422T235222
CREATED:20220930T223322Z
LAST-MODIFIED:20221031T164521Z
UID:10000883-1675364400-1675369800@jewishboca.org
SUMMARY:March of the Living Parent Meeting #1
DESCRIPTION:
URL:https://jewishboca.org/events/march-of-the-living-parent-meeting-1/
LOCATION:Zinman Hall
CATEGORIES:Community Events,March of the Living,Missions
ORGANIZER;CN="Michelle Budin":MAILTO:michellear@bocafed.org
END:VEVENT
BEGIN:VEVENT
DTSTART;TZID=America/New_York:20230203T093000
DTEND;TZID=America/New_York:20230203T120000
DTSTAMP:20260422T235222
CREATED:20220930T223311Z
LAST-MODIFIED:20221031T165334Z
UID:10000879-1675416600-1675425600@jewishboca.org
SUMMARY:JNF-USA Annual 2023 Winter Connection Brunch
DESCRIPTION:Jewish National Fund-USA Annual 2023 Winter Connection Brunch\nSave the Date! Details to follow.
URL:https://jewishboca.org/events/jnf-usa-annual-2023-winter-connection-brunch/
LOCATION:Boca\, Boca Raton\, FL\, 33428\, United States
CATEGORIES:Community Events
ORGANIZER;CN="Laura Sherry":MAILTO:lsherry@jnf.org
END:VEVENT
BEGIN:VEVENT
DTSTART;TZID=America/New_York:20230204T190000
DTEND;TZID=America/New_York:20230204T230000
DTSTAMP:20260422T235222
CREATED:20220930T223311Z
LAST-MODIFIED:20221013T221548Z
UID:10000878-1675537200-1675551600@jewishboca.org
SUMMARY:Levis JCC Jeans\, Jewels & The J
DESCRIPTION:Levis JCC Annual Fundraiser
URL:https://jewishboca.org/events/levis-jcc-jeans-jewels-the-j-2/
LOCATION:FL
CATEGORIES:Community Events
END:VEVENT
BEGIN:VEVENT
DTSTART;TZID=America/New_York:20230205T000000
DTEND;TZID=America/New_York:20230205T000000
DTSTAMP:20260422T235222
CREATED:20220930T223304Z
LAST-MODIFIED:20221031T165335Z
UID:10000877-1675555200-1675555200@jewishboca.org
SUMMARY:Tu B’Shevat Begins at Sunset
DESCRIPTION:
URL:https://jewishboca.org/events/tu-bshevat-begins-at-sunset/
LOCATION:FL
CATEGORIES:Community Events
END:VEVENT
BEGIN:VEVENT
DTSTART;TZID=America/New_York:20230205T000000
DTEND;TZID=America/New_York:20230205T000000
DTSTAMP:20260422T235222
CREATED:20220930T223304Z
LAST-MODIFIED:20221031T165335Z
UID:10000875-1675555200-1675555200@jewishboca.org
SUMMARY:KHDS Journal Dinner 2023
DESCRIPTION:KHDS Annual Journal Dinner
URL:https://jewishboca.org/events/khds-journal-dinner-2023/
LOCATION:FL
CATEGORIES:Community Events
ORGANIZER;CN="Suzanne Rice":MAILTO:suzanner@hilleldayschool.org
END:VEVENT
BEGIN:VEVENT
DTSTART;TZID=America/New_York:20230205T130000
DTEND;TZID=America/New_York:20230205T143000
DTSTAMP:20260422T235222
CREATED:20220930T223303Z
LAST-MODIFIED:20230118T171358Z
UID:10000874-1675602000-1675607400@jewishboca.org
SUMMARY:Tu B'shvat with PJ Our Way
DESCRIPTION:
URL:https://jewishboca.org/events/tu-bshvat-with-pj-library/
LOCATION:FL
CATEGORIES:Community Events,Federation Events,PJ Library
ORGANIZER;CN="Elana Ostroff":MAILTO:ElanaO@jewishboca.org
END:VEVENT
BEGIN:VEVENT
DTSTART;TZID=America/New_York:20230205T130000
DTEND;TZID=America/New_York:20230205T150000
DTSTAMP:20260422T235222
CREATED:20220930T223304Z
LAST-MODIFIED:20221031T164523Z
UID:10000876-1675602000-1675609200@jewishboca.org
SUMMARY:From March to Miriam Luncheon
DESCRIPTION:
URL:https://jewishboca.org/events/from-march-to-miriam-luncheon/
LOCATION:FL
CATEGORIES:Community Events,March of the Living,Missions
ORGANIZER;CN="Michelle Budin":MAILTO:michellear@bocafed.org
END:VEVENT
BEGIN:VEVENT
DTSTART;TZID=America/New_York:20230205T160000
DTEND;TZID=America/New_York:20230205T180000
DTSTAMP:20260422T235222
CREATED:20220930T223303Z
LAST-MODIFIED:20221031T164655Z
UID:10000873-1675612800-1675620000@jewishboca.org
SUMMARY:Gold Coast/ Major Gifts Event
DESCRIPTION:
URL:https://jewishboca.org/events/gold-coast-major-gifts-event/
LOCATION:FL
CATEGORIES:Community Events,Federation Events,Major Donors
ORGANIZER;CN="Felice Naide":MAILTO:felicen@bocafed.org
END:VEVENT
BEGIN:VEVENT
DTSTART;TZID=America/New_York:20230205T170000
DTEND;TZID=America/New_York:20230205T170000
DTSTAMP:20260422T235222
CREATED:20230110T162626Z
LAST-MODIFIED:20230110T162955Z
UID:10001044-1675616400-1675616400@jewishboca.org
SUMMARY:Major Gifts Outreach
DESCRIPTION:Join us for a riveting presentation featuring Chuck Lichtman\, sole interviewer of the infamous terrorist\, Carlos the Jackal. \nFebruary 5\, 2023 at 5:00 pm \nOne Thousand Ocean \nHosted by Elissa Annunziato and Robert Rossman \nPlease invite your friends and neighbors. \nLight hors d’oeuvres. \n \nWhile researching his new novel\, The Sword of David\, Chuck Lichtman spent seven days in a Paris jail with the notorious terrorist\, Carlos the Jackal for his first and only in depth interview ever. Carlos the Jackal\, was the world’s most feared terrorist\, spending years on the Most Wanted List before his 1994 capture. He remained silent about his exploits and motivations-until now. Join us\, and get into the mind of a terrorist. \nRSVP required to attend. \nFor more information\, contact Ida Novack at 561-852-3342 or idan@bocafed.org. \nRSVP:\nEvent Registration is now closed.
URL:https://jewishboca.org/events/major-gifts-outreach/
LOCATION:One Thousand Ocean\, 1000 S Ocean Blvd.\, Boca Raton\, FL\, 33432\, United States
CATEGORIES:Community Events,Federation Events
ORGANIZER;CN="Ida Novack":MAILTO:idan@jewishboca.org
END:VEVENT
BEGIN:VEVENT
DTSTART;TZID=America/New_York:20230206T000000
DTEND;TZID=America/New_York:20230206T000000
DTSTAMP:20260422T235222
CREATED:20220930T223252Z
LAST-MODIFIED:20221031T165336Z
UID:10000872-1675641600-1675641600@jewishboca.org
SUMMARY:Tu BiShvat
DESCRIPTION:
URL:https://jewishboca.org/events/tu-bishvat/
LOCATION:FL
CATEGORIES:Community Events
END:VEVENT
BEGIN:VEVENT
DTSTART;TZID=America/New_York:20230206T180000
DTEND;TZID=America/New_York:20230206T180000
DTSTAMP:20260422T235222
CREATED:20220930T223252Z
LAST-MODIFIED:20221013T221648Z
UID:10000871-1675706400-1675706400@jewishboca.org
SUMMARY:I Am Hillel 2023
DESCRIPTION:Hillel of Broward and Palm Beach annual fundraising gala
URL:https://jewishboca.org/events/i-am-hillel-2023/
LOCATION:FL
CATEGORIES:Community Events
END:VEVENT
BEGIN:VEVENT
DTSTART;TZID=America/New_York:20230207T173000
DTEND;TZID=America/New_York:20230207T190000
DTSTAMP:20260422T235222
CREATED:20221109T152010Z
LAST-MODIFIED:20230109T174145Z
UID:10001012-1675791000-1675796400@jewishboca.org
SUMMARY:New York Home Town Event
DESCRIPTION:Cocktails and Conversation \nConnect with other New York neighbors to learn about your growing\, vibrant South Palm Beach County Jewish community. \nTUESDAY\, FEBRUARY 7TH | 5:30 – 7:00 PM \nRosenbaum Contemporary Art Gallery \n150 NW 51st Street\, Suite 150-a\, Boca Raton \nChair: Lisa Friedman Clark & Bruce Clark \nHOST COMMITTEE \nRandi Brett \nLori Certilman \nMeryl & Ron Gallatin \nMindy & David Goldman \nDebbie & Ken Gross \nLisa Konsker & Mickey Ross \nSusan Krause \nJennifer Rusinek \nJoan & Barry Winograd \nBonnie Witler \nLight bites and cocktails will be served. \nFor additional information\, contact Jodi Faden at JodiF@bocafed.org. \nRSVP:\nEvent Registration is now closed
URL:https://jewishboca.org/events/new-york-home-town-event/
LOCATION:Rosenbaum Contemporary Art Gallery\, 150 Yamato Road\, Boca Raton \, Boca Raton\, FL\, 33428\, United States
CATEGORIES:Community Events,Federation Events
ORGANIZER;CN="Jodi Faden":MAILTO:jodif@bocafed.org
END:VEVENT
BEGIN:VEVENT
DTSTART;TZID=America/New_York:20230208T160000
DTEND;TZID=America/New_York:20230208T160000
DTSTAMP:20260422T235222
CREATED:20220930T223251Z
LAST-MODIFIED:20230113T145350Z
UID:10000868-1675872000-1675872000@jewishboca.org
SUMMARY:Gold Coast - Wine\, Cheese & Wright
DESCRIPTION:Frank Lloyd Wright: \nThe Dramatic Life of America’s Most Controversial and Creative Architect \nPresented by Richard René Silvin \n \nFrank Lloyd Wright has been called the greatest American architect of the first half of the twentiethcentury. During a career that spanned seven decades\, he worked on over a thousand projects. Many of his structures are still studied by students from all over the world. René Silvin\, a noted author of five books\, and retired CEO\, will describe Wright’s work using over 200 slides\, renderings\, newsreels\, and interviews\, giving the audience a feeling of living with this unusual genius. \nWEDNESDAY\, FEBRUARY 8\, 2023 | 4:00 PM \nThe Addison – 1400 S. Ocean Blvd.\, Boca Raton \nJoin us to hear what the Jewish Federation of South Palm Beach County is doing in our local Jewish community\, in Israel and around the world. \nChairs: Debbie Bernstein\, Sandi & Ed Fried and Tammy & Richard Morgenstern \nCouvert: $25 per person \nFor additional information: Felice Naide 561-852-6084 or felicen@bocafed.org. \nRSVP:\nIf you would like to attend the Gold Coast: Wine\, Cheese and Wright at The Addison\, please contact Felice Naide at 561-852-6084 or email felicen@bocafed.org.
URL:https://jewishboca.org/events/gold-coast-wine-cheese-wright/
LOCATION:The Addison\, 2 E Camino Real\, Boca Raton\, FL\, 33432\, United States
CATEGORIES:Community Events,Federation Events
ORGANIZER;CN="Felice Naide":MAILTO:felicen@bocafed.org
END:VEVENT
BEGIN:VEVENT
DTSTART;TZID=America/New_York:20230209T110000
DTEND;TZID=America/New_York:20230209T130000
DTSTAMP:20260422T235222
CREATED:20220930T223245Z
LAST-MODIFIED:20221108T194051Z
UID:10000866-1675940400-1675947600@jewishboca.org
SUMMARY:I&O Task Force Meeting 3
DESCRIPTION:
URL:https://jewishboca.org/events/io-task-force-meeting-4/
LOCATION:Levine Board Room\, Boca Raton\, FL\, 33428\, United States
CATEGORIES:Community Events
ORGANIZER;CN="Arielle Elkoby":MAILTO:ariellee@jewishboca.org
END:VEVENT
BEGIN:VEVENT
DTSTART;TZID=UTC:20230209T180000
DTEND;TZID=UTC:20230209T180000
DTSTAMP:20260422T235222
CREATED:20220923T191446Z
LAST-MODIFIED:20230118T214231Z
UID:10000239-1675965600-1675965600@jewishboca.org
SUMMARY:PAC Mitzvah Society Celebration to the Irving Eckhardt Mitzvah
DESCRIPTION:HONORING WILLIAM C. MILLER\nBill is managing partner at Miller Wealth Advisors\, LLC and has been an active member of the PAC since 2015. He has co-chaired events and was a member of the first class of PAC University in 2020. Bill was\n\ninducted into the Irving Eckhardt Mitzvah Society in 2016\, and has since worked with numerous clients to secure legacy commitments for the community. \n\nIn addition to honoring Bill\, this year’s event will also shine a light on the broader impact the gifts that have originated from the efforts of Mitzvah Society members have had on the South Palm Beach County community over the years.\n\n\nThursday\, February 9\, 2023\n\n6:00 pm \nFarmer’s Table\n\n1901 N Military Trail\, Boca Raton \nMember: $80\n\nNon-Member: $95 \nEvent Co-Chairs:\n\nMichelle Hollister and Dan Seigel \nPAC CHAIR:\n\nBryan M. Drowos\, CFP®\, CPWA® \n*Opportunities available to purchase tables for Mitzvah Society\n\n\n\n\n\n\nFor more information\, please contact Erica Gordon\, Director\, Foundation Development\, EricaG@bocafed.org or at 561.852.3114.\n\n\nPlease register below:\n\n\n 
URL:https://jewishboca.org/events/pac-mitzvah-society-celebration/
LOCATION:Farmers Table\, 1901 N Military Trail\, Boca Raton\, FL\, 33428\, United States
CATEGORIES:Community Events,Federation Events,PAC
ATTACH;FMTTYPE=image/jpeg:https://jewishboca.org/wp-content/uploads/2022/10/globe.jpg
END:VEVENT
BEGIN:VEVENT
DTSTART;TZID=America/New_York:20230209T180000
DTEND;TZID=America/New_York:20230209T200000
DTSTAMP:20260422T235222
CREATED:20221202T145756Z
LAST-MODIFIED:20221202T145756Z
UID:10001034-1675965600-1675972800@jewishboca.org
SUMMARY:ADL 2023  Florida Community Event at Boca West
DESCRIPTION:Celebration of Impact\n2022 Successes and Challenges \nKeynote Speaker: George Selim\, ADL Senior Vice President for National Affairs\nAs Senior Vice President for National Affairs\, George Selim leads all external engagement at the federal\, state\, and local levels as well as community and civic engagement efforts nationally for ADL. The scope of his work also includes national law enforcement outreach and partnerships.
URL:https://jewishboca.org/events/adl-2023-florida-community-event-at-boca-west/
LOCATION:Boca West Country Club\, 20583 Boca West Drive\, Boca Raton\, 33434\, United States
CATEGORIES:Community Events
ATTACH;FMTTYPE=image/png:https://jewishboca.org/wp-content/uploads/2022/12/Boca-West-StD-for-MC.png
ORGANIZER;CN="Zohar Casden":MAILTO:zcasden@adl.org
END:VEVENT
BEGIN:VEVENT
DTSTART;TZID=America/New_York:20230210T083000
DTEND;TZID=America/New_York:20230210T083000
DTSTAMP:20260422T235222
CREATED:20220930T223245Z
LAST-MODIFIED:20221013T221548Z
UID:10000865-1676017800-1676017800@jewishboca.org
SUMMARY:Levis JCC Executive Committee Mtg
DESCRIPTION:Levis JCC Executive Committee Mtg
URL:https://jewishboca.org/events/levis-jcc-executive-committee-mtg-6/
LOCATION:FL
CATEGORIES:Community Events
END:VEVENT
BEGIN:VEVENT
DTSTART;TZID=America/New_York:20230212T100000
DTEND;TZID=America/New_York:20230212T110000
DTSTAMP:20260422T235222
CREATED:20230130T191401Z
LAST-MODIFIED:20230130T191401Z
UID:10001094-1676196000-1676199600@jewishboca.org
SUMMARY:Tu B’shevat With PJ Library®
DESCRIPTION:In partnership with the Levis JCC Helene & Roy Schwedelson Special Needs Department Otzar Program and the Ruth & Norman Rales JFS Special Needs Department. \nSunday\, February 12 | 10-11 am \nLevi’s JCC building: 21050 95th Avenue South \nContact: tzippir@ralesjfs.org
URL:https://jewishboca.org/events/tu-bshevat-with-pj-library/
LOCATION:FL
CATEGORIES:Community Events,Federation Events,Special Needs
END:VEVENT
BEGIN:VEVENT
DTSTART;TZID=America/New_York:20230212T150000
DTEND;TZID=America/New_York:20230212T180000
DTSTAMP:20260422T235222
CREATED:20220930T223244Z
LAST-MODIFIED:20221031T164521Z
UID:10000863-1676214000-1676224800@jewishboca.org
SUMMARY:March of the Living Student Class #3
DESCRIPTION:
URL:https://jewishboca.org/events/march-of-the-living-student-class-3/
LOCATION:Clayman/Levine\, Boca Raton\, FL\, 33428\, United States
CATEGORIES:Community Events,March of the Living,Missions
ORGANIZER;CN="Michelle Budin":MAILTO:michellear@bocafed.org
END:VEVENT
BEGIN:VEVENT
DTSTART;TZID=America/New_York:20230213T140000
DTEND;TZID=America/New_York:20230213T150000
DTSTAMP:20260422T235222
CREATED:20220930T223226Z
LAST-MODIFIED:20230203T160309Z
UID:10000859-1676296800-1676300400@jewishboca.org
SUMMARY:Program Funding Council Meeting 1
DESCRIPTION:
URL:https://jewishboca.org/events/local-task-force-meeting-1/
LOCATION:FL
CATEGORIES:Community Events
END:VEVENT
BEGIN:VEVENT
DTSTART;TZID=America/New_York:20230213T180000
DTEND;TZID=America/New_York:20230213T200000
DTSTAMP:20260422T235222
CREATED:20220930T223227Z
LAST-MODIFIED:20221219T211710Z
UID:10000860-1676311200-1676318400@jewishboca.org
SUMMARY:Women's Philanthropy - Challah Cover Making
DESCRIPTION:Join us for a wonderful evening of creativity\, socializing and fun as we create beautiful hand-painted silk challah covers! \nMONDAY\, FEBRUARY 13\, 2023 | 6:00 PM \nZinman Hall – Jewish Federation of South Palm Beach County \n9901 Donna Klein Blvd.\, Boca Raton \nGuest Artist: Loren Stein \nMulti-media artist in mediums such as painting\, paper-cuts\, invitations\, centerpieces\, ritual art and more. \nCo-Chairs: Nancy Aronson and Jill Yesner \nCouvert: $65 per person includes activity\, dinner & wine \nDietary Laws Observed \nThis event is exclusively for Pomegranate and Pearl Society donors. \nA minimum gift of $360 to the 2023 UJA/Jewish Federation of South Palm Beach County Annual Campaign is required to attend. \nRSVP by February 6\, 2023 \nFor more information\, please contact Marissa Vinograd at 561.852.3163 or marissav@bocafed.org \nRSVP:\nRegistration is closed\, but walk-ins are welcome! \n  \n 
URL:https://jewishboca.org/events/womens-philanthropy-pomegranate-society-event/
LOCATION:Zinman Hall
CATEGORIES:Community Events,Federation Events,Pomegranate Society,Women's
ORGANIZER;CN="Marissa Vinograd":MAILTO:marissav@bocafed.org
END:VEVENT
BEGIN:VEVENT
DTSTART;TZID=America/New_York:20230214T083000
DTEND;TZID=America/New_York:20230214T094500
DTSTAMP:20260422T235222
CREATED:20230105T204240Z
LAST-MODIFIED:20230105T204938Z
UID:10001071-1676363400-1676367900@jewishboca.org
SUMMARY:PAC Campus Tour
DESCRIPTION:
URL:https://jewishboca.org/events/pac-campus-tour-2/
LOCATION:Jewish Federation Campus\, 9901 Donna Klein Blvd\, Boca Raton\, FL\, 33428\, United States
CATEGORIES:Community Events
ORGANIZER;CN="Erica Gordon":MAILTO:ericag@bocafed.org
END:VEVENT
BEGIN:VEVENT
DTSTART;TZID=America/New_York:20230215T080000
DTEND;TZID=America/New_York:20230215T170000
DTSTAMP:20260422T235222
CREATED:20221117T143012Z
LAST-MODIFIED:20221117T143012Z
UID:10001022-1676448000-1676480400@jewishboca.org
SUMMARY:2023 B'nai Torah Congregation Concert Series
DESCRIPTION:Music for Humanity Concert Series 2023
URL:https://jewishboca.org/events/2023-bnai-torah-congregation-concert-series/2023-02-15/
LOCATION:B’nai Torah Congregation\, 6261 SW 18th St\, Boca Raton\, F\, 33433\, United States
CATEGORIES:Community Events
ORGANIZER;CN="B'nai Torah Congregation":MAILTO:info@bnai-torah.org
END:VEVENT
BEGIN:VEVENT
DTSTART;TZID=America/New_York:20230215T103000
DTEND;TZID=America/New_York:20230215T143000
DTSTAMP:20260422T235222
CREATED:20220930T223226Z
LAST-MODIFIED:20221031T165338Z
UID:10000858-1676457000-1676471400@jewishboca.org
SUMMARY:Reflections of Hope Luncheon 2023
DESCRIPTION:Annual JFS Luncheon Fundraiser
URL:https://jewishboca.org/events/reflections-of-hope-luncheon-2023/
LOCATION:Boca West Country Club\, 20583 Boca West Drive\, Boca Raton\, 33434\, United States
CATEGORIES:Community Events
ORGANIZER;CN="Jill Waldman":MAILTO:jillw@ralesjfs.org
END:VEVENT
END:VCALENDAR