BEGIN:VCALENDAR
VERSION:2.0
PRODID:-//Jewish Boca - ECPv6.8.3//NONSGML v1.0//EN
CALSCALE:GREGORIAN
METHOD:PUBLISH
X-ORIGINAL-URL:https://jewishboca.org
X-WR-CALDESC:Events for Jewish Boca
REFRESH-INTERVAL;VALUE=DURATION:PT1H
X-Robots-Tag:noindex
X-PUBLISHED-TTL:PT1H
BEGIN:VTIMEZONE
TZID:America/New_York
BEGIN:DAYLIGHT
TZOFFSETFROM:-0500
TZOFFSETTO:-0400
TZNAME:EDT
DTSTART:20260308T070000
END:DAYLIGHT
BEGIN:STANDARD
TZOFFSETFROM:-0400
TZOFFSETTO:-0500
TZNAME:EST
DTSTART:20261101T060000
END:STANDARD
END:VTIMEZONE
BEGIN:VEVENT
DTSTART;TZID=America/New_York:20260519T170000
DTEND;TZID=America/New_York:20260519T200000
DTSTAMP:20260424T140217
CREATED:20220930T201457Z
LAST-MODIFIED:20260415T155341Z
UID:10000629-1779210000-1779220800@jewishboca.org
SUMMARY:Federation Annual Meeting
DESCRIPTION:May 19\, 2026  \nZinman Hall – 9901 Donna Klein Blvd.\, Boca Raton \nChairs: Lisa & Jeff Rosenkranz \nHosted By:  \nJill Rose | Chair of the Board \nIgor Alterman | President & CEO \nRSVP:\n\n\n                \n                        Email(Required)\n                                \n                                    Enter Email\n                                    \n                                \n                                \n                                    Confirm Email\n                                    \n                                \n                                \n                            Name(Required)\n                            \n                            \n                                                    First\n                                                    \n                                                \n                            \n                            \n                                                            Last\n                                                            \n                                                        \n                            \n                        Address(Required)    \n                    \n                         \n                                        Street Address\n                                        \n                                   \n                                        Address Line 2\n                                        \n                                    \n                                    City\n                                    \n                                 \n                                        State\n                                        AlabamaAlaskaAmerican SamoaArizonaArkansasCaliforniaColoradoConnecticutDelawareDistrict of ColumbiaFloridaGeorgiaGuamHawaiiIdahoIllinoisIndianaIowaKansasKentuckyLouisianaMaineMarylandMassachusettsMichiganMinnesotaMississippiMissouriMontanaNebraskaNevadaNew HampshireNew JerseyNew MexicoNew YorkNorth CarolinaNorth DakotaNorthern Mariana IslandsOhioOklahomaOregonPennsylvaniaPuerto RicoRhode IslandSouth CarolinaSouth DakotaTennesseeTexasUtahU.S. Virgin IslandsVermontVirginiaWashingtonWest VirginiaWisconsinWyomingArmed Forces AmericasArmed Forces EuropeArmed Forces Pacific\n                                      \n                                    ZIP Code\n                                    \n                                \n                    \n                Phone(Required)Will there be any additional guests?(Required)Select...YesNoGuest Name\n                            \n                            \n                                                    First\n                                                    \n                                                \n                            \n                            \n                                                            Last\n                                                            \n                                                        \n                            \n                        Guest Email\n                            \n                        Guest Name\n                            \n                            \n                                                    First\n                                                    \n                                                \n                            \n                            \n                                                            Last\n                                                            \n                                                        \n                            \n                        Guest Email\n                            \n                        Guest Name\n                            \n                            \n                                                    First\n                                                    \n                                                \n                            \n                            \n                                                            Last\n                                                            \n                                                        \n                            \n                        Guest Email\n                            \n                        Please indicate your seating requests:How did you hear about us?Choose...Monthly E-NewsletterE-Mail from FederationDirect mail pieceBilling statementPledge cardAdvertisementFriendFamilyFacebookTwitterAttended Federation EventCAPTCHA
URL:https://jewishboca.org/events/federation-annual-meeting/
LOCATION:Zinman Hall
CATEGORIES:Community Events,Federation Events
ORGANIZER;CN="Arielle Elkoby":MAILTO:ariellee@jewishboca.org
END:VEVENT
BEGIN:VEVENT
DTSTART;TZID=America/New_York:20260519T180000
DTEND;TZID=America/New_York:20260519T200000
DTSTAMP:20260424T140217
CREATED:20250908T151823Z
LAST-MODIFIED:20251118T190407Z
UID:10003416-1779213600-1779220800@jewishboca.org
SUMMARY:B & P Cabinet Meeting/Annual Meeting
DESCRIPTION:
URL:https://jewishboca.org/events/bp-cabinet-meeting-4-2/
LOCATION:FL
CATEGORIES:B&P,Community Events
END:VEVENT
BEGIN:VEVENT
DTSTART;TZID=America/New_York:20260519T180000
DTEND;TZID=America/New_York:20260519T210000
DTSTAMP:20260424T140217
CREATED:20250702T172544Z
LAST-MODIFIED:20260316T134456Z
UID:10003321-1779213600-1779224400@jewishboca.org
SUMMARY:Rales JFS Men's Night
DESCRIPTION:Rales JFS Men’s Night – Placeholder
URL:https://jewishboca.org/events/rales-jfs-mens-night-placeholder/
LOCATION:FL
END:VEVENT
END:VCALENDAR