BEGIN:VCALENDAR
VERSION:2.0
PRODID:-//Jewish Boca - ECPv6.8.3//NONSGML v1.0//EN
CALSCALE:GREGORIAN
METHOD:PUBLISH
X-WR-CALNAME:Jewish Boca
X-ORIGINAL-URL:https://jewishboca.org
X-WR-CALDESC:Events for Jewish Boca
REFRESH-INTERVAL;VALUE=DURATION:PT1H
X-Robots-Tag:noindex
X-PUBLISHED-TTL:PT1H
BEGIN:VTIMEZONE
TZID:America/New_York
BEGIN:DAYLIGHT
TZOFFSETFROM:-0500
TZOFFSETTO:-0400
TZNAME:EDT
DTSTART:20260308T070000
END:DAYLIGHT
BEGIN:STANDARD
TZOFFSETFROM:-0400
TZOFFSETTO:-0500
TZNAME:EST
DTSTART:20261101T060000
END:STANDARD
END:VTIMEZONE
BEGIN:VEVENT
DTSTART;TZID=America/New_York:20260424T103000
DTEND;TZID=America/New_York:20260424T140000
DTSTAMP:20260424T060012
CREATED:20250423T141656Z
LAST-MODIFIED:20250423T141656Z
UID:10002987-1777026600-1777039200@jewishboca.org
SUMMARY:Levis JCC Shine Like A Star Luncheon
DESCRIPTION:Levis JCC Shine Like A Star Luncheon
URL:https://jewishboca.org/events/levis-jcc-shine-like-a-star-luncheon-3/
LOCATION:Boca West Country Club\, 20583 Boca West Drive\, Boca Raton\, 33434\, United States
CATEGORIES:Community Events
ORGANIZER;CN="Ilana Ducorsky":MAILTO:Ilanad@levisjcc.org
END:VEVENT
BEGIN:VEVENT
DTSTART;TZID=America/New_York:20260424T180000
DTEND;TZID=America/New_York:20260424T220000
DTSTAMP:20260424T060012
CREATED:20250408T191824Z
LAST-MODIFIED:20250408T191824Z
UID:10002918-1777053600-1777068000@jewishboca.org
SUMMARY:Confirmation & Senior Graduation/Yom HaAtzmaut Blue Jeans Israel
DESCRIPTION:Shabbat Service at 6:00pm – Confirmation & Senior Graduation/Yom HaAtzmaut Blue Jeans Israel 7:30pm dinner with Artisan.
URL:https://jewishboca.org/events/confirmation-senior-graduation-yom-haatzmaut-blue-jeans-israel/
LOCATION:Temple Beth El\, Temple Beth El 333 SW 4th Ave\, Boca Raton\, FL\, 33432\, United States
CATEGORIES:Community Events
END:VEVENT
END:VCALENDAR