BEGIN:VCALENDAR
VERSION:2.0
PRODID:-//Jewish Boca - ECPv6.8.3//NONSGML v1.0//EN
CALSCALE:GREGORIAN
METHOD:PUBLISH
X-WR-CALNAME:Jewish Boca
X-ORIGINAL-URL:https://jewishboca.org
X-WR-CALDESC:Events for Jewish Boca
REFRESH-INTERVAL;VALUE=DURATION:PT1H
X-Robots-Tag:noindex
X-PUBLISHED-TTL:PT1H
BEGIN:VTIMEZONE
TZID:America/New_York
BEGIN:DAYLIGHT
TZOFFSETFROM:-0500
TZOFFSETTO:-0400
TZNAME:EDT
DTSTART:20260308T070000
END:DAYLIGHT
BEGIN:STANDARD
TZOFFSETFROM:-0400
TZOFFSETTO:-0500
TZNAME:EST
DTSTART:20261101T060000
END:STANDARD
END:VTIMEZONE
BEGIN:VEVENT
DTSTART;VALUE=DATE:20260422
DTEND;VALUE=DATE:20260423
DTSTAMP:20260422T020112
CREATED:20250519T181105Z
LAST-MODIFIED:20250519T181105Z
UID:10003126-1776816000-1776902399@jewishboca.org
SUMMARY:Yom Ha'atzmaut
DESCRIPTION:All Day
URL:https://jewishboca.org/events/yom-haatzmaut-3/
CATEGORIES:Community Events,Federation Events
END:VEVENT
BEGIN:VEVENT
DTSTART;TZID=America/New_York:20260422T100000
DTEND;TZID=America/New_York:20260422T120000
DTSTAMP:20260422T020112
CREATED:20260323T161325Z
LAST-MODIFIED:20260324T140750Z
UID:10003565-1776852000-1776859200@jewishboca.org
SUMMARY:Gold Coast/Community Campus Tour
DESCRIPTION:Wednesday\, April 22\, 2026 | 10 am \nFederation Circle \nTour will be from 10am-11:45 am \nℹ︎ Jessica Matiash at 561-852-5054 or jessicam@jewishboca.org \nRSVP:\nEvent Registration is now closed. \n 
URL:https://jewishboca.org/events/gold-coast-community-campus-tour/
LOCATION:Jewish Federation of South Palm Beach County\, 9901 Donna Klein Blvd\, Boca Raton\, FL\, 33428\, United States
CATEGORIES:Community Events,Federation Events
ORGANIZER;CN="Jessica Epstein-Matiash":MAILTO:JessicaM@jewishboca.org
END:VEVENT
BEGIN:VEVENT
DTSTART;TZID=America/New_York:20260422T160000
DTEND;TZID=America/New_York:20260422T203000
DTSTAMP:20260422T020112
CREATED:20250702T173435Z
LAST-MODIFIED:20250702T173435Z
UID:10003323-1776873600-1776889800@jewishboca.org
SUMMARY:Rales JFS Innovation Circle Parlor Event – Placeholder
DESCRIPTION:Rales JFS Innovation Circle Parlor Event – Placeholder
URL:https://jewishboca.org/events/rales-jfs-innovation-circle-parlor-event-placeholder-5/
CATEGORIES:Community Events,Jewish Family Services (JFS)
END:VEVENT
BEGIN:VEVENT
DTSTART;TZID=America/New_York:20260422T180000
DTEND;TZID=America/New_York:20260422T200000
DTSTAMP:20260422T020112
CREATED:20260211T225020Z
LAST-MODIFIED:20260311T195803Z
UID:10003548-1776880800-1776888000@jewishboca.org
SUMMARY:B&P Principal Investment Happy Hour
DESCRIPTION:April 22\, 2026 | 6-8pm \nCouvert: $150 \nIncludes a generous selection of appetizers and beverages. \nLiving Room in the Club House\nWoodfield Country Club\n3650 Club Pl\, Boca Raton FL 33496 \nRSVP:\n\n\n                1Purchase Ticket Order2Submit Order\n                        \n					Select an Amount(Required)Select...1 Person ($150)Total\n							\n						\n                    \n                    \n                          \n                    \n                \n                \n                    \n                        Your InformationFirst Name(Required)Last Name(Required)Your Email(Required)\n                                \n                                    \n                                    Enter Email\n                                \n                                \n                                    \n                                    Confirm Email\n                                \n                                \n                            Billing Address(Required)    \n                    \n                         \n                                        \n                                        Street Address\n                                    \n                                        \n                                        Address Line 2\n                                    \n                                    \n                                    City\n                                 \n                                        \n                                        State / Province / Region\n                                      \n                                    \n                                    ZIP / Postal Code\n                                \n                                        AfghanistanAlbaniaAlgeriaAmerican SamoaAndorraAngolaAnguillaAntarcticaAntigua and BarbudaArgentinaArmeniaArubaAustraliaAustriaAzerbaijanBahamasBahrainBangladeshBarbadosBelarusBelgiumBelizeBeninBermudaBhutanBoliviaBonaire\, Sint Eustatius and SabaBosnia and HerzegovinaBotswanaBouvet IslandBrazilBritish Indian Ocean TerritoryBrunei DarussalamBulgariaBurkina FasoBurundiCabo VerdeCambodiaCameroonCanadaCayman IslandsCentral African RepublicChadChileChinaChristmas IslandCocos IslandsColombiaComorosCongoCongo\, Democratic Republic of theCook IslandsCosta RicaCroatiaCubaCuraçaoCyprusCzechiaCôte d'IvoireDenmarkDjiboutiDominicaDominican RepublicEcuadorEgyptEl SalvadorEquatorial GuineaEritreaEstoniaEswatiniEthiopiaFalkland IslandsFaroe IslandsFijiFinlandFranceFrench GuianaFrench PolynesiaFrench Southern TerritoriesGabonGambiaGeorgiaGermanyGhanaGibraltarGreeceGreenlandGrenadaGuadeloupeGuamGuatemalaGuernseyGuineaGuinea-BissauGuyanaHaitiHeard Island and McDonald IslandsHoly SeeHondurasHong KongHungaryIcelandIndiaIndonesiaIranIraqIrelandIsle of ManIsraelItalyJamaicaJapanJerseyJordanKazakhstanKenyaKiribatiKorea\, Democratic People's Republic ofKorea\, Republic ofKuwaitKyrgyzstanLao People's Democratic RepublicLatviaLebanonLesothoLiberiaLibyaLiechtensteinLithuaniaLuxembourgMacaoMadagascarMalawiMalaysiaMaldivesMaliMaltaMarshall IslandsMartiniqueMauritaniaMauritiusMayotteMexicoMicronesiaMoldovaMonacoMongoliaMontenegroMontserratMoroccoMozambiqueMyanmarNamibiaNauruNepalNetherlandsNew CaledoniaNew ZealandNicaraguaNigerNigeriaNiueNorfolk IslandNorth MacedoniaNorthern Mariana IslandsNorwayOmanPakistanPalauPalestine\, State ofPanamaPapua New GuineaParaguayPeruPhilippinesPitcairnPolandPortugalPuerto RicoQatarRomaniaRussian FederationRwandaRéunionSaint BarthélemySaint Helena\, Ascension and Tristan da CunhaSaint Kitts and NevisSaint LuciaSaint MartinSaint Pierre and MiquelonSaint Vincent and the GrenadinesSamoaSan MarinoSao Tome and PrincipeSaudi ArabiaSenegalSerbiaSeychellesSierra LeoneSingaporeSint MaartenSlovakiaSloveniaSolomon IslandsSomaliaSouth AfricaSouth Georgia and the South Sandwich IslandsSouth SudanSpainSri LankaSudanSurinameSvalbard and Jan MayenSwedenSwitzerlandSyria Arab RepublicTaiwanTajikistanTanzania\, the United Republic ofThailandTimor-LesteTogoTokelauTongaTrinidad and TobagoTunisiaTurkmenistanTurks and Caicos IslandsTuvaluTürkiyeUS Minor Outlying IslandsUgandaUkraineUnited Arab EmiratesUnited KingdomUnited StatesUruguayUzbekistanVanuatuVenezuelaViet NamVirgin Islands\, BritishVirgin Islands\, U.S.Wallis and FutunaWestern SaharaYemenZambiaZimbabweÅland Islands\n                                        Country\n                                    \n                    \n                Phone(Required)By checking this box I agree to receive text messages from The Jewish Federation of South Palm Beach County.\n								\n								Yes\n							Terms & Conditions and Privacy PolicyBy registering\, I agree to the Jewish Federation of South Palm Beach County’s Terms & Conditions and Privacy Policy. To opt out\, contact digitalmarketing@jewishboca.org\n								\n								I agree\n							Did you attend the Principal Investing Kickoff Event on January 29?(Required)Select...YesNoUnlike other networking events\, the Jewish Federation of South Palm Beach County provides a professional directory after the event\, helping you stay connected and continue building your professional network. Please submit your business information below to be included.Business Name/Employer(Required)Job Title(Required)Upload your headshot(Required)Max. file size: 50 MB. Enter your short bio(Required)Enter your website(Required)Total\n							\n						Credit Card InformationCredit Card(Required)\n                                    American ExpressDiscoverMasterCardVisaSupported Credit Cards: American Express\, Discover\, MasterCard\, Visa\n                                    \n                                    Card Number\n                                 \n                                            \n                                            Expiration Date\n                                                \n                                                   \n                                                       Month\n                                                       \n                                                           Month010203040506070809101112\n                                                       \n                                                   \n                                                   \n                                                       Year\n                                                       \n                                                           Year20262027202820292030203120322033203420352036203720382039204020412042204320442045\n                                                       \n                                                   \n                                                \n                                            \n                                                \n                                                 \n                                                Security Code\n                                             \n                                        \n                                            \n                                            Cardholder Name\n                                         CAPTCHA
URL:https://jewishboca.org/events/principal-investors-event/
END:VEVENT
END:VCALENDAR