BEGIN:VCALENDAR
VERSION:2.0
PRODID:-//Jewish Boca - ECPv6.8.3//NONSGML v1.0//EN
CALSCALE:GREGORIAN
METHOD:PUBLISH
X-WR-CALNAME:Jewish Boca
X-ORIGINAL-URL:https://jewishboca.org
X-WR-CALDESC:Events for Jewish Boca
REFRESH-INTERVAL;VALUE=DURATION:PT1H
X-Robots-Tag:noindex
X-PUBLISHED-TTL:PT1H
BEGIN:VTIMEZONE
TZID:America/New_York
BEGIN:DAYLIGHT
TZOFFSETFROM:-0500
TZOFFSETTO:-0400
TZNAME:EDT
DTSTART:20260308T070000
END:DAYLIGHT
BEGIN:STANDARD
TZOFFSETFROM:-0400
TZOFFSETTO:-0500
TZNAME:EST
DTSTART:20261101T060000
END:STANDARD
END:VTIMEZONE
BEGIN:VEVENT
DTSTART;VALUE=DATE:20260413
DTEND;VALUE=DATE:20260420
DTSTAMP:20260422T093345
CREATED:20250620T134545Z
LAST-MODIFIED:20250620T134545Z
UID:10003270-1776038400-1776643199@jewishboca.org
SUMMARY:Save the Date – Cabinet Study Mission 2026
DESCRIPTION:
URL:https://jewishboca.org/events/save-the-date-cabinet-study-mission-2026/
LOCATION:Denver\, CO
CATEGORIES:Community Events,Federation Events
ORGANIZER;CN="Allison O'Mara":MAILTO:allisono@jewishboca.org
END:VEVENT
BEGIN:VEVENT
DTSTART;TZID=America/New_York:20260416T083000
DTEND;TZID=America/New_York:20260416T093000
DTSTAMP:20260422T093345
CREATED:20250516T193754Z
LAST-MODIFIED:20250516T193754Z
UID:10003091-1776328200-1776331800@jewishboca.org
SUMMARY:Levis JCC Executive Committee Meeting
DESCRIPTION:Board of Directors- Executive Committee Meeting (via Zoom)
URL:https://jewishboca.org/events/levis-jcc-executive-committee-meeting-3/
CATEGORIES:Community Events
END:VEVENT
BEGIN:VEVENT
DTSTART;TZID=America/New_York:20260416T090000
DTEND;TZID=America/New_York:20260416T110000
DTSTAMP:20260422T093345
CREATED:20250617T162953Z
LAST-MODIFIED:20250617T162953Z
UID:10003258-1776330000-1776337200@jewishboca.org
SUMMARY:Jewish Life and Learning Final Task Force Meeting
DESCRIPTION:
URL:https://jewishboca.org/events/jewish-life-and-learning-final-task-force-meeting-2/
LOCATION:Levine Board Room\, Boca Raton\, FL\, 33428\, United States
CATEGORIES:Community Events,Federation Events
ORGANIZER;CN="Arielle Elkoby":MAILTO:ariellee@jewishboca.org
END:VEVENT
BEGIN:VEVENT
DTSTART;TZID=America/New_York:20260416T100000
DTEND;TZID=America/New_York:20260416T110000
DTSTAMP:20260422T093345
CREATED:20260210T181130Z
LAST-MODIFIED:20260309T203635Z
UID:10003547-1776333600-1776337200@jewishboca.org
SUMMARY:LOJE Parlor Meeting
DESCRIPTION:Learn more about becoming a Forever Lion.  \nThursday\, April 16\, 2026 | 10:00am \nPrivate Residence\nAddress provided upon registration \nHosted by Carol Lazar \nℹ︎Kathleen Ben-Shoaff | 561-852-5031 | KathleenB@jewishboca.org \nRSVP:\nEvent Registration is now closed. \n  \n  \n 
URL:https://jewishboca.org/events/loje-parlor-meeting-2/
LOCATION:Private Location
CATEGORIES:Community Events,Federation Events,Lion of Judah
ORGANIZER;CN="Kathleen Ben-Shoaff":MAILTO:KathleenB@jewishboca.org
END:VEVENT
BEGIN:VEVENT
DTSTART;TZID=America/New_York:20260416T173000
DTEND;TZID=America/New_York:20260416T193000
DTSTAMP:20260422T093345
CREATED:20250224T202710Z
LAST-MODIFIED:20250224T202710Z
UID:10002839-1776360600-1776367800@jewishboca.org
SUMMARY:Levis JCC Eastside Pop Up Happy Hour
DESCRIPTION:A series of networking and pop-up happy hours that bring the Levis JCC magic from West Boca Raton to our neighbors across town\, while supporting the programs and services of the Levis JCC. Attendees enjoy socializing and learning about the variety of quality Levis JCC programs and services offered to our community throughout the year.
URL:https://jewishboca.org/events/levis-jcc-eastside-pop-up-happy-hour-6/
CATEGORIES:Community Events
END:VEVENT
BEGIN:VEVENT
DTSTART;TZID=America/New_York:20260416T180000
DTEND;TZID=America/New_York:20260416T203000
DTSTAMP:20260422T093345
CREATED:20250528T134141Z
LAST-MODIFIED:20250528T134141Z
UID:10003196-1776362400-1776371400@jewishboca.org
SUMMARY:LEAP Series 6
DESCRIPTION:
URL:https://jewishboca.org/events/leap-series-6/
LOCATION:Jewish Federation of South Palm Beach County – Levine Board Room\, 9901 Donna Klein Blvd.\, Boca Raton
CATEGORIES:3049,Community Events,Federation Events
ORGANIZER;CN="Allison O'Mara":MAILTO:allisono@jewishboca.org
END:VEVENT
BEGIN:VEVENT
DTSTART;TZID=America/New_York:20260416T190000
DTEND;TZID=America/New_York:20260416T210000
DTSTAMP:20260422T093345
CREATED:20260326T180725Z
LAST-MODIFIED:20260327T184416Z
UID:10003573-1776366000-1776373200@jewishboca.org
SUMMARY:Boca Grove - Together We Protect What Matters Most
DESCRIPTION:A meaningful evening offering a behind the scenes view into what it truly takes to sustain a safe\, secure\, and thriving Jewish community in Boca Raton and beyond. \nThursday\, April 16\, 2026 | 7:00-9:00pm \nAddress provided upon registration. \nGuest Speakers: \nBrandey Edelson\nVice President of Public Affairs\, Jewish Federation of South Palm Beach County \nBrandon Waller\nFormer FBI Special Agent\, Director of Community Security\, Jewish Federation of South Palm Beach County \nCo-Chairs: Chanee & Mendy Schwartz\, Carla & Jeffrey Klein\, Cyndie & Lee Birchansky MD and Shelly & Jerry Abramson \nHosted by Diane & Larry Feldman \nRegistration required \nℹ︎ Judy Bradburn at 561.852.6061 or JudithB@jewishboca.org \nRSVP:\nEvent Registration is now closed.
URL:https://jewishboca.org/events/boca-grove-together-we-protect-what-matters-most/
CATEGORIES:Community Events,Federation Events
ORGANIZER;CN="Judy Bradburn":MAILTO:judithb@jewishboca.org
END:VEVENT
END:VCALENDAR