BEGIN:VCALENDAR
VERSION:2.0
PRODID:-//Jewish Boca - ECPv6.8.3//NONSGML v1.0//EN
CALSCALE:GREGORIAN
METHOD:PUBLISH
X-WR-CALNAME:Jewish Boca
X-ORIGINAL-URL:https://jewishboca.org
X-WR-CALDESC:Events for Jewish Boca
REFRESH-INTERVAL;VALUE=DURATION:PT1H
X-Robots-Tag:noindex
X-PUBLISHED-TTL:PT1H
BEGIN:VTIMEZONE
TZID:America/New_York
BEGIN:DAYLIGHT
TZOFFSETFROM:-0500
TZOFFSETTO:-0400
TZNAME:EDT
DTSTART:20260308T070000
END:DAYLIGHT
BEGIN:STANDARD
TZOFFSETFROM:-0400
TZOFFSETTO:-0500
TZNAME:EST
DTSTART:20261101T060000
END:STANDARD
END:VTIMEZONE
BEGIN:VEVENT
DTSTART;VALUE=DATE:20260301
DTEND;VALUE=DATE:20260309
DTSTAMP:20260421T184605
CREATED:20250710T210906Z
LAST-MODIFIED:20250714T175113Z
UID:10003333-1772323200-1773014399@jewishboca.org
SUMMARY:2026 Youth Leadership Delegation Visit (tentative)
DESCRIPTION:Join our community as we once again welcome teens from our partnership city of Zichron Yaakov to our South Palm Beach County community. They will join us to learn more about the diversity of Judaism\, how Israel is perceived outside of the country\, and how Jews in America live. We look forward to welcoming them for this annual Partnership2Gether experience! \nPartnership2Gether is a joint program between the Jewish Federation of South Palm Beach County and the Jewish Agency for Israel.
URL:https://jewishboca.org/events/2026-youth-leadership-delegation-visit-tentative/
CATEGORIES:Community Events,Federation Events
ORGANIZER;CN="Alysha Goldstein Erez":MAILTO:Alyshae@bocafed.org
END:VEVENT
BEGIN:VEVENT
DTSTART;TZID=America/New_York:20260308T180000
DTEND;TZID=America/New_York:20260308T220000
DTSTAMP:20260421T184605
CREATED:20250401T144132Z
LAST-MODIFIED:20250505T194845Z
UID:10002901-1772992800-1773007200@jewishboca.org
SUMMARY:JARC Gala
DESCRIPTION:tbd
URL:https://jewishboca.org/events/jarc-gala-option-1/
CATEGORIES:Community Events
END:VEVENT
END:VCALENDAR