BEGIN:VCALENDAR
VERSION:2.0
PRODID:-//Jewish Boca - ECPv6.8.3//NONSGML v1.0//EN
CALSCALE:GREGORIAN
METHOD:PUBLISH
X-WR-CALNAME:Jewish Boca
X-ORIGINAL-URL:https://jewishboca.org
X-WR-CALDESC:Events for Jewish Boca
REFRESH-INTERVAL;VALUE=DURATION:PT1H
X-Robots-Tag:noindex
X-PUBLISHED-TTL:PT1H
BEGIN:VTIMEZONE
TZID:America/New_York
BEGIN:DAYLIGHT
TZOFFSETFROM:-0500
TZOFFSETTO:-0400
TZNAME:EDT
DTSTART:20250309T070000
END:DAYLIGHT
BEGIN:STANDARD
TZOFFSETFROM:-0400
TZOFFSETTO:-0500
TZNAME:EST
DTSTART:20251102T060000
END:STANDARD
END:VTIMEZONE
BEGIN:VEVENT
DTSTART;TZID=America/New_York:20251206T193000
DTEND;TZID=America/New_York:20251206T230000
DTSTAMP:20260422T052647
CREATED:20251112T202017Z
LAST-MODIFIED:20251112T202017Z
UID:10003485-1765049400-1765062000@jewishboca.org
SUMMARY:Shmooze and Support: Game Night Benefiting Sharsheret
DESCRIPTION:The Jewish Heritage Club is proud to present a special Game Night in support of Sharsheret. \nJoin friends and neighbors for an evening filled with camaraderie\, inspiration\, and purpose. Enjoy a variety of games – Canasta\, Poker\, Mah Jongg\, and more – along with delicious desserts. The evening will also feature uplifting personal stories and a presentation from Sharsheret. \nCome together to play\, connect\, and support a mission that impacts countless lives. \nRegister Here \nFor more information\, contact Randee Handler at 917 459 4101 or Linda Gruenbaum at 201 741 6860.
URL:https://jewishboca.org/events/shmooze-and-support-game-night-benefiting-sharsheret/
CATEGORIES:Community Events
ATTACH;FMTTYPE=image/png:https://jewishboca.org/wp-content/uploads/2025/11/Marketing-for-Sharsheret-Game-Night-Dec-6-2025.png
END:VEVENT
END:VCALENDAR