BEGIN:VCALENDAR
VERSION:2.0
PRODID:-//Jewish Boca - ECPv6.8.3//NONSGML v1.0//EN
CALSCALE:GREGORIAN
METHOD:PUBLISH
X-WR-CALNAME:Jewish Boca
X-ORIGINAL-URL:https://jewishboca.org
X-WR-CALDESC:Events for Jewish Boca
REFRESH-INTERVAL;VALUE=DURATION:PT1H
X-Robots-Tag:noindex
X-PUBLISHED-TTL:PT1H
BEGIN:VTIMEZONE
TZID:America/New_York
BEGIN:DAYLIGHT
TZOFFSETFROM:-0500
TZOFFSETTO:-0400
TZNAME:EDT
DTSTART:20250309T070000
END:DAYLIGHT
BEGIN:STANDARD
TZOFFSETFROM:-0400
TZOFFSETTO:-0500
TZNAME:EST
DTSTART:20251102T060000
END:STANDARD
END:VTIMEZONE
BEGIN:VEVENT
DTSTART;VALUE=DATE:20251202
DTEND;VALUE=DATE:20251203
DTSTAMP:20260422T065637
CREATED:20250117T181817Z
LAST-MODIFIED:20250117T181817Z
UID:10002796-1764633600-1764719999@jewishboca.org
SUMMARY:Giving Tuesday
DESCRIPTION:
URL:https://jewishboca.org/events/giving-tuesday-3/
CATEGORIES:Community Events,Federation Events
END:VEVENT
BEGIN:VEVENT
DTSTART;TZID=America/New_York:20251202T080000
DTEND;TZID=America/New_York:20251202T170000
DTSTAMP:20260422T065637
CREATED:20250826T133656Z
LAST-MODIFIED:20250826T133656Z
UID:10003402-1764662400-1764694800@jewishboca.org
SUMMARY:JFS Executive Committee Meeting
DESCRIPTION:JFS Executive Committee Meeting
URL:https://jewishboca.org/events/jfs-executive-committee-meeting-10/
LOCATION:Cooperman Center Classroom
CATEGORIES:Community Events,Jewish Family Services (JFS)
END:VEVENT
BEGIN:VEVENT
DTSTART;TZID=America/New_York:20251202T120000
DTEND;TZID=America/New_York:20251202T140000
DTSTAMP:20260422T065637
CREATED:20250401T133025Z
LAST-MODIFIED:20250407T160149Z
UID:10002899-1764676800-1764684000@jewishboca.org
SUMMARY:An Afternoon with Magen David Adom at Woodfield Country Club
DESCRIPTION:Join us for an inspiring and informative event as we come together to learn more about Magen David Adom\, Israel’s National Emergency Medical Services and its lifesaving work. This special gathering features a dynamic guest speaker who will provide a thought provoking look at peace\, politics\, and how they intersect with MDA’s mission. \nLearn how MDA serves as a beacon of hope and humanitarian aid in times of crisis and gain a deeper understanding of its vital role in emergency response. Whether you are new to MDA or a longtime supporter\, this is a unique opportunity to connect with your community\, ask questions and explore ways to make a difference.
URL:https://jewishboca.org/events/an-afternoon-with-magen-david-adom-at-woodfield-country-club/
LOCATION:Woodfield Country Club\, 3650 Club Pl\, Boca Raton\, FL\, 33496\, United States
CATEGORIES:Community Events,Country Clubs
ATTACH;FMTTYPE=image/jpeg:https://jewishboca.org/wp-content/uploads/2025/03/AFMDA_logo-2024-1.jpg
ORGANIZER;CN="American Friends of Magen David Adom":MAILTO:lviselman@afmda.org
END:VEVENT
BEGIN:VEVENT
DTSTART;TZID=America/New_York:20251202T130000
DTEND;TZID=America/New_York:20251202T150000
DTSTAMP:20260422T065637
CREATED:20251202T150713Z
LAST-MODIFIED:20251202T150713Z
UID:10003498-1764680400-1764687600@jewishboca.org
SUMMARY:Women For Israel "All In For Israel" Annual Card Party
DESCRIPTION:Women for Israel (WFI) is a powerful community of philanthropic women committed to strengthening the land and people of Israel through meaningful action\, education\, and engagement. As one of Jewish National Fund-USA’s fastest-growing divisions\, WFI brings together women who lead with purpose\, passion\, and generosity—advancing critical initiatives from community resilience centers and therapeutic services to environmental restoration\, culinary innovation\, and support for families living on Israel’s frontlines. \nThrough events like our Annual Card Party\, WFI members create connection\, joy\, and impact—while playing a direct role in building a vibrant\, secure\, and thriving future for Israel.
URL:https://jewishboca.org/events/women-for-israel-all-in-for-israel-annual-card-party/
LOCATION:Bnai Torah\, 6261 SW 18th St\, Boca Raton\, FL\, 33433\, United States
CATEGORIES:Community Events
END:VEVENT
BEGIN:VEVENT
DTSTART;TZID=America/New_York:20251202T180000
DTEND;TZID=America/New_York:20251202T190000
DTSTAMP:20260422T065637
CREATED:20250429T162307Z
LAST-MODIFIED:20250429T162307Z
UID:10002999-1764698400-1764702000@jewishboca.org
SUMMARY:JFS Board of Directors Meeting
DESCRIPTION:Board of Directors Meeting
URL:https://jewishboca.org/events/jfs-board-of-directors-meeting-7/
LOCATION:Cooperman Center Classroom
CATEGORIES:Community Events,Jewish Family Services (JFS)
ORGANIZER;CN="Bonnie Goldberg":MAILTO:bonniego@ralesjfs.org
END:VEVENT
END:VCALENDAR