BEGIN:VCALENDAR
VERSION:2.0
PRODID:-//Jewish Boca - ECPv6.8.3//NONSGML v1.0//EN
CALSCALE:GREGORIAN
METHOD:PUBLISH
X-ORIGINAL-URL:https://jewishboca.org
X-WR-CALDESC:Events for Jewish Boca
REFRESH-INTERVAL;VALUE=DURATION:PT1H
X-Robots-Tag:noindex
X-PUBLISHED-TTL:PT1H
BEGIN:VTIMEZONE
TZID:America/New_York
BEGIN:DAYLIGHT
TZOFFSETFROM:-0500
TZOFFSETTO:-0400
TZNAME:EDT
DTSTART:20250309T070000
END:DAYLIGHT
BEGIN:STANDARD
TZOFFSETFROM:-0400
TZOFFSETTO:-0500
TZNAME:EST
DTSTART:20251102T060000
END:STANDARD
END:VTIMEZONE
BEGIN:VEVENT
DTSTART;TZID=America/New_York:20250409T093000
DTEND;TZID=America/New_York:20250409T113000
DTSTAMP:20260425T154807
CREATED:20240418T164441Z
LAST-MODIFIED:20240603T180838Z
UID:10002248-1744191000-1744198200@jewishboca.org
SUMMARY:Women's Philanthropy Chapter Two Closing Session
DESCRIPTION:
URL:https://jewishboca.org/events/womens-philanthropy-board-installation-2/
LOCATION:FL
CATEGORIES:Community Events,Federation Events,Women's
ORGANIZER;CN="Marissa Vinograd":MAILTO:marissav@bocafed.org
END:VEVENT
BEGIN:VEVENT
DTSTART;TZID=America/New_York:20250409T190000
DTEND;TZID=America/New_York:20250409T220000
DTSTAMP:20260425T154807
CREATED:20240419T162931Z
LAST-MODIFIED:20250228T201112Z
UID:10002279-1744225200-1744236000@jewishboca.org
SUMMARY:3049ish Set the Night to Music
DESCRIPTION:Celebrate a wonderful season of engagement and philanthropy with friends. Experience a memorable performance of “90s Unplugged” by Fever’s Candlelight Ochestra. \nWednesday\, April 9\, 2025 | 7 – 10pm \nThe Studio at Mizner Park \n201 West Plaza Real\, Boca Raton \nSuggested Attire: Cocktail Chic \nCouvert: $85 | Cocktails\, Dinner & Concert \nDietary laws observed. \n \nRSVP by Wednesday\, April 2\, 2025 \n3049ish Division Chair: Alexis Krudo \nEvent Chairs: The 3049ish Committee \nA $360 Couple/ $180 Individual minimum gift to the 2025 Jewish Federation of South Palm Beach County Annual Campaign is required to attend. \nFor more information\, contact Allison O’Mara at AllisonO@bocafed.org or 561.852.3183. \n \nThe IRS requires to inform you that the cost of your couvert is not tax-deductible. A COPY OF THE OFFICIAL REGISTRATION SC-02157 AND FINANCIAL INFORMATION MAY BE OBTAINED FROM THE DIVISION OF CONSUMER SERVICES BY CALLING TOLL FREE 1-800-HELP-FLA (436-7352) WITHIN THE STATE OF FLORIDA OR 850-410-3800 OUTSIDE OF THE STATE OF FLORIDA. REGISTRATION DOES NOT IMPLY ENDORSEMENT\, OR RECOMMENDATION BY THE STATE.\nRSVP:\nEvent Registration is now closed.
URL:https://jewishboca.org/events/3049-signature-event-3/
LOCATION:The Studio at Mizner Park\, 201 Plaza Real\, Boca Raton\, FL\, 33432\, United States
CATEGORIES:3049,Community Events,Federation Events
ORGANIZER;CN="Allison O'Mara":MAILTO:allisono@jewishboca.org
END:VEVENT
END:VCALENDAR